BEGIN:VCALENDAR
VERSION:2.0
PRODID:-//Marion County Senior Center - ECPv6.15.17.1//NONSGML v1.0//EN
CALSCALE:GREGORIAN
METHOD:PUBLISH
X-ORIGINAL-URL:https://marionseniors.org
X-WR-CALDESC:Events for Marion County Senior Center
REFRESH-INTERVAL;VALUE=DURATION:PT1H
X-Robots-Tag:noindex
X-PUBLISHED-TTL:PT1H
BEGIN:VTIMEZONE
TZID:America/New_York
BEGIN:DAYLIGHT
TZOFFSETFROM:-0500
TZOFFSETTO:-0400
TZNAME:EDT
DTSTART:20240310T070000
END:DAYLIGHT
BEGIN:STANDARD
TZOFFSETFROM:-0400
TZOFFSETTO:-0500
TZNAME:EST
DTSTART:20241103T060000
END:STANDARD
BEGIN:DAYLIGHT
TZOFFSETFROM:-0500
TZOFFSETTO:-0400
TZNAME:EDT
DTSTART:20250309T070000
END:DAYLIGHT
BEGIN:STANDARD
TZOFFSETFROM:-0400
TZOFFSETTO:-0500
TZNAME:EST
DTSTART:20251102T060000
END:STANDARD
BEGIN:DAYLIGHT
TZOFFSETFROM:-0500
TZOFFSETTO:-0400
TZNAME:EDT
DTSTART:20260308T070000
END:DAYLIGHT
BEGIN:STANDARD
TZOFFSETFROM:-0400
TZOFFSETTO:-0500
TZNAME:EST
DTSTART:20261101T060000
END:STANDARD
END:VTIMEZONE
BEGIN:VEVENT
DTSTART;TZID=America/New_York:20251117T110000
DTEND;TZID=America/New_York:20251117T115000
DTSTAMP:20260424T185715
CREATED:20251010T135256Z
LAST-MODIFIED:20251010T135256Z
UID:10000221-1763377200-1763380200@marionseniors.org
SUMMARY:Bingo at the North Marion Center
DESCRIPTION:Join us for bingo before lunch on Mondays and Thursdays.
URL:https://marionseniors.org/event/bingo-at-the-north-marion-center-18/
LOCATION:North Marion Senior Center\, 1 Senior Drive\, Mannington\, WV\, 26582\, United States
CATEGORIES:North Marion
ORGANIZER;CN="Marion Senior Citizens":MAILTO:executivedirector@marionseniors.org
END:VEVENT
BEGIN:VEVENT
DTSTART;TZID=America/New_York:20251117T123000
DTEND;TZID=America/New_York:20251117T131500
DTSTAMP:20260424T185715
CREATED:20251007T192954Z
LAST-MODIFIED:20251007T192954Z
UID:10000205-1763382600-1763385300@marionseniors.org
SUMMARY:Protect Yourself From Scams
DESCRIPTION:We’re excited to welcome Leann Pritt\, a representative from the National White Collar Crime Center (NW3C)\, for an important presentation on protecting yourself and your loved ones from scams and fraud. 💻💳 \nLearn how to recognize common scams targeting seniors\, how to safeguard your personal information\, and what to do if you think you’ve been targeted. Knowledge is the best defense!
URL:https://marionseniors.org/event/protect-yourself-from-scams/
LOCATION:Fairmont Senior Center\, 105 Maplewood Drive\, Fairmont\, WV\, 26554\, United States
CATEGORIES:Fairmont
ORGANIZER;CN="Marion Senior Citizens":MAILTO:executivedirector@marionseniors.org
END:VEVENT
BEGIN:VEVENT
DTSTART;TZID=America/New_York:20251117T123000
DTEND;TZID=America/New_York:20251117T131500
DTSTAMP:20260424T185715
CREATED:20251015T155534Z
LAST-MODIFIED:20251015T155534Z
UID:10000228-1763382600-1763385300@marionseniors.org
SUMMARY:🍪 Cookie Decorating Class at Fairview Senior Center
DESCRIPTION:Get ready to add some sweetness to your day! Join Robin Breedlove\, the creative force behind Choclicherry Confections\, for a delightful cookie decorating class at the Fairview Senior Center. Whether you’re a beginner or a seasoned baker\, Robin will guide you through fun and easy techniques to turn plain cookies into edible works of art. \n🎨 Learn piping\, flooding\, and embellishing skills 🍭 All supplies provided—just bring your creativity! 👩‍🍳 Enjoy a relaxed\, hands-on experience with expert tips \nCome for the cookies\, stay for the fun—and leave with treats you’ll be proud to share (or keep for yourself!).
URL:https://marionseniors.org/event/%f0%9f%8d%aa-cookie-decorating-class-at-fairview-senior-center/
LOCATION:Fairview Senior Center\, 404 Main Street\, Fairview\, West Virginia\, 26570\, United States
CATEGORIES:Fairview
ORGANIZER;CN="Marion Senior Citizens":MAILTO:executivedirector@marionseniors.org
END:VEVENT
END:VCALENDAR