BEGIN:VCALENDAR
VERSION:2.0
PRODID:-//Marion County Senior Center - ECPv6.15.17.1//NONSGML v1.0//EN
CALSCALE:GREGORIAN
METHOD:PUBLISH
X-WR-CALNAME:Marion County Senior Center
X-ORIGINAL-URL:https://marionseniors.org
X-WR-CALDESC:Events for Marion County Senior Center
REFRESH-INTERVAL;VALUE=DURATION:PT1H
X-Robots-Tag:noindex
X-PUBLISHED-TTL:PT1H
BEGIN:VTIMEZONE
TZID:America/New_York
BEGIN:DAYLIGHT
TZOFFSETFROM:-0500
TZOFFSETTO:-0400
TZNAME:EDT
DTSTART:20240310T070000
END:DAYLIGHT
BEGIN:STANDARD
TZOFFSETFROM:-0400
TZOFFSETTO:-0500
TZNAME:EST
DTSTART:20241103T060000
END:STANDARD
BEGIN:DAYLIGHT
TZOFFSETFROM:-0500
TZOFFSETTO:-0400
TZNAME:EDT
DTSTART:20250309T070000
END:DAYLIGHT
BEGIN:STANDARD
TZOFFSETFROM:-0400
TZOFFSETTO:-0500
TZNAME:EST
DTSTART:20251102T060000
END:STANDARD
BEGIN:DAYLIGHT
TZOFFSETFROM:-0500
TZOFFSETTO:-0400
TZNAME:EDT
DTSTART:20260308T070000
END:DAYLIGHT
BEGIN:STANDARD
TZOFFSETFROM:-0400
TZOFFSETTO:-0500
TZNAME:EST
DTSTART:20261101T060000
END:STANDARD
END:VTIMEZONE
BEGIN:VEVENT
DTSTART;TZID=America/New_York:20251120T093000
DTEND;TZID=America/New_York:20251120T113000
DTSTAMP:20260424T171714
CREATED:20251007T190224Z
LAST-MODIFIED:20251007T190224Z
UID:10000200-1763631000-1763638200@marionseniors.org
SUMMARY:Line Dancing
DESCRIPTION:Join us every Thursday for line dancing. \nBeginner Class starts at 9:30 am\nAdvanced Class starts at 10:30 am
URL:https://marionseniors.org/event/line-dancing-3/
LOCATION:Fairmont Senior Center\, 105 Maplewood Drive\, Fairmont\, WV\, 26554\, United States
CATEGORIES:Fairmont
ORGANIZER;CN="Marion Senior Citizens":MAILTO:executivedirector@marionseniors.org
END:VEVENT
BEGIN:VEVENT
DTSTART;TZID=America/New_York:20251120T110000
DTEND;TZID=America/New_York:20251120T115000
DTSTAMP:20260424T171714
CREATED:20251010T135339Z
LAST-MODIFIED:20251010T135339Z
UID:10000222-1763636400-1763639400@marionseniors.org
SUMMARY:Bingo at the North Marion Center
DESCRIPTION:Join us for bingo before lunch on Mondays and Thursdays.
URL:https://marionseniors.org/event/bingo-at-the-north-marion-center-19/
LOCATION:North Marion Senior Center\, 1 Senior Drive\, Mannington\, WV\, 26582\, United States
CATEGORIES:North Marion
ORGANIZER;CN="Marion Senior Citizens":MAILTO:executivedirector@marionseniors.org
END:VEVENT
BEGIN:VEVENT
DTSTART;TZID=America/New_York:20251120T123000
DTEND;TZID=America/New_York:20251120T124500
DTSTAMP:20260424T171714
CREATED:20251010T132605Z
LAST-MODIFIED:20251010T132605Z
UID:10000214-1763641800-1763642700@marionseniors.org
SUMMARY:Birthday Party! 🎂
DESCRIPTION:Join us for a sweet treat after lunch as we celebrate November birthdays.
URL:https://marionseniors.org/event/birthday-party-%f0%9f%8e%82/
LOCATION:North Marion Senior Center\, 1 Senior Drive\, Mannington\, WV\, 26582\, United States
CATEGORIES:North Marion
ORGANIZER;CN="Marion Senior Citizens":MAILTO:executivedirector@marionseniors.org
END:VEVENT
BEGIN:VEVENT
DTSTART;TZID=America/New_York:20251120T123000
DTEND;TZID=America/New_York:20251120T131500
DTSTAMP:20260424T171714
CREATED:20251007T194347Z
LAST-MODIFIED:20251007T194347Z
UID:10000212-1763641800-1763644500@marionseniors.org
SUMMARY:Protect Yourself From Scams
DESCRIPTION:We’re excited to welcome Leann Pritt\, a representative from the National White Collar Crime Center (NW3C)\, for an important presentation on protecting yourself and your loved ones from scams and fraud.  \nLearn how to recognize common scams targeting seniors\, how to safeguard your personal information\, and what to do if you think you’ve been targeted. Knowledge is the best defense!
URL:https://marionseniors.org/event/protect-yourself-from-scams-2/
LOCATION:Fairview Senior Center\, 404 Main Street\, Fairview\, West Virginia\, 26570\, United States
CATEGORIES:Fairview
ORGANIZER;CN="Marion Senior Citizens":MAILTO:executivedirector@marionseniors.org
END:VEVENT
BEGIN:VEVENT
DTSTART;TZID=America/New_York:20251120T123000
DTEND;TZID=America/New_York:20251120T131500
DTSTAMP:20260424T171714
CREATED:20251010T133030Z
LAST-MODIFIED:20251010T133030Z
UID:10000215-1763641800-1763644500@marionseniors.org
SUMMARY:Health Assessment with Encompass Health 🩺
DESCRIPTION:Kristie from Encompass Health will be at the center for Q&A and will do blood pressure and health screenings.
URL:https://marionseniors.org/event/health-assessment-with-encompass-health-%f0%9f%a9%ba/
LOCATION:North Marion Senior Center\, 1 Senior Drive\, Mannington\, WV\, 26582\, United States
CATEGORIES:North Marion
ORGANIZER;CN="Marion Senior Citizens":MAILTO:executivedirector@marionseniors.org
END:VEVENT
END:VCALENDAR