BEGIN:VCALENDAR
VERSION:2.0
PRODID:-//Marion County Senior Center - ECPv6.15.17.1//NONSGML v1.0//EN
CALSCALE:GREGORIAN
METHOD:PUBLISH
X-WR-CALNAME:Marion County Senior Center
X-ORIGINAL-URL:https://marionseniors.org
X-WR-CALDESC:Events for Marion County Senior Center
REFRESH-INTERVAL;VALUE=DURATION:PT1H
X-Robots-Tag:noindex
X-PUBLISHED-TTL:PT1H
BEGIN:VTIMEZONE
TZID:America/New_York
BEGIN:DAYLIGHT
TZOFFSETFROM:-0500
TZOFFSETTO:-0400
TZNAME:EDT
DTSTART:20260308T070000
END:DAYLIGHT
BEGIN:STANDARD
TZOFFSETFROM:-0400
TZOFFSETTO:-0500
TZNAME:EST
DTSTART:20261101T060000
END:STANDARD
BEGIN:DAYLIGHT
TZOFFSETFROM:-0500
TZOFFSETTO:-0400
TZNAME:EDT
DTSTART:20270314T070000
END:DAYLIGHT
BEGIN:STANDARD
TZOFFSETFROM:-0400
TZOFFSETTO:-0500
TZNAME:EST
DTSTART:20271107T060000
END:STANDARD
BEGIN:DAYLIGHT
TZOFFSETFROM:-0500
TZOFFSETTO:-0400
TZNAME:EDT
DTSTART:20280312T070000
END:DAYLIGHT
BEGIN:STANDARD
TZOFFSETFROM:-0400
TZOFFSETTO:-0500
TZNAME:EST
DTSTART:20281105T060000
END:STANDARD
END:VTIMEZONE
BEGIN:VEVENT
DTSTART;TZID=America/New_York:20270309T110000
DTEND;TZID=America/New_York:20270309T115000
DTSTAMP:20260421T102004
CREATED:20260123T162718Z
LAST-MODIFIED:20260123T162718Z
UID:10000630-1804590000-1804593000@marionseniors.org
SUMMARY:BIBLE STUDY
DESCRIPTION:Pastor Lauren Murdoch will lead a weekly Bible study at the Fairmont Senior Center every Tuesday at 11:00 a.m. \nAn ordained minister and chaplain in the Assemblies of God\, Pastor Lauren will guide participants through an engaging\, interactive study of selected passages and seasonal topics. The Bible study is open to everyone\, regardless of religious background\, and all materials will be provided.
URL:https://marionseniors.org/event/bible-study-15/2027-03-09/
LOCATION:Fairmont Senior Center\, 105 Maplewood Drive\, Fairmont\, WV\, 26554\, United States
CATEGORIES:Fairmont
ORGANIZER;CN="Marion Senior Citizens":MAILTO:executivedirector@marionseniors.org
END:VEVENT
BEGIN:VEVENT
DTSTART;TZID=America/New_York:20270310T110000
DTEND;TZID=America/New_York:20270310T115000
DTSTAMP:20260421T102005
CREATED:20260123T161859Z
LAST-MODIFIED:20260123T161859Z
UID:10000370-1804676400-1804679400@marionseniors.org
SUMMARY:BINGO
DESCRIPTION:Join us every Wednesday for bingo at the Fairmont Senior Center
URL:https://marionseniors.org/event/bingo-33/2027-03-10/
LOCATION:Fairmont Senior Center\, 105 Maplewood Drive\, Fairmont\, WV\, 26554\, United States
CATEGORIES:Fairmont
ORGANIZER;CN="Marion Senior Citizens":MAILTO:executivedirector@marionseniors.org
END:VEVENT
BEGIN:VEVENT
DTSTART;TZID=America/New_York:20270316T110000
DTEND;TZID=America/New_York:20270316T115000
DTSTAMP:20260421T102005
CREATED:20260123T162718Z
LAST-MODIFIED:20260123T162718Z
UID:10000631-1805194800-1805197800@marionseniors.org
SUMMARY:BIBLE STUDY
DESCRIPTION:Pastor Lauren Murdoch will lead a weekly Bible study at the Fairmont Senior Center every Tuesday at 11:00 a.m. \nAn ordained minister and chaplain in the Assemblies of God\, Pastor Lauren will guide participants through an engaging\, interactive study of selected passages and seasonal topics. The Bible study is open to everyone\, regardless of religious background\, and all materials will be provided.
URL:https://marionseniors.org/event/bible-study-15/2027-03-16/
LOCATION:Fairmont Senior Center\, 105 Maplewood Drive\, Fairmont\, WV\, 26554\, United States
CATEGORIES:Fairmont
ORGANIZER;CN="Marion Senior Citizens":MAILTO:executivedirector@marionseniors.org
END:VEVENT
BEGIN:VEVENT
DTSTART;TZID=America/New_York:20270317T110000
DTEND;TZID=America/New_York:20270317T115000
DTSTAMP:20260421T102005
CREATED:20260123T161859Z
LAST-MODIFIED:20260123T161859Z
UID:10000371-1805281200-1805284200@marionseniors.org
SUMMARY:BINGO
DESCRIPTION:Join us every Wednesday for bingo at the Fairmont Senior Center
URL:https://marionseniors.org/event/bingo-33/2027-03-17/
LOCATION:Fairmont Senior Center\, 105 Maplewood Drive\, Fairmont\, WV\, 26554\, United States
CATEGORIES:Fairmont
ORGANIZER;CN="Marion Senior Citizens":MAILTO:executivedirector@marionseniors.org
END:VEVENT
BEGIN:VEVENT
DTSTART;TZID=America/New_York:20270323T110000
DTEND;TZID=America/New_York:20270323T115000
DTSTAMP:20260421T102005
CREATED:20260123T162718Z
LAST-MODIFIED:20260123T162718Z
UID:10000632-1805799600-1805802600@marionseniors.org
SUMMARY:BIBLE STUDY
DESCRIPTION:Pastor Lauren Murdoch will lead a weekly Bible study at the Fairmont Senior Center every Tuesday at 11:00 a.m. \nAn ordained minister and chaplain in the Assemblies of God\, Pastor Lauren will guide participants through an engaging\, interactive study of selected passages and seasonal topics. The Bible study is open to everyone\, regardless of religious background\, and all materials will be provided.
URL:https://marionseniors.org/event/bible-study-15/2027-03-23/
LOCATION:Fairmont Senior Center\, 105 Maplewood Drive\, Fairmont\, WV\, 26554\, United States
CATEGORIES:Fairmont
ORGANIZER;CN="Marion Senior Citizens":MAILTO:executivedirector@marionseniors.org
END:VEVENT
BEGIN:VEVENT
DTSTART;TZID=America/New_York:20270324T110000
DTEND;TZID=America/New_York:20270324T115000
DTSTAMP:20260421T102005
CREATED:20260123T161859Z
LAST-MODIFIED:20260123T161859Z
UID:10000372-1805886000-1805889000@marionseniors.org
SUMMARY:BINGO
DESCRIPTION:Join us every Wednesday for bingo at the Fairmont Senior Center
URL:https://marionseniors.org/event/bingo-33/2027-03-24/
LOCATION:Fairmont Senior Center\, 105 Maplewood Drive\, Fairmont\, WV\, 26554\, United States
CATEGORIES:Fairmont
ORGANIZER;CN="Marion Senior Citizens":MAILTO:executivedirector@marionseniors.org
END:VEVENT
BEGIN:VEVENT
DTSTART;TZID=America/New_York:20270330T110000
DTEND;TZID=America/New_York:20270330T115000
DTSTAMP:20260421T102005
CREATED:20260123T162718Z
LAST-MODIFIED:20260123T162718Z
UID:10000633-1806404400-1806407400@marionseniors.org
SUMMARY:BIBLE STUDY
DESCRIPTION:Pastor Lauren Murdoch will lead a weekly Bible study at the Fairmont Senior Center every Tuesday at 11:00 a.m. \nAn ordained minister and chaplain in the Assemblies of God\, Pastor Lauren will guide participants through an engaging\, interactive study of selected passages and seasonal topics. The Bible study is open to everyone\, regardless of religious background\, and all materials will be provided.
URL:https://marionseniors.org/event/bible-study-15/2027-03-30/
LOCATION:Fairmont Senior Center\, 105 Maplewood Drive\, Fairmont\, WV\, 26554\, United States
CATEGORIES:Fairmont
ORGANIZER;CN="Marion Senior Citizens":MAILTO:executivedirector@marionseniors.org
END:VEVENT
BEGIN:VEVENT
DTSTART;TZID=America/New_York:20270331T110000
DTEND;TZID=America/New_York:20270331T115000
DTSTAMP:20260421T102005
CREATED:20260123T161859Z
LAST-MODIFIED:20260123T161859Z
UID:10000373-1806490800-1806493800@marionseniors.org
SUMMARY:BINGO
DESCRIPTION:Join us every Wednesday for bingo at the Fairmont Senior Center
URL:https://marionseniors.org/event/bingo-33/2027-03-31/
LOCATION:Fairmont Senior Center\, 105 Maplewood Drive\, Fairmont\, WV\, 26554\, United States
CATEGORIES:Fairmont
ORGANIZER;CN="Marion Senior Citizens":MAILTO:executivedirector@marionseniors.org
END:VEVENT
BEGIN:VEVENT
DTSTART;TZID=America/New_York:20270406T110000
DTEND;TZID=America/New_York:20270406T115000
DTSTAMP:20260421T102005
CREATED:20260123T162718Z
LAST-MODIFIED:20260123T162718Z
UID:10000634-1807009200-1807012200@marionseniors.org
SUMMARY:BIBLE STUDY
DESCRIPTION:Pastor Lauren Murdoch will lead a weekly Bible study at the Fairmont Senior Center every Tuesday at 11:00 a.m. \nAn ordained minister and chaplain in the Assemblies of God\, Pastor Lauren will guide participants through an engaging\, interactive study of selected passages and seasonal topics. The Bible study is open to everyone\, regardless of religious background\, and all materials will be provided.
URL:https://marionseniors.org/event/bible-study-15/2027-04-06/
LOCATION:Fairmont Senior Center\, 105 Maplewood Drive\, Fairmont\, WV\, 26554\, United States
CATEGORIES:Fairmont
ORGANIZER;CN="Marion Senior Citizens":MAILTO:executivedirector@marionseniors.org
END:VEVENT
BEGIN:VEVENT
DTSTART;TZID=America/New_York:20270407T110000
DTEND;TZID=America/New_York:20270407T115000
DTSTAMP:20260421T102005
CREATED:20260123T161859Z
LAST-MODIFIED:20260123T161859Z
UID:10000374-1807095600-1807098600@marionseniors.org
SUMMARY:BINGO
DESCRIPTION:Join us every Wednesday for bingo at the Fairmont Senior Center
URL:https://marionseniors.org/event/bingo-33/2027-04-07/
LOCATION:Fairmont Senior Center\, 105 Maplewood Drive\, Fairmont\, WV\, 26554\, United States
CATEGORIES:Fairmont
ORGANIZER;CN="Marion Senior Citizens":MAILTO:executivedirector@marionseniors.org
END:VEVENT
BEGIN:VEVENT
DTSTART;TZID=America/New_York:20270413T110000
DTEND;TZID=America/New_York:20270413T115000
DTSTAMP:20260421T102005
CREATED:20260123T162718Z
LAST-MODIFIED:20260123T162718Z
UID:10000635-1807614000-1807617000@marionseniors.org
SUMMARY:BIBLE STUDY
DESCRIPTION:Pastor Lauren Murdoch will lead a weekly Bible study at the Fairmont Senior Center every Tuesday at 11:00 a.m. \nAn ordained minister and chaplain in the Assemblies of God\, Pastor Lauren will guide participants through an engaging\, interactive study of selected passages and seasonal topics. The Bible study is open to everyone\, regardless of religious background\, and all materials will be provided.
URL:https://marionseniors.org/event/bible-study-15/2027-04-13/
LOCATION:Fairmont Senior Center\, 105 Maplewood Drive\, Fairmont\, WV\, 26554\, United States
CATEGORIES:Fairmont
ORGANIZER;CN="Marion Senior Citizens":MAILTO:executivedirector@marionseniors.org
END:VEVENT
BEGIN:VEVENT
DTSTART;TZID=America/New_York:20270414T110000
DTEND;TZID=America/New_York:20270414T115000
DTSTAMP:20260421T102005
CREATED:20260123T161859Z
LAST-MODIFIED:20260123T161859Z
UID:10000375-1807700400-1807703400@marionseniors.org
SUMMARY:BINGO
DESCRIPTION:Join us every Wednesday for bingo at the Fairmont Senior Center
URL:https://marionseniors.org/event/bingo-33/2027-04-14/
LOCATION:Fairmont Senior Center\, 105 Maplewood Drive\, Fairmont\, WV\, 26554\, United States
CATEGORIES:Fairmont
ORGANIZER;CN="Marion Senior Citizens":MAILTO:executivedirector@marionseniors.org
END:VEVENT
BEGIN:VEVENT
DTSTART;TZID=America/New_York:20270420T110000
DTEND;TZID=America/New_York:20270420T115000
DTSTAMP:20260421T102005
CREATED:20260123T162718Z
LAST-MODIFIED:20260123T162718Z
UID:10000636-1808218800-1808221800@marionseniors.org
SUMMARY:BIBLE STUDY
DESCRIPTION:Pastor Lauren Murdoch will lead a weekly Bible study at the Fairmont Senior Center every Tuesday at 11:00 a.m. \nAn ordained minister and chaplain in the Assemblies of God\, Pastor Lauren will guide participants through an engaging\, interactive study of selected passages and seasonal topics. The Bible study is open to everyone\, regardless of religious background\, and all materials will be provided.
URL:https://marionseniors.org/event/bible-study-15/2027-04-20/
LOCATION:Fairmont Senior Center\, 105 Maplewood Drive\, Fairmont\, WV\, 26554\, United States
CATEGORIES:Fairmont
ORGANIZER;CN="Marion Senior Citizens":MAILTO:executivedirector@marionseniors.org
END:VEVENT
BEGIN:VEVENT
DTSTART;TZID=America/New_York:20270421T110000
DTEND;TZID=America/New_York:20270421T115000
DTSTAMP:20260421T102005
CREATED:20260123T161859Z
LAST-MODIFIED:20260123T161859Z
UID:10000376-1808305200-1808308200@marionseniors.org
SUMMARY:BINGO
DESCRIPTION:Join us every Wednesday for bingo at the Fairmont Senior Center
URL:https://marionseniors.org/event/bingo-33/2027-04-21/
LOCATION:Fairmont Senior Center\, 105 Maplewood Drive\, Fairmont\, WV\, 26554\, United States
CATEGORIES:Fairmont
ORGANIZER;CN="Marion Senior Citizens":MAILTO:executivedirector@marionseniors.org
END:VEVENT
BEGIN:VEVENT
DTSTART;TZID=America/New_York:20270427T110000
DTEND;TZID=America/New_York:20270427T115000
DTSTAMP:20260421T102005
CREATED:20260123T162718Z
LAST-MODIFIED:20260123T162718Z
UID:10000637-1808823600-1808826600@marionseniors.org
SUMMARY:BIBLE STUDY
DESCRIPTION:Pastor Lauren Murdoch will lead a weekly Bible study at the Fairmont Senior Center every Tuesday at 11:00 a.m. \nAn ordained minister and chaplain in the Assemblies of God\, Pastor Lauren will guide participants through an engaging\, interactive study of selected passages and seasonal topics. The Bible study is open to everyone\, regardless of religious background\, and all materials will be provided.
URL:https://marionseniors.org/event/bible-study-15/2027-04-27/
LOCATION:Fairmont Senior Center\, 105 Maplewood Drive\, Fairmont\, WV\, 26554\, United States
CATEGORIES:Fairmont
ORGANIZER;CN="Marion Senior Citizens":MAILTO:executivedirector@marionseniors.org
END:VEVENT
BEGIN:VEVENT
DTSTART;TZID=America/New_York:20270428T110000
DTEND;TZID=America/New_York:20270428T115000
DTSTAMP:20260421T102005
CREATED:20260123T161859Z
LAST-MODIFIED:20260123T161859Z
UID:10000377-1808910000-1808913000@marionseniors.org
SUMMARY:BINGO
DESCRIPTION:Join us every Wednesday for bingo at the Fairmont Senior Center
URL:https://marionseniors.org/event/bingo-33/2027-04-28/
LOCATION:Fairmont Senior Center\, 105 Maplewood Drive\, Fairmont\, WV\, 26554\, United States
CATEGORIES:Fairmont
ORGANIZER;CN="Marion Senior Citizens":MAILTO:executivedirector@marionseniors.org
END:VEVENT
BEGIN:VEVENT
DTSTART;TZID=America/New_York:20270504T110000
DTEND;TZID=America/New_York:20270504T115000
DTSTAMP:20260421T102005
CREATED:20260123T162718Z
LAST-MODIFIED:20260123T162718Z
UID:10000638-1809428400-1809431400@marionseniors.org
SUMMARY:BIBLE STUDY
DESCRIPTION:Pastor Lauren Murdoch will lead a weekly Bible study at the Fairmont Senior Center every Tuesday at 11:00 a.m. \nAn ordained minister and chaplain in the Assemblies of God\, Pastor Lauren will guide participants through an engaging\, interactive study of selected passages and seasonal topics. The Bible study is open to everyone\, regardless of religious background\, and all materials will be provided.
URL:https://marionseniors.org/event/bible-study-15/2027-05-04/
LOCATION:Fairmont Senior Center\, 105 Maplewood Drive\, Fairmont\, WV\, 26554\, United States
CATEGORIES:Fairmont
ORGANIZER;CN="Marion Senior Citizens":MAILTO:executivedirector@marionseniors.org
END:VEVENT
BEGIN:VEVENT
DTSTART;TZID=America/New_York:20270505T110000
DTEND;TZID=America/New_York:20270505T115000
DTSTAMP:20260421T102005
CREATED:20260123T161859Z
LAST-MODIFIED:20260123T161859Z
UID:10000378-1809514800-1809517800@marionseniors.org
SUMMARY:BINGO
DESCRIPTION:Join us every Wednesday for bingo at the Fairmont Senior Center
URL:https://marionseniors.org/event/bingo-33/2027-05-05/
LOCATION:Fairmont Senior Center\, 105 Maplewood Drive\, Fairmont\, WV\, 26554\, United States
CATEGORIES:Fairmont
ORGANIZER;CN="Marion Senior Citizens":MAILTO:executivedirector@marionseniors.org
END:VEVENT
BEGIN:VEVENT
DTSTART;TZID=America/New_York:20270511T110000
DTEND;TZID=America/New_York:20270511T115000
DTSTAMP:20260421T102005
CREATED:20260123T162718Z
LAST-MODIFIED:20260123T162718Z
UID:10000639-1810033200-1810036200@marionseniors.org
SUMMARY:BIBLE STUDY
DESCRIPTION:Pastor Lauren Murdoch will lead a weekly Bible study at the Fairmont Senior Center every Tuesday at 11:00 a.m. \nAn ordained minister and chaplain in the Assemblies of God\, Pastor Lauren will guide participants through an engaging\, interactive study of selected passages and seasonal topics. The Bible study is open to everyone\, regardless of religious background\, and all materials will be provided.
URL:https://marionseniors.org/event/bible-study-15/2027-05-11/
LOCATION:Fairmont Senior Center\, 105 Maplewood Drive\, Fairmont\, WV\, 26554\, United States
CATEGORIES:Fairmont
ORGANIZER;CN="Marion Senior Citizens":MAILTO:executivedirector@marionseniors.org
END:VEVENT
BEGIN:VEVENT
DTSTART;TZID=America/New_York:20270512T110000
DTEND;TZID=America/New_York:20270512T115000
DTSTAMP:20260421T102005
CREATED:20260123T161859Z
LAST-MODIFIED:20260123T161859Z
UID:10000379-1810119600-1810122600@marionseniors.org
SUMMARY:BINGO
DESCRIPTION:Join us every Wednesday for bingo at the Fairmont Senior Center
URL:https://marionseniors.org/event/bingo-33/2027-05-12/
LOCATION:Fairmont Senior Center\, 105 Maplewood Drive\, Fairmont\, WV\, 26554\, United States
CATEGORIES:Fairmont
ORGANIZER;CN="Marion Senior Citizens":MAILTO:executivedirector@marionseniors.org
END:VEVENT
BEGIN:VEVENT
DTSTART;TZID=America/New_York:20270518T110000
DTEND;TZID=America/New_York:20270518T115000
DTSTAMP:20260421T102005
CREATED:20260123T162718Z
LAST-MODIFIED:20260123T162718Z
UID:10000640-1810638000-1810641000@marionseniors.org
SUMMARY:BIBLE STUDY
DESCRIPTION:Pastor Lauren Murdoch will lead a weekly Bible study at the Fairmont Senior Center every Tuesday at 11:00 a.m. \nAn ordained minister and chaplain in the Assemblies of God\, Pastor Lauren will guide participants through an engaging\, interactive study of selected passages and seasonal topics. The Bible study is open to everyone\, regardless of religious background\, and all materials will be provided.
URL:https://marionseniors.org/event/bible-study-15/2027-05-18/
LOCATION:Fairmont Senior Center\, 105 Maplewood Drive\, Fairmont\, WV\, 26554\, United States
CATEGORIES:Fairmont
ORGANIZER;CN="Marion Senior Citizens":MAILTO:executivedirector@marionseniors.org
END:VEVENT
BEGIN:VEVENT
DTSTART;TZID=America/New_York:20270519T110000
DTEND;TZID=America/New_York:20270519T115000
DTSTAMP:20260421T102005
CREATED:20260123T161859Z
LAST-MODIFIED:20260123T161859Z
UID:10000380-1810724400-1810727400@marionseniors.org
SUMMARY:BINGO
DESCRIPTION:Join us every Wednesday for bingo at the Fairmont Senior Center
URL:https://marionseniors.org/event/bingo-33/2027-05-19/
LOCATION:Fairmont Senior Center\, 105 Maplewood Drive\, Fairmont\, WV\, 26554\, United States
CATEGORIES:Fairmont
ORGANIZER;CN="Marion Senior Citizens":MAILTO:executivedirector@marionseniors.org
END:VEVENT
BEGIN:VEVENT
DTSTART;TZID=America/New_York:20270525T110000
DTEND;TZID=America/New_York:20270525T115000
DTSTAMP:20260421T102005
CREATED:20260123T162718Z
LAST-MODIFIED:20260123T162718Z
UID:10000641-1811242800-1811245800@marionseniors.org
SUMMARY:BIBLE STUDY
DESCRIPTION:Pastor Lauren Murdoch will lead a weekly Bible study at the Fairmont Senior Center every Tuesday at 11:00 a.m. \nAn ordained minister and chaplain in the Assemblies of God\, Pastor Lauren will guide participants through an engaging\, interactive study of selected passages and seasonal topics. The Bible study is open to everyone\, regardless of religious background\, and all materials will be provided.
URL:https://marionseniors.org/event/bible-study-15/2027-05-25/
LOCATION:Fairmont Senior Center\, 105 Maplewood Drive\, Fairmont\, WV\, 26554\, United States
CATEGORIES:Fairmont
ORGANIZER;CN="Marion Senior Citizens":MAILTO:executivedirector@marionseniors.org
END:VEVENT
BEGIN:VEVENT
DTSTART;TZID=America/New_York:20270526T110000
DTEND;TZID=America/New_York:20270526T115000
DTSTAMP:20260421T102005
CREATED:20260123T161859Z
LAST-MODIFIED:20260123T161859Z
UID:10000381-1811329200-1811332200@marionseniors.org
SUMMARY:BINGO
DESCRIPTION:Join us every Wednesday for bingo at the Fairmont Senior Center
URL:https://marionseniors.org/event/bingo-33/2027-05-26/
LOCATION:Fairmont Senior Center\, 105 Maplewood Drive\, Fairmont\, WV\, 26554\, United States
CATEGORIES:Fairmont
ORGANIZER;CN="Marion Senior Citizens":MAILTO:executivedirector@marionseniors.org
END:VEVENT
BEGIN:VEVENT
DTSTART;TZID=America/New_York:20270601T110000
DTEND;TZID=America/New_York:20270601T115000
DTSTAMP:20260421T102005
CREATED:20260123T162718Z
LAST-MODIFIED:20260123T162718Z
UID:10000642-1811847600-1811850600@marionseniors.org
SUMMARY:BIBLE STUDY
DESCRIPTION:Pastor Lauren Murdoch will lead a weekly Bible study at the Fairmont Senior Center every Tuesday at 11:00 a.m. \nAn ordained minister and chaplain in the Assemblies of God\, Pastor Lauren will guide participants through an engaging\, interactive study of selected passages and seasonal topics. The Bible study is open to everyone\, regardless of religious background\, and all materials will be provided.
URL:https://marionseniors.org/event/bible-study-15/2027-06-01/
LOCATION:Fairmont Senior Center\, 105 Maplewood Drive\, Fairmont\, WV\, 26554\, United States
CATEGORIES:Fairmont
ORGANIZER;CN="Marion Senior Citizens":MAILTO:executivedirector@marionseniors.org
END:VEVENT
BEGIN:VEVENT
DTSTART;TZID=America/New_York:20270602T110000
DTEND;TZID=America/New_York:20270602T115000
DTSTAMP:20260421T102005
CREATED:20260123T161859Z
LAST-MODIFIED:20260123T161859Z
UID:10000382-1811934000-1811937000@marionseniors.org
SUMMARY:BINGO
DESCRIPTION:Join us every Wednesday for bingo at the Fairmont Senior Center
URL:https://marionseniors.org/event/bingo-33/2027-06-02/
LOCATION:Fairmont Senior Center\, 105 Maplewood Drive\, Fairmont\, WV\, 26554\, United States
CATEGORIES:Fairmont
ORGANIZER;CN="Marion Senior Citizens":MAILTO:executivedirector@marionseniors.org
END:VEVENT
BEGIN:VEVENT
DTSTART;TZID=America/New_York:20270608T110000
DTEND;TZID=America/New_York:20270608T115000
DTSTAMP:20260421T102005
CREATED:20260123T162718Z
LAST-MODIFIED:20260123T162718Z
UID:10000643-1812452400-1812455400@marionseniors.org
SUMMARY:BIBLE STUDY
DESCRIPTION:Pastor Lauren Murdoch will lead a weekly Bible study at the Fairmont Senior Center every Tuesday at 11:00 a.m. \nAn ordained minister and chaplain in the Assemblies of God\, Pastor Lauren will guide participants through an engaging\, interactive study of selected passages and seasonal topics. The Bible study is open to everyone\, regardless of religious background\, and all materials will be provided.
URL:https://marionseniors.org/event/bible-study-15/2027-06-08/
LOCATION:Fairmont Senior Center\, 105 Maplewood Drive\, Fairmont\, WV\, 26554\, United States
CATEGORIES:Fairmont
ORGANIZER;CN="Marion Senior Citizens":MAILTO:executivedirector@marionseniors.org
END:VEVENT
BEGIN:VEVENT
DTSTART;TZID=America/New_York:20270609T110000
DTEND;TZID=America/New_York:20270609T115000
DTSTAMP:20260421T102005
CREATED:20260123T161859Z
LAST-MODIFIED:20260123T161859Z
UID:10000383-1812538800-1812541800@marionseniors.org
SUMMARY:BINGO
DESCRIPTION:Join us every Wednesday for bingo at the Fairmont Senior Center
URL:https://marionseniors.org/event/bingo-33/2027-06-09/
LOCATION:Fairmont Senior Center\, 105 Maplewood Drive\, Fairmont\, WV\, 26554\, United States
CATEGORIES:Fairmont
ORGANIZER;CN="Marion Senior Citizens":MAILTO:executivedirector@marionseniors.org
END:VEVENT
BEGIN:VEVENT
DTSTART;TZID=America/New_York:20270615T110000
DTEND;TZID=America/New_York:20270615T115000
DTSTAMP:20260421T102005
CREATED:20260123T162718Z
LAST-MODIFIED:20260123T162718Z
UID:10000644-1813057200-1813060200@marionseniors.org
SUMMARY:BIBLE STUDY
DESCRIPTION:Pastor Lauren Murdoch will lead a weekly Bible study at the Fairmont Senior Center every Tuesday at 11:00 a.m. \nAn ordained minister and chaplain in the Assemblies of God\, Pastor Lauren will guide participants through an engaging\, interactive study of selected passages and seasonal topics. The Bible study is open to everyone\, regardless of religious background\, and all materials will be provided.
URL:https://marionseniors.org/event/bible-study-15/2027-06-15/
LOCATION:Fairmont Senior Center\, 105 Maplewood Drive\, Fairmont\, WV\, 26554\, United States
CATEGORIES:Fairmont
ORGANIZER;CN="Marion Senior Citizens":MAILTO:executivedirector@marionseniors.org
END:VEVENT
BEGIN:VEVENT
DTSTART;TZID=America/New_York:20270616T110000
DTEND;TZID=America/New_York:20270616T115000
DTSTAMP:20260421T102005
CREATED:20260123T161859Z
LAST-MODIFIED:20260123T161859Z
UID:10000384-1813143600-1813146600@marionseniors.org
SUMMARY:BINGO
DESCRIPTION:Join us every Wednesday for bingo at the Fairmont Senior Center
URL:https://marionseniors.org/event/bingo-33/2027-06-16/
LOCATION:Fairmont Senior Center\, 105 Maplewood Drive\, Fairmont\, WV\, 26554\, United States
CATEGORIES:Fairmont
ORGANIZER;CN="Marion Senior Citizens":MAILTO:executivedirector@marionseniors.org
END:VEVENT
END:VCALENDAR