BEGIN:VCALENDAR
VERSION:2.0
PRODID:-//Marion County Senior Center - ECPv6.15.17.1//NONSGML v1.0//EN
CALSCALE:GREGORIAN
METHOD:PUBLISH
X-ORIGINAL-URL:https://marionseniors.org
X-WR-CALDESC:Events for Marion County Senior Center
REFRESH-INTERVAL;VALUE=DURATION:PT1H
X-Robots-Tag:noindex
X-PUBLISHED-TTL:PT1H
BEGIN:VTIMEZONE
TZID:America/New_York
BEGIN:DAYLIGHT
TZOFFSETFROM:-0500
TZOFFSETTO:-0400
TZNAME:EDT
DTSTART:20270314T070000
END:DAYLIGHT
BEGIN:STANDARD
TZOFFSETFROM:-0400
TZOFFSETTO:-0500
TZNAME:EST
DTSTART:20271107T060000
END:STANDARD
BEGIN:DAYLIGHT
TZOFFSETFROM:-0500
TZOFFSETTO:-0400
TZNAME:EDT
DTSTART:20280312T070000
END:DAYLIGHT
BEGIN:STANDARD
TZOFFSETFROM:-0400
TZOFFSETTO:-0500
TZNAME:EST
DTSTART:20281105T060000
END:STANDARD
BEGIN:DAYLIGHT
TZOFFSETFROM:-0500
TZOFFSETTO:-0400
TZNAME:EDT
DTSTART:20290311T070000
END:DAYLIGHT
BEGIN:STANDARD
TZOFFSETFROM:-0400
TZOFFSETTO:-0500
TZNAME:EST
DTSTART:20291104T060000
END:STANDARD
END:VTIMEZONE
BEGIN:VEVENT
DTSTART;TZID=America/New_York:20280215T110000
DTEND;TZID=America/New_York:20280215T115000
DTSTAMP:20260424T041523
CREATED:20260123T162718Z
LAST-MODIFIED:20260123T162718Z
UID:10000679-1834225200-1834228200@marionseniors.org
SUMMARY:BIBLE STUDY
DESCRIPTION:Pastor Lauren Murdoch will lead a weekly Bible study at the Fairmont Senior Center every Tuesday at 11:00 a.m. \nAn ordained minister and chaplain in the Assemblies of God\, Pastor Lauren will guide participants through an engaging\, interactive study of selected passages and seasonal topics. The Bible study is open to everyone\, regardless of religious background\, and all materials will be provided.
URL:https://marionseniors.org/event/bible-study-15/2028-02-15/
LOCATION:Fairmont Senior Center\, 105 Maplewood Drive\, Fairmont\, WV\, 26554\, United States
CATEGORIES:Fairmont
ORGANIZER;CN="Marion Senior Citizens":MAILTO:executivedirector@marionseniors.org
END:VEVENT
BEGIN:VEVENT
DTSTART;TZID=America/New_York:20280216T110000
DTEND;TZID=America/New_York:20280216T115000
DTSTAMP:20260424T041523
CREATED:20260123T161859Z
LAST-MODIFIED:20260123T161859Z
UID:10000419-1834311600-1834314600@marionseniors.org
SUMMARY:BINGO
DESCRIPTION:Join us every Wednesday for bingo at the Fairmont Senior Center
URL:https://marionseniors.org/event/bingo-33/2028-02-16/
LOCATION:Fairmont Senior Center\, 105 Maplewood Drive\, Fairmont\, WV\, 26554\, United States
CATEGORIES:Fairmont
ORGANIZER;CN="Marion Senior Citizens":MAILTO:executivedirector@marionseniors.org
END:VEVENT
BEGIN:VEVENT
DTSTART;TZID=America/New_York:20280222T110000
DTEND;TZID=America/New_York:20280222T115000
DTSTAMP:20260424T041523
CREATED:20260123T162718Z
LAST-MODIFIED:20260123T162718Z
UID:10000680-1834830000-1834833000@marionseniors.org
SUMMARY:BIBLE STUDY
DESCRIPTION:Pastor Lauren Murdoch will lead a weekly Bible study at the Fairmont Senior Center every Tuesday at 11:00 a.m. \nAn ordained minister and chaplain in the Assemblies of God\, Pastor Lauren will guide participants through an engaging\, interactive study of selected passages and seasonal topics. The Bible study is open to everyone\, regardless of religious background\, and all materials will be provided.
URL:https://marionseniors.org/event/bible-study-15/2028-02-22/
LOCATION:Fairmont Senior Center\, 105 Maplewood Drive\, Fairmont\, WV\, 26554\, United States
CATEGORIES:Fairmont
ORGANIZER;CN="Marion Senior Citizens":MAILTO:executivedirector@marionseniors.org
END:VEVENT
BEGIN:VEVENT
DTSTART;TZID=America/New_York:20280223T110000
DTEND;TZID=America/New_York:20280223T115000
DTSTAMP:20260424T041523
CREATED:20260123T161859Z
LAST-MODIFIED:20260123T161859Z
UID:10000420-1834916400-1834919400@marionseniors.org
SUMMARY:BINGO
DESCRIPTION:Join us every Wednesday for bingo at the Fairmont Senior Center
URL:https://marionseniors.org/event/bingo-33/2028-02-23/
LOCATION:Fairmont Senior Center\, 105 Maplewood Drive\, Fairmont\, WV\, 26554\, United States
CATEGORIES:Fairmont
ORGANIZER;CN="Marion Senior Citizens":MAILTO:executivedirector@marionseniors.org
END:VEVENT
BEGIN:VEVENT
DTSTART;TZID=America/New_York:20280229T110000
DTEND;TZID=America/New_York:20280229T115000
DTSTAMP:20260424T041523
CREATED:20260123T162718Z
LAST-MODIFIED:20260123T162718Z
UID:10000681-1835434800-1835437800@marionseniors.org
SUMMARY:BIBLE STUDY
DESCRIPTION:Pastor Lauren Murdoch will lead a weekly Bible study at the Fairmont Senior Center every Tuesday at 11:00 a.m. \nAn ordained minister and chaplain in the Assemblies of God\, Pastor Lauren will guide participants through an engaging\, interactive study of selected passages and seasonal topics. The Bible study is open to everyone\, regardless of religious background\, and all materials will be provided.
URL:https://marionseniors.org/event/bible-study-15/2028-02-29/
LOCATION:Fairmont Senior Center\, 105 Maplewood Drive\, Fairmont\, WV\, 26554\, United States
CATEGORIES:Fairmont
ORGANIZER;CN="Marion Senior Citizens":MAILTO:executivedirector@marionseniors.org
END:VEVENT
BEGIN:VEVENT
DTSTART;TZID=America/New_York:20280301T110000
DTEND;TZID=America/New_York:20280301T115000
DTSTAMP:20260424T041523
CREATED:20260123T161859Z
LAST-MODIFIED:20260123T161859Z
UID:10000421-1835521200-1835524200@marionseniors.org
SUMMARY:BINGO
DESCRIPTION:Join us every Wednesday for bingo at the Fairmont Senior Center
URL:https://marionseniors.org/event/bingo-33/2028-03-01/
LOCATION:Fairmont Senior Center\, 105 Maplewood Drive\, Fairmont\, WV\, 26554\, United States
CATEGORIES:Fairmont
ORGANIZER;CN="Marion Senior Citizens":MAILTO:executivedirector@marionseniors.org
END:VEVENT
BEGIN:VEVENT
DTSTART;TZID=America/New_York:20280307T110000
DTEND;TZID=America/New_York:20280307T115000
DTSTAMP:20260424T041523
CREATED:20260123T162718Z
LAST-MODIFIED:20260123T162718Z
UID:10000682-1836039600-1836042600@marionseniors.org
SUMMARY:BIBLE STUDY
DESCRIPTION:Pastor Lauren Murdoch will lead a weekly Bible study at the Fairmont Senior Center every Tuesday at 11:00 a.m. \nAn ordained minister and chaplain in the Assemblies of God\, Pastor Lauren will guide participants through an engaging\, interactive study of selected passages and seasonal topics. The Bible study is open to everyone\, regardless of religious background\, and all materials will be provided.
URL:https://marionseniors.org/event/bible-study-15/2028-03-07/
LOCATION:Fairmont Senior Center\, 105 Maplewood Drive\, Fairmont\, WV\, 26554\, United States
CATEGORIES:Fairmont
ORGANIZER;CN="Marion Senior Citizens":MAILTO:executivedirector@marionseniors.org
END:VEVENT
BEGIN:VEVENT
DTSTART;TZID=America/New_York:20280308T110000
DTEND;TZID=America/New_York:20280308T115000
DTSTAMP:20260424T041523
CREATED:20260123T161859Z
LAST-MODIFIED:20260123T161859Z
UID:10000422-1836126000-1836129000@marionseniors.org
SUMMARY:BINGO
DESCRIPTION:Join us every Wednesday for bingo at the Fairmont Senior Center
URL:https://marionseniors.org/event/bingo-33/2028-03-08/
LOCATION:Fairmont Senior Center\, 105 Maplewood Drive\, Fairmont\, WV\, 26554\, United States
CATEGORIES:Fairmont
ORGANIZER;CN="Marion Senior Citizens":MAILTO:executivedirector@marionseniors.org
END:VEVENT
BEGIN:VEVENT
DTSTART;TZID=America/New_York:20280314T110000
DTEND;TZID=America/New_York:20280314T115000
DTSTAMP:20260424T041523
CREATED:20260123T162718Z
LAST-MODIFIED:20260123T162718Z
UID:10000683-1836644400-1836647400@marionseniors.org
SUMMARY:BIBLE STUDY
DESCRIPTION:Pastor Lauren Murdoch will lead a weekly Bible study at the Fairmont Senior Center every Tuesday at 11:00 a.m. \nAn ordained minister and chaplain in the Assemblies of God\, Pastor Lauren will guide participants through an engaging\, interactive study of selected passages and seasonal topics. The Bible study is open to everyone\, regardless of religious background\, and all materials will be provided.
URL:https://marionseniors.org/event/bible-study-15/2028-03-14/
LOCATION:Fairmont Senior Center\, 105 Maplewood Drive\, Fairmont\, WV\, 26554\, United States
CATEGORIES:Fairmont
ORGANIZER;CN="Marion Senior Citizens":MAILTO:executivedirector@marionseniors.org
END:VEVENT
BEGIN:VEVENT
DTSTART;TZID=America/New_York:20280315T110000
DTEND;TZID=America/New_York:20280315T115000
DTSTAMP:20260424T041523
CREATED:20260123T161859Z
LAST-MODIFIED:20260123T161859Z
UID:10000423-1836730800-1836733800@marionseniors.org
SUMMARY:BINGO
DESCRIPTION:Join us every Wednesday for bingo at the Fairmont Senior Center
URL:https://marionseniors.org/event/bingo-33/2028-03-15/
LOCATION:Fairmont Senior Center\, 105 Maplewood Drive\, Fairmont\, WV\, 26554\, United States
CATEGORIES:Fairmont
ORGANIZER;CN="Marion Senior Citizens":MAILTO:executivedirector@marionseniors.org
END:VEVENT
BEGIN:VEVENT
DTSTART;TZID=America/New_York:20280321T110000
DTEND;TZID=America/New_York:20280321T115000
DTSTAMP:20260424T041523
CREATED:20260123T162718Z
LAST-MODIFIED:20260123T162718Z
UID:10000684-1837249200-1837252200@marionseniors.org
SUMMARY:BIBLE STUDY
DESCRIPTION:Pastor Lauren Murdoch will lead a weekly Bible study at the Fairmont Senior Center every Tuesday at 11:00 a.m. \nAn ordained minister and chaplain in the Assemblies of God\, Pastor Lauren will guide participants through an engaging\, interactive study of selected passages and seasonal topics. The Bible study is open to everyone\, regardless of religious background\, and all materials will be provided.
URL:https://marionseniors.org/event/bible-study-15/2028-03-21/
LOCATION:Fairmont Senior Center\, 105 Maplewood Drive\, Fairmont\, WV\, 26554\, United States
CATEGORIES:Fairmont
ORGANIZER;CN="Marion Senior Citizens":MAILTO:executivedirector@marionseniors.org
END:VEVENT
BEGIN:VEVENT
DTSTART;TZID=America/New_York:20280322T110000
DTEND;TZID=America/New_York:20280322T115000
DTSTAMP:20260424T041523
CREATED:20260123T161859Z
LAST-MODIFIED:20260123T161859Z
UID:10000424-1837335600-1837338600@marionseniors.org
SUMMARY:BINGO
DESCRIPTION:Join us every Wednesday for bingo at the Fairmont Senior Center
URL:https://marionseniors.org/event/bingo-33/2028-03-22/
LOCATION:Fairmont Senior Center\, 105 Maplewood Drive\, Fairmont\, WV\, 26554\, United States
CATEGORIES:Fairmont
ORGANIZER;CN="Marion Senior Citizens":MAILTO:executivedirector@marionseniors.org
END:VEVENT
BEGIN:VEVENT
DTSTART;TZID=America/New_York:20280328T110000
DTEND;TZID=America/New_York:20280328T115000
DTSTAMP:20260424T041523
CREATED:20260123T162718Z
LAST-MODIFIED:20260123T162718Z
UID:10000685-1837854000-1837857000@marionseniors.org
SUMMARY:BIBLE STUDY
DESCRIPTION:Pastor Lauren Murdoch will lead a weekly Bible study at the Fairmont Senior Center every Tuesday at 11:00 a.m. \nAn ordained minister and chaplain in the Assemblies of God\, Pastor Lauren will guide participants through an engaging\, interactive study of selected passages and seasonal topics. The Bible study is open to everyone\, regardless of religious background\, and all materials will be provided.
URL:https://marionseniors.org/event/bible-study-15/2028-03-28/
LOCATION:Fairmont Senior Center\, 105 Maplewood Drive\, Fairmont\, WV\, 26554\, United States
CATEGORIES:Fairmont
ORGANIZER;CN="Marion Senior Citizens":MAILTO:executivedirector@marionseniors.org
END:VEVENT
BEGIN:VEVENT
DTSTART;TZID=America/New_York:20280329T110000
DTEND;TZID=America/New_York:20280329T115000
DTSTAMP:20260424T041523
CREATED:20260123T161859Z
LAST-MODIFIED:20260123T161859Z
UID:10000425-1837940400-1837943400@marionseniors.org
SUMMARY:BINGO
DESCRIPTION:Join us every Wednesday for bingo at the Fairmont Senior Center
URL:https://marionseniors.org/event/bingo-33/2028-03-29/
LOCATION:Fairmont Senior Center\, 105 Maplewood Drive\, Fairmont\, WV\, 26554\, United States
CATEGORIES:Fairmont
ORGANIZER;CN="Marion Senior Citizens":MAILTO:executivedirector@marionseniors.org
END:VEVENT
BEGIN:VEVENT
DTSTART;TZID=America/New_York:20280404T110000
DTEND;TZID=America/New_York:20280404T115000
DTSTAMP:20260424T041523
CREATED:20260123T162718Z
LAST-MODIFIED:20260123T162718Z
UID:10000686-1838458800-1838461800@marionseniors.org
SUMMARY:BIBLE STUDY
DESCRIPTION:Pastor Lauren Murdoch will lead a weekly Bible study at the Fairmont Senior Center every Tuesday at 11:00 a.m. \nAn ordained minister and chaplain in the Assemblies of God\, Pastor Lauren will guide participants through an engaging\, interactive study of selected passages and seasonal topics. The Bible study is open to everyone\, regardless of religious background\, and all materials will be provided.
URL:https://marionseniors.org/event/bible-study-15/2028-04-04/
LOCATION:Fairmont Senior Center\, 105 Maplewood Drive\, Fairmont\, WV\, 26554\, United States
CATEGORIES:Fairmont
ORGANIZER;CN="Marion Senior Citizens":MAILTO:executivedirector@marionseniors.org
END:VEVENT
BEGIN:VEVENT
DTSTART;TZID=America/New_York:20280405T110000
DTEND;TZID=America/New_York:20280405T115000
DTSTAMP:20260424T041523
CREATED:20260123T161859Z
LAST-MODIFIED:20260123T161859Z
UID:10000426-1838545200-1838548200@marionseniors.org
SUMMARY:BINGO
DESCRIPTION:Join us every Wednesday for bingo at the Fairmont Senior Center
URL:https://marionseniors.org/event/bingo-33/2028-04-05/
LOCATION:Fairmont Senior Center\, 105 Maplewood Drive\, Fairmont\, WV\, 26554\, United States
CATEGORIES:Fairmont
ORGANIZER;CN="Marion Senior Citizens":MAILTO:executivedirector@marionseniors.org
END:VEVENT
BEGIN:VEVENT
DTSTART;TZID=America/New_York:20280411T110000
DTEND;TZID=America/New_York:20280411T115000
DTSTAMP:20260424T041523
CREATED:20260123T162718Z
LAST-MODIFIED:20260123T162718Z
UID:10000687-1839063600-1839066600@marionseniors.org
SUMMARY:BIBLE STUDY
DESCRIPTION:Pastor Lauren Murdoch will lead a weekly Bible study at the Fairmont Senior Center every Tuesday at 11:00 a.m. \nAn ordained minister and chaplain in the Assemblies of God\, Pastor Lauren will guide participants through an engaging\, interactive study of selected passages and seasonal topics. The Bible study is open to everyone\, regardless of religious background\, and all materials will be provided.
URL:https://marionseniors.org/event/bible-study-15/2028-04-11/
LOCATION:Fairmont Senior Center\, 105 Maplewood Drive\, Fairmont\, WV\, 26554\, United States
CATEGORIES:Fairmont
ORGANIZER;CN="Marion Senior Citizens":MAILTO:executivedirector@marionseniors.org
END:VEVENT
BEGIN:VEVENT
DTSTART;TZID=America/New_York:20280412T110000
DTEND;TZID=America/New_York:20280412T115000
DTSTAMP:20260424T041523
CREATED:20260123T161859Z
LAST-MODIFIED:20260123T161859Z
UID:10000427-1839150000-1839153000@marionseniors.org
SUMMARY:BINGO
DESCRIPTION:Join us every Wednesday for bingo at the Fairmont Senior Center
URL:https://marionseniors.org/event/bingo-33/2028-04-12/
LOCATION:Fairmont Senior Center\, 105 Maplewood Drive\, Fairmont\, WV\, 26554\, United States
CATEGORIES:Fairmont
ORGANIZER;CN="Marion Senior Citizens":MAILTO:executivedirector@marionseniors.org
END:VEVENT
BEGIN:VEVENT
DTSTART;TZID=America/New_York:20280418T110000
DTEND;TZID=America/New_York:20280418T115000
DTSTAMP:20260424T041523
CREATED:20260123T162718Z
LAST-MODIFIED:20260123T162718Z
UID:10000688-1839668400-1839671400@marionseniors.org
SUMMARY:BIBLE STUDY
DESCRIPTION:Pastor Lauren Murdoch will lead a weekly Bible study at the Fairmont Senior Center every Tuesday at 11:00 a.m. \nAn ordained minister and chaplain in the Assemblies of God\, Pastor Lauren will guide participants through an engaging\, interactive study of selected passages and seasonal topics. The Bible study is open to everyone\, regardless of religious background\, and all materials will be provided.
URL:https://marionseniors.org/event/bible-study-15/2028-04-18/
LOCATION:Fairmont Senior Center\, 105 Maplewood Drive\, Fairmont\, WV\, 26554\, United States
CATEGORIES:Fairmont
ORGANIZER;CN="Marion Senior Citizens":MAILTO:executivedirector@marionseniors.org
END:VEVENT
BEGIN:VEVENT
DTSTART;TZID=America/New_York:20280419T110000
DTEND;TZID=America/New_York:20280419T115000
DTSTAMP:20260424T041523
CREATED:20260123T161859Z
LAST-MODIFIED:20260123T161859Z
UID:10000428-1839754800-1839757800@marionseniors.org
SUMMARY:BINGO
DESCRIPTION:Join us every Wednesday for bingo at the Fairmont Senior Center
URL:https://marionseniors.org/event/bingo-33/2028-04-19/
LOCATION:Fairmont Senior Center\, 105 Maplewood Drive\, Fairmont\, WV\, 26554\, United States
CATEGORIES:Fairmont
ORGANIZER;CN="Marion Senior Citizens":MAILTO:executivedirector@marionseniors.org
END:VEVENT
BEGIN:VEVENT
DTSTART;TZID=America/New_York:20280425T110000
DTEND;TZID=America/New_York:20280425T115000
DTSTAMP:20260424T041523
CREATED:20260123T162718Z
LAST-MODIFIED:20260123T162718Z
UID:10000689-1840273200-1840276200@marionseniors.org
SUMMARY:BIBLE STUDY
DESCRIPTION:Pastor Lauren Murdoch will lead a weekly Bible study at the Fairmont Senior Center every Tuesday at 11:00 a.m. \nAn ordained minister and chaplain in the Assemblies of God\, Pastor Lauren will guide participants through an engaging\, interactive study of selected passages and seasonal topics. The Bible study is open to everyone\, regardless of religious background\, and all materials will be provided.
URL:https://marionseniors.org/event/bible-study-15/2028-04-25/
LOCATION:Fairmont Senior Center\, 105 Maplewood Drive\, Fairmont\, WV\, 26554\, United States
CATEGORIES:Fairmont
ORGANIZER;CN="Marion Senior Citizens":MAILTO:executivedirector@marionseniors.org
END:VEVENT
BEGIN:VEVENT
DTSTART;TZID=America/New_York:20280426T110000
DTEND;TZID=America/New_York:20280426T115000
DTSTAMP:20260424T041523
CREATED:20260123T161859Z
LAST-MODIFIED:20260123T161859Z
UID:10000429-1840359600-1840362600@marionseniors.org
SUMMARY:BINGO
DESCRIPTION:Join us every Wednesday for bingo at the Fairmont Senior Center
URL:https://marionseniors.org/event/bingo-33/2028-04-26/
LOCATION:Fairmont Senior Center\, 105 Maplewood Drive\, Fairmont\, WV\, 26554\, United States
CATEGORIES:Fairmont
ORGANIZER;CN="Marion Senior Citizens":MAILTO:executivedirector@marionseniors.org
END:VEVENT
BEGIN:VEVENT
DTSTART;TZID=America/New_York:20280502T110000
DTEND;TZID=America/New_York:20280502T115000
DTSTAMP:20260424T041523
CREATED:20260123T162718Z
LAST-MODIFIED:20260123T162718Z
UID:10000690-1840878000-1840881000@marionseniors.org
SUMMARY:BIBLE STUDY
DESCRIPTION:Pastor Lauren Murdoch will lead a weekly Bible study at the Fairmont Senior Center every Tuesday at 11:00 a.m. \nAn ordained minister and chaplain in the Assemblies of God\, Pastor Lauren will guide participants through an engaging\, interactive study of selected passages and seasonal topics. The Bible study is open to everyone\, regardless of religious background\, and all materials will be provided.
URL:https://marionseniors.org/event/bible-study-15/2028-05-02/
LOCATION:Fairmont Senior Center\, 105 Maplewood Drive\, Fairmont\, WV\, 26554\, United States
CATEGORIES:Fairmont
ORGANIZER;CN="Marion Senior Citizens":MAILTO:executivedirector@marionseniors.org
END:VEVENT
BEGIN:VEVENT
DTSTART;TZID=America/New_York:20280503T110000
DTEND;TZID=America/New_York:20280503T115000
DTSTAMP:20260424T041523
CREATED:20260123T161859Z
LAST-MODIFIED:20260123T161859Z
UID:10000430-1840964400-1840967400@marionseniors.org
SUMMARY:BINGO
DESCRIPTION:Join us every Wednesday for bingo at the Fairmont Senior Center
URL:https://marionseniors.org/event/bingo-33/2028-05-03/
LOCATION:Fairmont Senior Center\, 105 Maplewood Drive\, Fairmont\, WV\, 26554\, United States
CATEGORIES:Fairmont
ORGANIZER;CN="Marion Senior Citizens":MAILTO:executivedirector@marionseniors.org
END:VEVENT
BEGIN:VEVENT
DTSTART;TZID=America/New_York:20280509T110000
DTEND;TZID=America/New_York:20280509T115000
DTSTAMP:20260424T041523
CREATED:20260123T162718Z
LAST-MODIFIED:20260123T162718Z
UID:10000691-1841482800-1841485800@marionseniors.org
SUMMARY:BIBLE STUDY
DESCRIPTION:Pastor Lauren Murdoch will lead a weekly Bible study at the Fairmont Senior Center every Tuesday at 11:00 a.m. \nAn ordained minister and chaplain in the Assemblies of God\, Pastor Lauren will guide participants through an engaging\, interactive study of selected passages and seasonal topics. The Bible study is open to everyone\, regardless of religious background\, and all materials will be provided.
URL:https://marionseniors.org/event/bible-study-15/2028-05-09/
LOCATION:Fairmont Senior Center\, 105 Maplewood Drive\, Fairmont\, WV\, 26554\, United States
CATEGORIES:Fairmont
ORGANIZER;CN="Marion Senior Citizens":MAILTO:executivedirector@marionseniors.org
END:VEVENT
BEGIN:VEVENT
DTSTART;TZID=America/New_York:20280510T110000
DTEND;TZID=America/New_York:20280510T115000
DTSTAMP:20260424T041523
CREATED:20260123T161859Z
LAST-MODIFIED:20260123T161859Z
UID:10000431-1841569200-1841572200@marionseniors.org
SUMMARY:BINGO
DESCRIPTION:Join us every Wednesday for bingo at the Fairmont Senior Center
URL:https://marionseniors.org/event/bingo-33/2028-05-10/
LOCATION:Fairmont Senior Center\, 105 Maplewood Drive\, Fairmont\, WV\, 26554\, United States
CATEGORIES:Fairmont
ORGANIZER;CN="Marion Senior Citizens":MAILTO:executivedirector@marionseniors.org
END:VEVENT
BEGIN:VEVENT
DTSTART;TZID=America/New_York:20280516T110000
DTEND;TZID=America/New_York:20280516T115000
DTSTAMP:20260424T041523
CREATED:20260123T162718Z
LAST-MODIFIED:20260123T162718Z
UID:10000692-1842087600-1842090600@marionseniors.org
SUMMARY:BIBLE STUDY
DESCRIPTION:Pastor Lauren Murdoch will lead a weekly Bible study at the Fairmont Senior Center every Tuesday at 11:00 a.m. \nAn ordained minister and chaplain in the Assemblies of God\, Pastor Lauren will guide participants through an engaging\, interactive study of selected passages and seasonal topics. The Bible study is open to everyone\, regardless of religious background\, and all materials will be provided.
URL:https://marionseniors.org/event/bible-study-15/2028-05-16/
LOCATION:Fairmont Senior Center\, 105 Maplewood Drive\, Fairmont\, WV\, 26554\, United States
CATEGORIES:Fairmont
ORGANIZER;CN="Marion Senior Citizens":MAILTO:executivedirector@marionseniors.org
END:VEVENT
BEGIN:VEVENT
DTSTART;TZID=America/New_York:20280517T110000
DTEND;TZID=America/New_York:20280517T115000
DTSTAMP:20260424T041523
CREATED:20260123T161859Z
LAST-MODIFIED:20260123T161859Z
UID:10000432-1842174000-1842177000@marionseniors.org
SUMMARY:BINGO
DESCRIPTION:Join us every Wednesday for bingo at the Fairmont Senior Center
URL:https://marionseniors.org/event/bingo-33/2028-05-17/
LOCATION:Fairmont Senior Center\, 105 Maplewood Drive\, Fairmont\, WV\, 26554\, United States
CATEGORIES:Fairmont
ORGANIZER;CN="Marion Senior Citizens":MAILTO:executivedirector@marionseniors.org
END:VEVENT
BEGIN:VEVENT
DTSTART;TZID=America/New_York:20280523T110000
DTEND;TZID=America/New_York:20280523T115000
DTSTAMP:20260424T041523
CREATED:20260123T162718Z
LAST-MODIFIED:20260123T162718Z
UID:10000693-1842692400-1842695400@marionseniors.org
SUMMARY:BIBLE STUDY
DESCRIPTION:Pastor Lauren Murdoch will lead a weekly Bible study at the Fairmont Senior Center every Tuesday at 11:00 a.m. \nAn ordained minister and chaplain in the Assemblies of God\, Pastor Lauren will guide participants through an engaging\, interactive study of selected passages and seasonal topics. The Bible study is open to everyone\, regardless of religious background\, and all materials will be provided.
URL:https://marionseniors.org/event/bible-study-15/2028-05-23/
LOCATION:Fairmont Senior Center\, 105 Maplewood Drive\, Fairmont\, WV\, 26554\, United States
CATEGORIES:Fairmont
ORGANIZER;CN="Marion Senior Citizens":MAILTO:executivedirector@marionseniors.org
END:VEVENT
BEGIN:VEVENT
DTSTART;TZID=America/New_York:20280524T110000
DTEND;TZID=America/New_York:20280524T115000
DTSTAMP:20260424T041523
CREATED:20260123T161859Z
LAST-MODIFIED:20260123T161859Z
UID:10000433-1842778800-1842781800@marionseniors.org
SUMMARY:BINGO
DESCRIPTION:Join us every Wednesday for bingo at the Fairmont Senior Center
URL:https://marionseniors.org/event/bingo-33/2028-05-24/
LOCATION:Fairmont Senior Center\, 105 Maplewood Drive\, Fairmont\, WV\, 26554\, United States
CATEGORIES:Fairmont
ORGANIZER;CN="Marion Senior Citizens":MAILTO:executivedirector@marionseniors.org
END:VEVENT
END:VCALENDAR