BEGIN:VCALENDAR
VERSION:2.0
PRODID:-//Marion County Senior Center - ECPv6.15.17.1//NONSGML v1.0//EN
CALSCALE:GREGORIAN
METHOD:PUBLISH
X-ORIGINAL-URL:https://marionseniors.org
X-WR-CALDESC:Events for Marion County Senior Center
REFRESH-INTERVAL;VALUE=DURATION:PT1H
X-Robots-Tag:noindex
X-PUBLISHED-TTL:PT1H
BEGIN:VTIMEZONE
TZID:America/New_York
BEGIN:DAYLIGHT
TZOFFSETFROM:-0500
TZOFFSETTO:-0400
TZNAME:EDT
DTSTART:20260308T070000
END:DAYLIGHT
BEGIN:STANDARD
TZOFFSETFROM:-0400
TZOFFSETTO:-0500
TZNAME:EST
DTSTART:20261101T060000
END:STANDARD
BEGIN:DAYLIGHT
TZOFFSETFROM:-0500
TZOFFSETTO:-0400
TZNAME:EDT
DTSTART:20270314T070000
END:DAYLIGHT
BEGIN:STANDARD
TZOFFSETFROM:-0400
TZOFFSETTO:-0500
TZNAME:EST
DTSTART:20271107T060000
END:STANDARD
BEGIN:DAYLIGHT
TZOFFSETFROM:-0500
TZOFFSETTO:-0400
TZNAME:EDT
DTSTART:20280312T070000
END:DAYLIGHT
BEGIN:STANDARD
TZOFFSETFROM:-0400
TZOFFSETTO:-0500
TZNAME:EST
DTSTART:20281105T060000
END:STANDARD
END:VTIMEZONE
BEGIN:VEVENT
DTSTART;TZID=America/New_York:20270629T110000
DTEND;TZID=America/New_York:20270629T115000
DTSTAMP:20260422T232506
CREATED:20260123T162718Z
LAST-MODIFIED:20260123T162718Z
UID:10000646-1814266800-1814269800@marionseniors.org
SUMMARY:BIBLE STUDY
DESCRIPTION:Pastor Lauren Murdoch will lead a weekly Bible study at the Fairmont Senior Center every Tuesday at 11:00 a.m. \nAn ordained minister and chaplain in the Assemblies of God\, Pastor Lauren will guide participants through an engaging\, interactive study of selected passages and seasonal topics. The Bible study is open to everyone\, regardless of religious background\, and all materials will be provided.
URL:https://marionseniors.org/event/bible-study-15/2027-06-29/
LOCATION:Fairmont Senior Center\, 105 Maplewood Drive\, Fairmont\, WV\, 26554\, United States
CATEGORIES:Fairmont
ORGANIZER;CN="Marion Senior Citizens":MAILTO:executivedirector@marionseniors.org
END:VEVENT
BEGIN:VEVENT
DTSTART;TZID=America/New_York:20270630T110000
DTEND;TZID=America/New_York:20270630T115000
DTSTAMP:20260422T232506
CREATED:20260123T161859Z
LAST-MODIFIED:20260123T161859Z
UID:10000386-1814353200-1814356200@marionseniors.org
SUMMARY:BINGO
DESCRIPTION:Join us every Wednesday for bingo at the Fairmont Senior Center
URL:https://marionseniors.org/event/bingo-33/2027-06-30/
LOCATION:Fairmont Senior Center\, 105 Maplewood Drive\, Fairmont\, WV\, 26554\, United States
CATEGORIES:Fairmont
ORGANIZER;CN="Marion Senior Citizens":MAILTO:executivedirector@marionseniors.org
END:VEVENT
BEGIN:VEVENT
DTSTART;TZID=America/New_York:20270706T110000
DTEND;TZID=America/New_York:20270706T115000
DTSTAMP:20260422T232506
CREATED:20260123T162718Z
LAST-MODIFIED:20260123T162718Z
UID:10000647-1814871600-1814874600@marionseniors.org
SUMMARY:BIBLE STUDY
DESCRIPTION:Pastor Lauren Murdoch will lead a weekly Bible study at the Fairmont Senior Center every Tuesday at 11:00 a.m. \nAn ordained minister and chaplain in the Assemblies of God\, Pastor Lauren will guide participants through an engaging\, interactive study of selected passages and seasonal topics. The Bible study is open to everyone\, regardless of religious background\, and all materials will be provided.
URL:https://marionseniors.org/event/bible-study-15/2027-07-06/
LOCATION:Fairmont Senior Center\, 105 Maplewood Drive\, Fairmont\, WV\, 26554\, United States
CATEGORIES:Fairmont
ORGANIZER;CN="Marion Senior Citizens":MAILTO:executivedirector@marionseniors.org
END:VEVENT
BEGIN:VEVENT
DTSTART;TZID=America/New_York:20270707T110000
DTEND;TZID=America/New_York:20270707T115000
DTSTAMP:20260422T232506
CREATED:20260123T161859Z
LAST-MODIFIED:20260123T161859Z
UID:10000387-1814958000-1814961000@marionseniors.org
SUMMARY:BINGO
DESCRIPTION:Join us every Wednesday for bingo at the Fairmont Senior Center
URL:https://marionseniors.org/event/bingo-33/2027-07-07/
LOCATION:Fairmont Senior Center\, 105 Maplewood Drive\, Fairmont\, WV\, 26554\, United States
CATEGORIES:Fairmont
ORGANIZER;CN="Marion Senior Citizens":MAILTO:executivedirector@marionseniors.org
END:VEVENT
BEGIN:VEVENT
DTSTART;TZID=America/New_York:20270713T110000
DTEND;TZID=America/New_York:20270713T115000
DTSTAMP:20260422T232506
CREATED:20260123T162718Z
LAST-MODIFIED:20260123T162718Z
UID:10000648-1815476400-1815479400@marionseniors.org
SUMMARY:BIBLE STUDY
DESCRIPTION:Pastor Lauren Murdoch will lead a weekly Bible study at the Fairmont Senior Center every Tuesday at 11:00 a.m. \nAn ordained minister and chaplain in the Assemblies of God\, Pastor Lauren will guide participants through an engaging\, interactive study of selected passages and seasonal topics. The Bible study is open to everyone\, regardless of religious background\, and all materials will be provided.
URL:https://marionseniors.org/event/bible-study-15/2027-07-13/
LOCATION:Fairmont Senior Center\, 105 Maplewood Drive\, Fairmont\, WV\, 26554\, United States
CATEGORIES:Fairmont
ORGANIZER;CN="Marion Senior Citizens":MAILTO:executivedirector@marionseniors.org
END:VEVENT
BEGIN:VEVENT
DTSTART;TZID=America/New_York:20270714T110000
DTEND;TZID=America/New_York:20270714T115000
DTSTAMP:20260422T232506
CREATED:20260123T161859Z
LAST-MODIFIED:20260123T161859Z
UID:10000388-1815562800-1815565800@marionseniors.org
SUMMARY:BINGO
DESCRIPTION:Join us every Wednesday for bingo at the Fairmont Senior Center
URL:https://marionseniors.org/event/bingo-33/2027-07-14/
LOCATION:Fairmont Senior Center\, 105 Maplewood Drive\, Fairmont\, WV\, 26554\, United States
CATEGORIES:Fairmont
ORGANIZER;CN="Marion Senior Citizens":MAILTO:executivedirector@marionseniors.org
END:VEVENT
BEGIN:VEVENT
DTSTART;TZID=America/New_York:20270720T110000
DTEND;TZID=America/New_York:20270720T115000
DTSTAMP:20260422T232506
CREATED:20260123T162718Z
LAST-MODIFIED:20260123T162718Z
UID:10000649-1816081200-1816084200@marionseniors.org
SUMMARY:BIBLE STUDY
DESCRIPTION:Pastor Lauren Murdoch will lead a weekly Bible study at the Fairmont Senior Center every Tuesday at 11:00 a.m. \nAn ordained minister and chaplain in the Assemblies of God\, Pastor Lauren will guide participants through an engaging\, interactive study of selected passages and seasonal topics. The Bible study is open to everyone\, regardless of religious background\, and all materials will be provided.
URL:https://marionseniors.org/event/bible-study-15/2027-07-20/
LOCATION:Fairmont Senior Center\, 105 Maplewood Drive\, Fairmont\, WV\, 26554\, United States
CATEGORIES:Fairmont
ORGANIZER;CN="Marion Senior Citizens":MAILTO:executivedirector@marionseniors.org
END:VEVENT
BEGIN:VEVENT
DTSTART;TZID=America/New_York:20270721T110000
DTEND;TZID=America/New_York:20270721T115000
DTSTAMP:20260422T232506
CREATED:20260123T161859Z
LAST-MODIFIED:20260123T161859Z
UID:10000389-1816167600-1816170600@marionseniors.org
SUMMARY:BINGO
DESCRIPTION:Join us every Wednesday for bingo at the Fairmont Senior Center
URL:https://marionseniors.org/event/bingo-33/2027-07-21/
LOCATION:Fairmont Senior Center\, 105 Maplewood Drive\, Fairmont\, WV\, 26554\, United States
CATEGORIES:Fairmont
ORGANIZER;CN="Marion Senior Citizens":MAILTO:executivedirector@marionseniors.org
END:VEVENT
BEGIN:VEVENT
DTSTART;TZID=America/New_York:20270727T110000
DTEND;TZID=America/New_York:20270727T115000
DTSTAMP:20260422T232506
CREATED:20260123T162718Z
LAST-MODIFIED:20260123T162718Z
UID:10000650-1816686000-1816689000@marionseniors.org
SUMMARY:BIBLE STUDY
DESCRIPTION:Pastor Lauren Murdoch will lead a weekly Bible study at the Fairmont Senior Center every Tuesday at 11:00 a.m. \nAn ordained minister and chaplain in the Assemblies of God\, Pastor Lauren will guide participants through an engaging\, interactive study of selected passages and seasonal topics. The Bible study is open to everyone\, regardless of religious background\, and all materials will be provided.
URL:https://marionseniors.org/event/bible-study-15/2027-07-27/
LOCATION:Fairmont Senior Center\, 105 Maplewood Drive\, Fairmont\, WV\, 26554\, United States
CATEGORIES:Fairmont
ORGANIZER;CN="Marion Senior Citizens":MAILTO:executivedirector@marionseniors.org
END:VEVENT
BEGIN:VEVENT
DTSTART;TZID=America/New_York:20270728T110000
DTEND;TZID=America/New_York:20270728T115000
DTSTAMP:20260422T232506
CREATED:20260123T161859Z
LAST-MODIFIED:20260123T161859Z
UID:10000390-1816772400-1816775400@marionseniors.org
SUMMARY:BINGO
DESCRIPTION:Join us every Wednesday for bingo at the Fairmont Senior Center
URL:https://marionseniors.org/event/bingo-33/2027-07-28/
LOCATION:Fairmont Senior Center\, 105 Maplewood Drive\, Fairmont\, WV\, 26554\, United States
CATEGORIES:Fairmont
ORGANIZER;CN="Marion Senior Citizens":MAILTO:executivedirector@marionseniors.org
END:VEVENT
BEGIN:VEVENT
DTSTART;TZID=America/New_York:20270803T110000
DTEND;TZID=America/New_York:20270803T115000
DTSTAMP:20260422T232506
CREATED:20260123T162718Z
LAST-MODIFIED:20260123T162718Z
UID:10000651-1817290800-1817293800@marionseniors.org
SUMMARY:BIBLE STUDY
DESCRIPTION:Pastor Lauren Murdoch will lead a weekly Bible study at the Fairmont Senior Center every Tuesday at 11:00 a.m. \nAn ordained minister and chaplain in the Assemblies of God\, Pastor Lauren will guide participants through an engaging\, interactive study of selected passages and seasonal topics. The Bible study is open to everyone\, regardless of religious background\, and all materials will be provided.
URL:https://marionseniors.org/event/bible-study-15/2027-08-03/
LOCATION:Fairmont Senior Center\, 105 Maplewood Drive\, Fairmont\, WV\, 26554\, United States
CATEGORIES:Fairmont
ORGANIZER;CN="Marion Senior Citizens":MAILTO:executivedirector@marionseniors.org
END:VEVENT
BEGIN:VEVENT
DTSTART;TZID=America/New_York:20270804T110000
DTEND;TZID=America/New_York:20270804T115000
DTSTAMP:20260422T232506
CREATED:20260123T161859Z
LAST-MODIFIED:20260123T161859Z
UID:10000391-1817377200-1817380200@marionseniors.org
SUMMARY:BINGO
DESCRIPTION:Join us every Wednesday for bingo at the Fairmont Senior Center
URL:https://marionseniors.org/event/bingo-33/2027-08-04/
LOCATION:Fairmont Senior Center\, 105 Maplewood Drive\, Fairmont\, WV\, 26554\, United States
CATEGORIES:Fairmont
ORGANIZER;CN="Marion Senior Citizens":MAILTO:executivedirector@marionseniors.org
END:VEVENT
BEGIN:VEVENT
DTSTART;TZID=America/New_York:20270810T110000
DTEND;TZID=America/New_York:20270810T115000
DTSTAMP:20260422T232506
CREATED:20260123T162718Z
LAST-MODIFIED:20260123T162718Z
UID:10000652-1817895600-1817898600@marionseniors.org
SUMMARY:BIBLE STUDY
DESCRIPTION:Pastor Lauren Murdoch will lead a weekly Bible study at the Fairmont Senior Center every Tuesday at 11:00 a.m. \nAn ordained minister and chaplain in the Assemblies of God\, Pastor Lauren will guide participants through an engaging\, interactive study of selected passages and seasonal topics. The Bible study is open to everyone\, regardless of religious background\, and all materials will be provided.
URL:https://marionseniors.org/event/bible-study-15/2027-08-10/
LOCATION:Fairmont Senior Center\, 105 Maplewood Drive\, Fairmont\, WV\, 26554\, United States
CATEGORIES:Fairmont
ORGANIZER;CN="Marion Senior Citizens":MAILTO:executivedirector@marionseniors.org
END:VEVENT
BEGIN:VEVENT
DTSTART;TZID=America/New_York:20270811T110000
DTEND;TZID=America/New_York:20270811T115000
DTSTAMP:20260422T232506
CREATED:20260123T161859Z
LAST-MODIFIED:20260123T161859Z
UID:10000392-1817982000-1817985000@marionseniors.org
SUMMARY:BINGO
DESCRIPTION:Join us every Wednesday for bingo at the Fairmont Senior Center
URL:https://marionseniors.org/event/bingo-33/2027-08-11/
LOCATION:Fairmont Senior Center\, 105 Maplewood Drive\, Fairmont\, WV\, 26554\, United States
CATEGORIES:Fairmont
ORGANIZER;CN="Marion Senior Citizens":MAILTO:executivedirector@marionseniors.org
END:VEVENT
BEGIN:VEVENT
DTSTART;TZID=America/New_York:20270817T110000
DTEND;TZID=America/New_York:20270817T115000
DTSTAMP:20260422T232506
CREATED:20260123T162718Z
LAST-MODIFIED:20260123T162718Z
UID:10000653-1818500400-1818503400@marionseniors.org
SUMMARY:BIBLE STUDY
DESCRIPTION:Pastor Lauren Murdoch will lead a weekly Bible study at the Fairmont Senior Center every Tuesday at 11:00 a.m. \nAn ordained minister and chaplain in the Assemblies of God\, Pastor Lauren will guide participants through an engaging\, interactive study of selected passages and seasonal topics. The Bible study is open to everyone\, regardless of religious background\, and all materials will be provided.
URL:https://marionseniors.org/event/bible-study-15/2027-08-17/
LOCATION:Fairmont Senior Center\, 105 Maplewood Drive\, Fairmont\, WV\, 26554\, United States
CATEGORIES:Fairmont
ORGANIZER;CN="Marion Senior Citizens":MAILTO:executivedirector@marionseniors.org
END:VEVENT
BEGIN:VEVENT
DTSTART;TZID=America/New_York:20270818T110000
DTEND;TZID=America/New_York:20270818T115000
DTSTAMP:20260422T232506
CREATED:20260123T161859Z
LAST-MODIFIED:20260123T161859Z
UID:10000393-1818586800-1818589800@marionseniors.org
SUMMARY:BINGO
DESCRIPTION:Join us every Wednesday for bingo at the Fairmont Senior Center
URL:https://marionseniors.org/event/bingo-33/2027-08-18/
LOCATION:Fairmont Senior Center\, 105 Maplewood Drive\, Fairmont\, WV\, 26554\, United States
CATEGORIES:Fairmont
ORGANIZER;CN="Marion Senior Citizens":MAILTO:executivedirector@marionseniors.org
END:VEVENT
BEGIN:VEVENT
DTSTART;TZID=America/New_York:20270824T110000
DTEND;TZID=America/New_York:20270824T115000
DTSTAMP:20260422T232506
CREATED:20260123T162718Z
LAST-MODIFIED:20260123T162718Z
UID:10000654-1819105200-1819108200@marionseniors.org
SUMMARY:BIBLE STUDY
DESCRIPTION:Pastor Lauren Murdoch will lead a weekly Bible study at the Fairmont Senior Center every Tuesday at 11:00 a.m. \nAn ordained minister and chaplain in the Assemblies of God\, Pastor Lauren will guide participants through an engaging\, interactive study of selected passages and seasonal topics. The Bible study is open to everyone\, regardless of religious background\, and all materials will be provided.
URL:https://marionseniors.org/event/bible-study-15/2027-08-24/
LOCATION:Fairmont Senior Center\, 105 Maplewood Drive\, Fairmont\, WV\, 26554\, United States
CATEGORIES:Fairmont
ORGANIZER;CN="Marion Senior Citizens":MAILTO:executivedirector@marionseniors.org
END:VEVENT
BEGIN:VEVENT
DTSTART;TZID=America/New_York:20270825T110000
DTEND;TZID=America/New_York:20270825T115000
DTSTAMP:20260422T232506
CREATED:20260123T161859Z
LAST-MODIFIED:20260123T161859Z
UID:10000394-1819191600-1819194600@marionseniors.org
SUMMARY:BINGO
DESCRIPTION:Join us every Wednesday for bingo at the Fairmont Senior Center
URL:https://marionseniors.org/event/bingo-33/2027-08-25/
LOCATION:Fairmont Senior Center\, 105 Maplewood Drive\, Fairmont\, WV\, 26554\, United States
CATEGORIES:Fairmont
ORGANIZER;CN="Marion Senior Citizens":MAILTO:executivedirector@marionseniors.org
END:VEVENT
BEGIN:VEVENT
DTSTART;TZID=America/New_York:20270831T110000
DTEND;TZID=America/New_York:20270831T115000
DTSTAMP:20260422T232506
CREATED:20260123T162718Z
LAST-MODIFIED:20260123T162718Z
UID:10000655-1819710000-1819713000@marionseniors.org
SUMMARY:BIBLE STUDY
DESCRIPTION:Pastor Lauren Murdoch will lead a weekly Bible study at the Fairmont Senior Center every Tuesday at 11:00 a.m. \nAn ordained minister and chaplain in the Assemblies of God\, Pastor Lauren will guide participants through an engaging\, interactive study of selected passages and seasonal topics. The Bible study is open to everyone\, regardless of religious background\, and all materials will be provided.
URL:https://marionseniors.org/event/bible-study-15/2027-08-31/
LOCATION:Fairmont Senior Center\, 105 Maplewood Drive\, Fairmont\, WV\, 26554\, United States
CATEGORIES:Fairmont
ORGANIZER;CN="Marion Senior Citizens":MAILTO:executivedirector@marionseniors.org
END:VEVENT
BEGIN:VEVENT
DTSTART;TZID=America/New_York:20270901T110000
DTEND;TZID=America/New_York:20270901T115000
DTSTAMP:20260422T232506
CREATED:20260123T161859Z
LAST-MODIFIED:20260123T161859Z
UID:10000395-1819796400-1819799400@marionseniors.org
SUMMARY:BINGO
DESCRIPTION:Join us every Wednesday for bingo at the Fairmont Senior Center
URL:https://marionseniors.org/event/bingo-33/2027-09-01/
LOCATION:Fairmont Senior Center\, 105 Maplewood Drive\, Fairmont\, WV\, 26554\, United States
CATEGORIES:Fairmont
ORGANIZER;CN="Marion Senior Citizens":MAILTO:executivedirector@marionseniors.org
END:VEVENT
BEGIN:VEVENT
DTSTART;TZID=America/New_York:20270907T110000
DTEND;TZID=America/New_York:20270907T115000
DTSTAMP:20260422T232506
CREATED:20260123T162718Z
LAST-MODIFIED:20260123T162718Z
UID:10000656-1820314800-1820317800@marionseniors.org
SUMMARY:BIBLE STUDY
DESCRIPTION:Pastor Lauren Murdoch will lead a weekly Bible study at the Fairmont Senior Center every Tuesday at 11:00 a.m. \nAn ordained minister and chaplain in the Assemblies of God\, Pastor Lauren will guide participants through an engaging\, interactive study of selected passages and seasonal topics. The Bible study is open to everyone\, regardless of religious background\, and all materials will be provided.
URL:https://marionseniors.org/event/bible-study-15/2027-09-07/
LOCATION:Fairmont Senior Center\, 105 Maplewood Drive\, Fairmont\, WV\, 26554\, United States
CATEGORIES:Fairmont
ORGANIZER;CN="Marion Senior Citizens":MAILTO:executivedirector@marionseniors.org
END:VEVENT
BEGIN:VEVENT
DTSTART;TZID=America/New_York:20270908T110000
DTEND;TZID=America/New_York:20270908T115000
DTSTAMP:20260422T232506
CREATED:20260123T161859Z
LAST-MODIFIED:20260123T161859Z
UID:10000396-1820401200-1820404200@marionseniors.org
SUMMARY:BINGO
DESCRIPTION:Join us every Wednesday for bingo at the Fairmont Senior Center
URL:https://marionseniors.org/event/bingo-33/2027-09-08/
LOCATION:Fairmont Senior Center\, 105 Maplewood Drive\, Fairmont\, WV\, 26554\, United States
CATEGORIES:Fairmont
ORGANIZER;CN="Marion Senior Citizens":MAILTO:executivedirector@marionseniors.org
END:VEVENT
BEGIN:VEVENT
DTSTART;TZID=America/New_York:20270914T110000
DTEND;TZID=America/New_York:20270914T115000
DTSTAMP:20260422T232506
CREATED:20260123T162718Z
LAST-MODIFIED:20260123T162718Z
UID:10000657-1820919600-1820922600@marionseniors.org
SUMMARY:BIBLE STUDY
DESCRIPTION:Pastor Lauren Murdoch will lead a weekly Bible study at the Fairmont Senior Center every Tuesday at 11:00 a.m. \nAn ordained minister and chaplain in the Assemblies of God\, Pastor Lauren will guide participants through an engaging\, interactive study of selected passages and seasonal topics. The Bible study is open to everyone\, regardless of religious background\, and all materials will be provided.
URL:https://marionseniors.org/event/bible-study-15/2027-09-14/
LOCATION:Fairmont Senior Center\, 105 Maplewood Drive\, Fairmont\, WV\, 26554\, United States
CATEGORIES:Fairmont
ORGANIZER;CN="Marion Senior Citizens":MAILTO:executivedirector@marionseniors.org
END:VEVENT
BEGIN:VEVENT
DTSTART;TZID=America/New_York:20270915T110000
DTEND;TZID=America/New_York:20270915T115000
DTSTAMP:20260422T232506
CREATED:20260123T161859Z
LAST-MODIFIED:20260123T161859Z
UID:10000397-1821006000-1821009000@marionseniors.org
SUMMARY:BINGO
DESCRIPTION:Join us every Wednesday for bingo at the Fairmont Senior Center
URL:https://marionseniors.org/event/bingo-33/2027-09-15/
LOCATION:Fairmont Senior Center\, 105 Maplewood Drive\, Fairmont\, WV\, 26554\, United States
CATEGORIES:Fairmont
ORGANIZER;CN="Marion Senior Citizens":MAILTO:executivedirector@marionseniors.org
END:VEVENT
BEGIN:VEVENT
DTSTART;TZID=America/New_York:20270921T110000
DTEND;TZID=America/New_York:20270921T115000
DTSTAMP:20260422T232506
CREATED:20260123T162718Z
LAST-MODIFIED:20260123T162718Z
UID:10000658-1821524400-1821527400@marionseniors.org
SUMMARY:BIBLE STUDY
DESCRIPTION:Pastor Lauren Murdoch will lead a weekly Bible study at the Fairmont Senior Center every Tuesday at 11:00 a.m. \nAn ordained minister and chaplain in the Assemblies of God\, Pastor Lauren will guide participants through an engaging\, interactive study of selected passages and seasonal topics. The Bible study is open to everyone\, regardless of religious background\, and all materials will be provided.
URL:https://marionseniors.org/event/bible-study-15/2027-09-21/
LOCATION:Fairmont Senior Center\, 105 Maplewood Drive\, Fairmont\, WV\, 26554\, United States
CATEGORIES:Fairmont
ORGANIZER;CN="Marion Senior Citizens":MAILTO:executivedirector@marionseniors.org
END:VEVENT
BEGIN:VEVENT
DTSTART;TZID=America/New_York:20270922T110000
DTEND;TZID=America/New_York:20270922T115000
DTSTAMP:20260422T232506
CREATED:20260123T161859Z
LAST-MODIFIED:20260123T161859Z
UID:10000398-1821610800-1821613800@marionseniors.org
SUMMARY:BINGO
DESCRIPTION:Join us every Wednesday for bingo at the Fairmont Senior Center
URL:https://marionseniors.org/event/bingo-33/2027-09-22/
LOCATION:Fairmont Senior Center\, 105 Maplewood Drive\, Fairmont\, WV\, 26554\, United States
CATEGORIES:Fairmont
ORGANIZER;CN="Marion Senior Citizens":MAILTO:executivedirector@marionseniors.org
END:VEVENT
BEGIN:VEVENT
DTSTART;TZID=America/New_York:20270928T110000
DTEND;TZID=America/New_York:20270928T115000
DTSTAMP:20260422T232506
CREATED:20260123T162718Z
LAST-MODIFIED:20260123T162718Z
UID:10000659-1822129200-1822132200@marionseniors.org
SUMMARY:BIBLE STUDY
DESCRIPTION:Pastor Lauren Murdoch will lead a weekly Bible study at the Fairmont Senior Center every Tuesday at 11:00 a.m. \nAn ordained minister and chaplain in the Assemblies of God\, Pastor Lauren will guide participants through an engaging\, interactive study of selected passages and seasonal topics. The Bible study is open to everyone\, regardless of religious background\, and all materials will be provided.
URL:https://marionseniors.org/event/bible-study-15/2027-09-28/
LOCATION:Fairmont Senior Center\, 105 Maplewood Drive\, Fairmont\, WV\, 26554\, United States
CATEGORIES:Fairmont
ORGANIZER;CN="Marion Senior Citizens":MAILTO:executivedirector@marionseniors.org
END:VEVENT
BEGIN:VEVENT
DTSTART;TZID=America/New_York:20270929T110000
DTEND;TZID=America/New_York:20270929T115000
DTSTAMP:20260422T232506
CREATED:20260123T161859Z
LAST-MODIFIED:20260123T161859Z
UID:10000399-1822215600-1822218600@marionseniors.org
SUMMARY:BINGO
DESCRIPTION:Join us every Wednesday for bingo at the Fairmont Senior Center
URL:https://marionseniors.org/event/bingo-33/2027-09-29/
LOCATION:Fairmont Senior Center\, 105 Maplewood Drive\, Fairmont\, WV\, 26554\, United States
CATEGORIES:Fairmont
ORGANIZER;CN="Marion Senior Citizens":MAILTO:executivedirector@marionseniors.org
END:VEVENT
BEGIN:VEVENT
DTSTART;TZID=America/New_York:20271005T110000
DTEND;TZID=America/New_York:20271005T115000
DTSTAMP:20260422T232506
CREATED:20260123T162718Z
LAST-MODIFIED:20260123T162718Z
UID:10000660-1822734000-1822737000@marionseniors.org
SUMMARY:BIBLE STUDY
DESCRIPTION:Pastor Lauren Murdoch will lead a weekly Bible study at the Fairmont Senior Center every Tuesday at 11:00 a.m. \nAn ordained minister and chaplain in the Assemblies of God\, Pastor Lauren will guide participants through an engaging\, interactive study of selected passages and seasonal topics. The Bible study is open to everyone\, regardless of religious background\, and all materials will be provided.
URL:https://marionseniors.org/event/bible-study-15/2027-10-05/
LOCATION:Fairmont Senior Center\, 105 Maplewood Drive\, Fairmont\, WV\, 26554\, United States
CATEGORIES:Fairmont
ORGANIZER;CN="Marion Senior Citizens":MAILTO:executivedirector@marionseniors.org
END:VEVENT
BEGIN:VEVENT
DTSTART;TZID=America/New_York:20271006T110000
DTEND;TZID=America/New_York:20271006T115000
DTSTAMP:20260422T232506
CREATED:20260123T161859Z
LAST-MODIFIED:20260123T161859Z
UID:10000400-1822820400-1822823400@marionseniors.org
SUMMARY:BINGO
DESCRIPTION:Join us every Wednesday for bingo at the Fairmont Senior Center
URL:https://marionseniors.org/event/bingo-33/2027-10-06/
LOCATION:Fairmont Senior Center\, 105 Maplewood Drive\, Fairmont\, WV\, 26554\, United States
CATEGORIES:Fairmont
ORGANIZER;CN="Marion Senior Citizens":MAILTO:executivedirector@marionseniors.org
END:VEVENT
END:VCALENDAR