BEGIN:VCALENDAR
VERSION:2.0
PRODID:-//Marion County Senior Center - ECPv6.15.17.1//NONSGML v1.0//EN
CALSCALE:GREGORIAN
METHOD:PUBLISH
X-ORIGINAL-URL:https://marionseniors.org
X-WR-CALDESC:Events for Marion County Senior Center
REFRESH-INTERVAL;VALUE=DURATION:PT1H
X-Robots-Tag:noindex
X-PUBLISHED-TTL:PT1H
BEGIN:VTIMEZONE
TZID:America/New_York
BEGIN:DAYLIGHT
TZOFFSETFROM:-0500
TZOFFSETTO:-0400
TZNAME:EDT
DTSTART:20250309T070000
END:DAYLIGHT
BEGIN:STANDARD
TZOFFSETFROM:-0400
TZOFFSETTO:-0500
TZNAME:EST
DTSTART:20251102T060000
END:STANDARD
BEGIN:DAYLIGHT
TZOFFSETFROM:-0500
TZOFFSETTO:-0400
TZNAME:EDT
DTSTART:20260308T070000
END:DAYLIGHT
BEGIN:STANDARD
TZOFFSETFROM:-0400
TZOFFSETTO:-0500
TZNAME:EST
DTSTART:20261101T060000
END:STANDARD
BEGIN:DAYLIGHT
TZOFFSETFROM:-0500
TZOFFSETTO:-0400
TZNAME:EDT
DTSTART:20270314T070000
END:DAYLIGHT
BEGIN:STANDARD
TZOFFSETFROM:-0400
TZOFFSETTO:-0500
TZNAME:EST
DTSTART:20271107T060000
END:STANDARD
END:VTIMEZONE
BEGIN:VEVENT
DTSTART;TZID=America/New_York:20260511T123000
DTEND;TZID=America/New_York:20260511T133000
DTSTAMP:20260424T145642
CREATED:20260416T133855Z
LAST-MODIFIED:20260416T133855Z
UID:10002673-1778502600-1778506200@marionseniors.org
SUMMARY:Craft w/MPLS
DESCRIPTION:We are excited to welcome the Mannington Public Library to the center to lead us in a spring craft.
URL:https://marionseniors.org/event/craft-w-mpls/
LOCATION:North Marion Senior Center\, 1 Senior Drive\, Mannington\, WV\, 26582\, United States
CATEGORIES:North Marion
ORGANIZER;CN="Marion Senior Citizens":MAILTO:executivedirector@marionseniors.org
END:VEVENT
BEGIN:VEVENT
DTSTART;TZID=America/New_York:20260512T093000
DTEND;TZID=America/New_York:20260512T103000
DTSTAMP:20260424T145642
CREATED:20260123T165045Z
LAST-MODIFIED:20260123T165045Z
UID:10001627-1778578200-1778581800@marionseniors.org
SUMMARY:💃🏼🕺🏼 LINE DANCING
DESCRIPTION:Grab your friends and come kick up your heels during North Marion Center’s line dancing! Whether you’re a seasoned dancer or just want to try something new\, it’s all about fun\, music\, and great company.\n\n\n\nNo partner needed—just bring your energy and a smile! Let’s make some memories on the dance floor. \nBring your crew because it’s time to boot & scoot!
URL:https://marionseniors.org/event/%f0%9f%92%83%f0%9f%8f%bc%f0%9f%95%ba%f0%9f%8f%bc-line-dancing/2026-05-12/
LOCATION:North Marion Senior Center\, 1 Senior Drive\, Mannington\, WV\, 26582\, United States
CATEGORIES:North Marion
ORGANIZER;CN="Marion Senior Citizens":MAILTO:executivedirector@marionseniors.org
END:VEVENT
BEGIN:VEVENT
DTSTART;TZID=America/New_York:20260514T110000
DTEND;TZID=America/New_York:20260514T115000
DTSTAMP:20260424T145642
CREATED:20260123T164348Z
LAST-MODIFIED:20260123T164348Z
UID:10001367-1778756400-1778759400@marionseniors.org
SUMMARY:BINGO
DESCRIPTION:Join us at the North Marion Senior Center every Monday and Thursday for a morning of bingo fun.
URL:https://marionseniors.org/event/bingo-35/2026-05-14/
LOCATION:North Marion Senior Center\, 1 Senior Drive\, Mannington\, WV\, 26582\, United States
CATEGORIES:North Marion
ORGANIZER;CN="Marion Senior Citizens":MAILTO:executivedirector@marionseniors.org
END:VEVENT
BEGIN:VEVENT
DTSTART;TZID=America/New_York:20260514T123000
DTEND;TZID=America/New_York:20260514T133000
DTSTAMP:20260424T145642
CREATED:20260423T131302Z
LAST-MODIFIED:20260423T131302Z
UID:10002834-1778761800-1778765400@marionseniors.org
SUMMARY:STROKE AWARENESS W/ ENCOMPASS HEALTH
DESCRIPTION:Kristie from Encompass Health will be at the center for an interactive session on stroke awareness.
URL:https://marionseniors.org/event/stroke-awareness-w-encompass-health-2/
LOCATION:North Marion Senior Center\, 1 Senior Drive\, Mannington\, WV\, 26582\, United States
CATEGORIES:North Marion
ORGANIZER;CN="Marion Senior Citizens":MAILTO:executivedirector@marionseniors.org
END:VEVENT
BEGIN:VEVENT
DTSTART;TZID=America/New_York:20260515T123000
DTEND;TZID=America/New_York:20260515T133000
DTSTAMP:20260424T145642
CREATED:20260416T132140Z
LAST-MODIFIED:20260416T132140Z
UID:10002414-1778848200-1778851800@marionseniors.org
SUMMARY:Bible Study
DESCRIPTION:Pastor Lauren Murdoch will lead a weekly Bible study at the North Marion Senior Center every Friday at 12:30 p.m. \nAn ordained minister and chaplain in the Assemblies of God\, Pastor Lauren will guide participants through an engaging\, interactive study of selected passages and seasonal topics. The Bible study is open to everyone\, regardless of religious background\, and all materials will be provided.
URL:https://marionseniors.org/event/bible-study-17/2026-05-15/
LOCATION:North Marion Senior Center\, 1 Senior Drive\, Mannington\, WV\, 26582\, United States
CATEGORIES:North Marion
ORGANIZER;CN="Marion Senior Citizens":MAILTO:executivedirector@marionseniors.org
END:VEVENT
BEGIN:VEVENT
DTSTART;TZID=America/New_York:20260518T110000
DTEND;TZID=America/New_York:20260518T114500
DTSTAMP:20260424T145642
CREATED:20260123T164235Z
LAST-MODIFIED:20260123T164235Z
UID:10001108-1779102000-1779104700@marionseniors.org
SUMMARY:BINGO
DESCRIPTION:Join us at the North Marion Senior Center every Monday and Thursday for a morning of bingo fun.
URL:https://marionseniors.org/event/bingo-34/2026-05-18/
LOCATION:North Marion Senior Center\, 1 Senior Drive\, Mannington\, WV\, 26582\, United States
CATEGORIES:North Marion
ORGANIZER;CN="Marion Senior Citizens":MAILTO:executivedirector@marionseniors.org
END:VEVENT
BEGIN:VEVENT
DTSTART;TZID=America/New_York:20260519T093000
DTEND;TZID=America/New_York:20260519T103000
DTSTAMP:20260424T145642
CREATED:20260123T165045Z
LAST-MODIFIED:20260123T165045Z
UID:10001628-1779183000-1779186600@marionseniors.org
SUMMARY:💃🏼🕺🏼 LINE DANCING
DESCRIPTION:Grab your friends and come kick up your heels during North Marion Center’s line dancing! Whether you’re a seasoned dancer or just want to try something new\, it’s all about fun\, music\, and great company.\n\n\n\nNo partner needed—just bring your energy and a smile! Let’s make some memories on the dance floor. \nBring your crew because it’s time to boot & scoot!
URL:https://marionseniors.org/event/%f0%9f%92%83%f0%9f%8f%bc%f0%9f%95%ba%f0%9f%8f%bc-line-dancing/2026-05-19/
LOCATION:North Marion Senior Center\, 1 Senior Drive\, Mannington\, WV\, 26582\, United States
CATEGORIES:North Marion
ORGANIZER;CN="Marion Senior Citizens":MAILTO:executivedirector@marionseniors.org
END:VEVENT
BEGIN:VEVENT
DTSTART;TZID=America/New_York:20260521T110000
DTEND;TZID=America/New_York:20260521T115000
DTSTAMP:20260424T145642
CREATED:20260123T164348Z
LAST-MODIFIED:20260123T164348Z
UID:10001368-1779361200-1779364200@marionseniors.org
SUMMARY:BINGO
DESCRIPTION:Join us at the North Marion Senior Center every Monday and Thursday for a morning of bingo fun.
URL:https://marionseniors.org/event/bingo-35/2026-05-21/
LOCATION:North Marion Senior Center\, 1 Senior Drive\, Mannington\, WV\, 26582\, United States
CATEGORIES:North Marion
ORGANIZER;CN="Marion Senior Citizens":MAILTO:executivedirector@marionseniors.org
END:VEVENT
BEGIN:VEVENT
DTSTART;TZID=America/New_York:20260522T123000
DTEND;TZID=America/New_York:20260522T133000
DTSTAMP:20260424T145642
CREATED:20260416T132140Z
LAST-MODIFIED:20260416T132140Z
UID:10002415-1779453000-1779456600@marionseniors.org
SUMMARY:Bible Study
DESCRIPTION:Pastor Lauren Murdoch will lead a weekly Bible study at the North Marion Senior Center every Friday at 12:30 p.m. \nAn ordained minister and chaplain in the Assemblies of God\, Pastor Lauren will guide participants through an engaging\, interactive study of selected passages and seasonal topics. The Bible study is open to everyone\, regardless of religious background\, and all materials will be provided.
URL:https://marionseniors.org/event/bible-study-17/2026-05-22/
LOCATION:North Marion Senior Center\, 1 Senior Drive\, Mannington\, WV\, 26582\, United States
CATEGORIES:North Marion
ORGANIZER;CN="Marion Senior Citizens":MAILTO:executivedirector@marionseniors.org
END:VEVENT
BEGIN:VEVENT
DTSTART;TZID=America/New_York:20260522T123000
DTEND;TZID=America/New_York:20260522T133000
DTSTAMP:20260424T145642
CREATED:20260416T132655Z
LAST-MODIFIED:20260416T132655Z
UID:10002672-1779453000-1779456600@marionseniors.org
SUMMARY:Book Club
DESCRIPTION:Join us for our monthly book club\, where we discuss the past month’s read and look forward to a new novel.
URL:https://marionseniors.org/event/book-club-3/
LOCATION:North Marion Senior Center\, 1 Senior Drive\, Mannington\, WV\, 26582\, United States
CATEGORIES:North Marion
ORGANIZER;CN="Marion Senior Citizens":MAILTO:executivedirector@marionseniors.org
END:VEVENT
BEGIN:VEVENT
DTSTART;TZID=America/New_York:20260525T080000
DTEND;TZID=America/New_York:20260525T160000
DTSTAMP:20260424T145642
CREATED:20260423T133040Z
LAST-MODIFIED:20260423T133040Z
UID:10002838-1779696000-1779724800@marionseniors.org
SUMMARY:CLOSED - MEMORIAL DAY
DESCRIPTION:
URL:https://marionseniors.org/event/closed-memorial-day-3/
LOCATION:North Marion Senior Center\, 1 Senior Drive\, Mannington\, WV\, 26582\, United States
CATEGORIES:North Marion
ORGANIZER;CN="Marion Senior Citizens":MAILTO:executivedirector@marionseniors.org
END:VEVENT
BEGIN:VEVENT
DTSTART;TZID=America/New_York:20260525T110000
DTEND;TZID=America/New_York:20260525T114500
DTSTAMP:20260424T145642
CREATED:20260123T164235Z
LAST-MODIFIED:20260123T164235Z
UID:10001109-1779706800-1779709500@marionseniors.org
SUMMARY:BINGO
DESCRIPTION:Join us at the North Marion Senior Center every Monday and Thursday for a morning of bingo fun.
URL:https://marionseniors.org/event/bingo-34/2026-05-25/
LOCATION:North Marion Senior Center\, 1 Senior Drive\, Mannington\, WV\, 26582\, United States
CATEGORIES:North Marion
ORGANIZER;CN="Marion Senior Citizens":MAILTO:executivedirector@marionseniors.org
END:VEVENT
BEGIN:VEVENT
DTSTART;TZID=America/New_York:20260528T110000
DTEND;TZID=America/New_York:20260528T115000
DTSTAMP:20260424T145642
CREATED:20260123T164348Z
LAST-MODIFIED:20260123T164348Z
UID:10001369-1779966000-1779969000@marionseniors.org
SUMMARY:BINGO
DESCRIPTION:Join us at the North Marion Senior Center every Monday and Thursday for a morning of bingo fun.
URL:https://marionseniors.org/event/bingo-35/2026-05-28/
LOCATION:North Marion Senior Center\, 1 Senior Drive\, Mannington\, WV\, 26582\, United States
CATEGORIES:North Marion
ORGANIZER;CN="Marion Senior Citizens":MAILTO:executivedirector@marionseniors.org
END:VEVENT
BEGIN:VEVENT
DTSTART;TZID=America/New_York:20260529T123000
DTEND;TZID=America/New_York:20260529T133000
DTSTAMP:20260424T145642
CREATED:20260416T132140Z
LAST-MODIFIED:20260416T132140Z
UID:10002416-1780057800-1780061400@marionseniors.org
SUMMARY:Bible Study
DESCRIPTION:Pastor Lauren Murdoch will lead a weekly Bible study at the North Marion Senior Center every Friday at 12:30 p.m. \nAn ordained minister and chaplain in the Assemblies of God\, Pastor Lauren will guide participants through an engaging\, interactive study of selected passages and seasonal topics. The Bible study is open to everyone\, regardless of religious background\, and all materials will be provided.
URL:https://marionseniors.org/event/bible-study-17/2026-05-29/
LOCATION:North Marion Senior Center\, 1 Senior Drive\, Mannington\, WV\, 26582\, United States
CATEGORIES:North Marion
ORGANIZER;CN="Marion Senior Citizens":MAILTO:executivedirector@marionseniors.org
END:VEVENT
BEGIN:VEVENT
DTSTART;TZID=America/New_York:20260601T110000
DTEND;TZID=America/New_York:20260601T114500
DTSTAMP:20260424T145642
CREATED:20260123T164235Z
LAST-MODIFIED:20260123T164235Z
UID:10001110-1780311600-1780314300@marionseniors.org
SUMMARY:BINGO
DESCRIPTION:Join us at the North Marion Senior Center every Monday and Thursday for a morning of bingo fun.
URL:https://marionseniors.org/event/bingo-34/2026-06-01/
LOCATION:North Marion Senior Center\, 1 Senior Drive\, Mannington\, WV\, 26582\, United States
CATEGORIES:North Marion
ORGANIZER;CN="Marion Senior Citizens":MAILTO:executivedirector@marionseniors.org
END:VEVENT
BEGIN:VEVENT
DTSTART;TZID=America/New_York:20260604T110000
DTEND;TZID=America/New_York:20260604T115000
DTSTAMP:20260424T145642
CREATED:20260123T164348Z
LAST-MODIFIED:20260123T164348Z
UID:10001370-1780570800-1780573800@marionseniors.org
SUMMARY:BINGO
DESCRIPTION:Join us at the North Marion Senior Center every Monday and Thursday for a morning of bingo fun.
URL:https://marionseniors.org/event/bingo-35/2026-06-04/
LOCATION:North Marion Senior Center\, 1 Senior Drive\, Mannington\, WV\, 26582\, United States
CATEGORIES:North Marion
ORGANIZER;CN="Marion Senior Citizens":MAILTO:executivedirector@marionseniors.org
END:VEVENT
BEGIN:VEVENT
DTSTART;TZID=America/New_York:20260605T123000
DTEND;TZID=America/New_York:20260605T133000
DTSTAMP:20260424T145642
CREATED:20260416T132140Z
LAST-MODIFIED:20260416T132140Z
UID:10002417-1780662600-1780666200@marionseniors.org
SUMMARY:Bible Study
DESCRIPTION:Pastor Lauren Murdoch will lead a weekly Bible study at the North Marion Senior Center every Friday at 12:30 p.m. \nAn ordained minister and chaplain in the Assemblies of God\, Pastor Lauren will guide participants through an engaging\, interactive study of selected passages and seasonal topics. The Bible study is open to everyone\, regardless of religious background\, and all materials will be provided.
URL:https://marionseniors.org/event/bible-study-17/2026-06-05/
LOCATION:North Marion Senior Center\, 1 Senior Drive\, Mannington\, WV\, 26582\, United States
CATEGORIES:North Marion
ORGANIZER;CN="Marion Senior Citizens":MAILTO:executivedirector@marionseniors.org
END:VEVENT
BEGIN:VEVENT
DTSTART;TZID=America/New_York:20260608T110000
DTEND;TZID=America/New_York:20260608T114500
DTSTAMP:20260424T145642
CREATED:20260123T164235Z
LAST-MODIFIED:20260123T164235Z
UID:10001111-1780916400-1780919100@marionseniors.org
SUMMARY:BINGO
DESCRIPTION:Join us at the North Marion Senior Center every Monday and Thursday for a morning of bingo fun.
URL:https://marionseniors.org/event/bingo-34/2026-06-08/
LOCATION:North Marion Senior Center\, 1 Senior Drive\, Mannington\, WV\, 26582\, United States
CATEGORIES:North Marion
ORGANIZER;CN="Marion Senior Citizens":MAILTO:executivedirector@marionseniors.org
END:VEVENT
BEGIN:VEVENT
DTSTART;TZID=America/New_York:20260611T110000
DTEND;TZID=America/New_York:20260611T115000
DTSTAMP:20260424T145642
CREATED:20260123T164348Z
LAST-MODIFIED:20260123T164348Z
UID:10001371-1781175600-1781178600@marionseniors.org
SUMMARY:BINGO
DESCRIPTION:Join us at the North Marion Senior Center every Monday and Thursday for a morning of bingo fun.
URL:https://marionseniors.org/event/bingo-35/2026-06-11/
LOCATION:North Marion Senior Center\, 1 Senior Drive\, Mannington\, WV\, 26582\, United States
CATEGORIES:North Marion
ORGANIZER;CN="Marion Senior Citizens":MAILTO:executivedirector@marionseniors.org
END:VEVENT
BEGIN:VEVENT
DTSTART;TZID=America/New_York:20260612T123000
DTEND;TZID=America/New_York:20260612T133000
DTSTAMP:20260424T145642
CREATED:20260416T132140Z
LAST-MODIFIED:20260416T132140Z
UID:10002418-1781267400-1781271000@marionseniors.org
SUMMARY:Bible Study
DESCRIPTION:Pastor Lauren Murdoch will lead a weekly Bible study at the North Marion Senior Center every Friday at 12:30 p.m. \nAn ordained minister and chaplain in the Assemblies of God\, Pastor Lauren will guide participants through an engaging\, interactive study of selected passages and seasonal topics. The Bible study is open to everyone\, regardless of religious background\, and all materials will be provided.
URL:https://marionseniors.org/event/bible-study-17/2026-06-12/
LOCATION:North Marion Senior Center\, 1 Senior Drive\, Mannington\, WV\, 26582\, United States
CATEGORIES:North Marion
ORGANIZER;CN="Marion Senior Citizens":MAILTO:executivedirector@marionseniors.org
END:VEVENT
BEGIN:VEVENT
DTSTART;TZID=America/New_York:20260615T110000
DTEND;TZID=America/New_York:20260615T114500
DTSTAMP:20260424T145642
CREATED:20260123T164235Z
LAST-MODIFIED:20260123T164235Z
UID:10001112-1781521200-1781523900@marionseniors.org
SUMMARY:BINGO
DESCRIPTION:Join us at the North Marion Senior Center every Monday and Thursday for a morning of bingo fun.
URL:https://marionseniors.org/event/bingo-34/2026-06-15/
LOCATION:North Marion Senior Center\, 1 Senior Drive\, Mannington\, WV\, 26582\, United States
CATEGORIES:North Marion
ORGANIZER;CN="Marion Senior Citizens":MAILTO:executivedirector@marionseniors.org
END:VEVENT
BEGIN:VEVENT
DTSTART;TZID=America/New_York:20260618T110000
DTEND;TZID=America/New_York:20260618T115000
DTSTAMP:20260424T145642
CREATED:20260123T164348Z
LAST-MODIFIED:20260123T164348Z
UID:10001372-1781780400-1781783400@marionseniors.org
SUMMARY:BINGO
DESCRIPTION:Join us at the North Marion Senior Center every Monday and Thursday for a morning of bingo fun.
URL:https://marionseniors.org/event/bingo-35/2026-06-18/
LOCATION:North Marion Senior Center\, 1 Senior Drive\, Mannington\, WV\, 26582\, United States
CATEGORIES:North Marion
ORGANIZER;CN="Marion Senior Citizens":MAILTO:executivedirector@marionseniors.org
END:VEVENT
BEGIN:VEVENT
DTSTART;TZID=America/New_York:20260619T123000
DTEND;TZID=America/New_York:20260619T133000
DTSTAMP:20260424T145642
CREATED:20260416T132140Z
LAST-MODIFIED:20260416T132140Z
UID:10002419-1781872200-1781875800@marionseniors.org
SUMMARY:Bible Study
DESCRIPTION:Pastor Lauren Murdoch will lead a weekly Bible study at the North Marion Senior Center every Friday at 12:30 p.m. \nAn ordained minister and chaplain in the Assemblies of God\, Pastor Lauren will guide participants through an engaging\, interactive study of selected passages and seasonal topics. The Bible study is open to everyone\, regardless of religious background\, and all materials will be provided.
URL:https://marionseniors.org/event/bible-study-17/2026-06-19/
LOCATION:North Marion Senior Center\, 1 Senior Drive\, Mannington\, WV\, 26582\, United States
CATEGORIES:North Marion
ORGANIZER;CN="Marion Senior Citizens":MAILTO:executivedirector@marionseniors.org
END:VEVENT
BEGIN:VEVENT
DTSTART;TZID=America/New_York:20260622T110000
DTEND;TZID=America/New_York:20260622T114500
DTSTAMP:20260424T145642
CREATED:20260123T164235Z
LAST-MODIFIED:20260123T164235Z
UID:10001113-1782126000-1782128700@marionseniors.org
SUMMARY:BINGO
DESCRIPTION:Join us at the North Marion Senior Center every Monday and Thursday for a morning of bingo fun.
URL:https://marionseniors.org/event/bingo-34/2026-06-22/
LOCATION:North Marion Senior Center\, 1 Senior Drive\, Mannington\, WV\, 26582\, United States
CATEGORIES:North Marion
ORGANIZER;CN="Marion Senior Citizens":MAILTO:executivedirector@marionseniors.org
END:VEVENT
BEGIN:VEVENT
DTSTART;TZID=America/New_York:20260625T110000
DTEND;TZID=America/New_York:20260625T115000
DTSTAMP:20260424T145642
CREATED:20260123T164348Z
LAST-MODIFIED:20260123T164348Z
UID:10001373-1782385200-1782388200@marionseniors.org
SUMMARY:BINGO
DESCRIPTION:Join us at the North Marion Senior Center every Monday and Thursday for a morning of bingo fun.
URL:https://marionseniors.org/event/bingo-35/2026-06-25/
LOCATION:North Marion Senior Center\, 1 Senior Drive\, Mannington\, WV\, 26582\, United States
CATEGORIES:North Marion
ORGANIZER;CN="Marion Senior Citizens":MAILTO:executivedirector@marionseniors.org
END:VEVENT
BEGIN:VEVENT
DTSTART;TZID=America/New_York:20260626T123000
DTEND;TZID=America/New_York:20260626T133000
DTSTAMP:20260424T145642
CREATED:20260416T132140Z
LAST-MODIFIED:20260416T132140Z
UID:10002420-1782477000-1782480600@marionseniors.org
SUMMARY:Bible Study
DESCRIPTION:Pastor Lauren Murdoch will lead a weekly Bible study at the North Marion Senior Center every Friday at 12:30 p.m. \nAn ordained minister and chaplain in the Assemblies of God\, Pastor Lauren will guide participants through an engaging\, interactive study of selected passages and seasonal topics. The Bible study is open to everyone\, regardless of religious background\, and all materials will be provided.
URL:https://marionseniors.org/event/bible-study-17/2026-06-26/
LOCATION:North Marion Senior Center\, 1 Senior Drive\, Mannington\, WV\, 26582\, United States
CATEGORIES:North Marion
ORGANIZER;CN="Marion Senior Citizens":MAILTO:executivedirector@marionseniors.org
END:VEVENT
BEGIN:VEVENT
DTSTART;TZID=America/New_York:20260629T110000
DTEND;TZID=America/New_York:20260629T114500
DTSTAMP:20260424T145642
CREATED:20260123T164235Z
LAST-MODIFIED:20260123T164235Z
UID:10001114-1782730800-1782733500@marionseniors.org
SUMMARY:BINGO
DESCRIPTION:Join us at the North Marion Senior Center every Monday and Thursday for a morning of bingo fun.
URL:https://marionseniors.org/event/bingo-34/2026-06-29/
LOCATION:North Marion Senior Center\, 1 Senior Drive\, Mannington\, WV\, 26582\, United States
CATEGORIES:North Marion
ORGANIZER;CN="Marion Senior Citizens":MAILTO:executivedirector@marionseniors.org
END:VEVENT
BEGIN:VEVENT
DTSTART;TZID=America/New_York:20260702T110000
DTEND;TZID=America/New_York:20260702T115000
DTSTAMP:20260424T145642
CREATED:20260123T164348Z
LAST-MODIFIED:20260123T164348Z
UID:10001374-1782990000-1782993000@marionseniors.org
SUMMARY:BINGO
DESCRIPTION:Join us at the North Marion Senior Center every Monday and Thursday for a morning of bingo fun.
URL:https://marionseniors.org/event/bingo-35/2026-07-02/
LOCATION:North Marion Senior Center\, 1 Senior Drive\, Mannington\, WV\, 26582\, United States
CATEGORIES:North Marion
ORGANIZER;CN="Marion Senior Citizens":MAILTO:executivedirector@marionseniors.org
END:VEVENT
BEGIN:VEVENT
DTSTART;TZID=America/New_York:20260703T123000
DTEND;TZID=America/New_York:20260703T133000
DTSTAMP:20260424T145642
CREATED:20260416T132140Z
LAST-MODIFIED:20260416T132140Z
UID:10002421-1783081800-1783085400@marionseniors.org
SUMMARY:Bible Study
DESCRIPTION:Pastor Lauren Murdoch will lead a weekly Bible study at the North Marion Senior Center every Friday at 12:30 p.m. \nAn ordained minister and chaplain in the Assemblies of God\, Pastor Lauren will guide participants through an engaging\, interactive study of selected passages and seasonal topics. The Bible study is open to everyone\, regardless of religious background\, and all materials will be provided.
URL:https://marionseniors.org/event/bible-study-17/2026-07-03/
LOCATION:North Marion Senior Center\, 1 Senior Drive\, Mannington\, WV\, 26582\, United States
CATEGORIES:North Marion
ORGANIZER;CN="Marion Senior Citizens":MAILTO:executivedirector@marionseniors.org
END:VEVENT
BEGIN:VEVENT
DTSTART;TZID=America/New_York:20260706T110000
DTEND;TZID=America/New_York:20260706T114500
DTSTAMP:20260424T145642
CREATED:20260123T164235Z
LAST-MODIFIED:20260123T164235Z
UID:10001115-1783335600-1783338300@marionseniors.org
SUMMARY:BINGO
DESCRIPTION:Join us at the North Marion Senior Center every Monday and Thursday for a morning of bingo fun.
URL:https://marionseniors.org/event/bingo-34/2026-07-06/
LOCATION:North Marion Senior Center\, 1 Senior Drive\, Mannington\, WV\, 26582\, United States
CATEGORIES:North Marion
ORGANIZER;CN="Marion Senior Citizens":MAILTO:executivedirector@marionseniors.org
END:VEVENT
END:VCALENDAR