BEGIN:VCALENDAR
VERSION:2.0
PRODID:-//Marion County Senior Center - ECPv6.15.17.1//NONSGML v1.0//EN
CALSCALE:GREGORIAN
METHOD:PUBLISH
X-WR-CALNAME:Marion County Senior Center
X-ORIGINAL-URL:https://marionseniors.org
X-WR-CALDESC:Events for Marion County Senior Center
REFRESH-INTERVAL;VALUE=DURATION:PT1H
X-Robots-Tag:noindex
X-PUBLISHED-TTL:PT1H
BEGIN:VTIMEZONE
TZID:America/New_York
BEGIN:DAYLIGHT
TZOFFSETFROM:-0500
TZOFFSETTO:-0400
TZNAME:EDT
DTSTART:20250309T070000
END:DAYLIGHT
BEGIN:STANDARD
TZOFFSETFROM:-0400
TZOFFSETTO:-0500
TZNAME:EST
DTSTART:20251102T060000
END:STANDARD
BEGIN:DAYLIGHT
TZOFFSETFROM:-0500
TZOFFSETTO:-0400
TZNAME:EDT
DTSTART:20260308T070000
END:DAYLIGHT
BEGIN:STANDARD
TZOFFSETFROM:-0400
TZOFFSETTO:-0500
TZNAME:EST
DTSTART:20261101T060000
END:STANDARD
BEGIN:DAYLIGHT
TZOFFSETFROM:-0500
TZOFFSETTO:-0400
TZNAME:EDT
DTSTART:20270314T070000
END:DAYLIGHT
BEGIN:STANDARD
TZOFFSETFROM:-0400
TZOFFSETTO:-0500
TZNAME:EST
DTSTART:20271107T060000
END:STANDARD
END:VTIMEZONE
BEGIN:VEVENT
DTSTART;TZID=America/New_York:20260316T123000
DTEND;TZID=America/New_York:20260316T133000
DTSTAMP:20260422T174947
CREATED:20260305T213359Z
LAST-MODIFIED:20260305T213359Z
UID:10001876-1773664200-1773667800@marionseniors.org
SUMMARY:Craft w/Megan
DESCRIPTION:Megan from the Mannington Public Library will be at the center to lead a fun springtime craft.
URL:https://marionseniors.org/event/craft-w-megan/
LOCATION:North Marion Senior Center\, 1 Senior Drive\, Mannington\, WV\, 26582\, United States
CATEGORIES:North Marion
ORGANIZER;CN="Marion Senior Citizens":MAILTO:executivedirector@marionseniors.org
END:VEVENT
BEGIN:VEVENT
DTSTART;TZID=America/New_York:20260316T110000
DTEND;TZID=America/New_York:20260316T114500
DTSTAMP:20260422T174947
CREATED:20260123T164235Z
LAST-MODIFIED:20260123T164235Z
UID:10001099-1773658800-1773661500@marionseniors.org
SUMMARY:BINGO
DESCRIPTION:Join us at the North Marion Senior Center every Monday and Thursday for a morning of bingo fun.
URL:https://marionseniors.org/event/bingo-34/2026-03-16/
LOCATION:North Marion Senior Center\, 1 Senior Drive\, Mannington\, WV\, 26582\, United States
CATEGORIES:North Marion
ORGANIZER;CN="Marion Senior Citizens":MAILTO:executivedirector@marionseniors.org
END:VEVENT
BEGIN:VEVENT
DTSTART;TZID=America/New_York:20260312T110000
DTEND;TZID=America/New_York:20260312T115000
DTSTAMP:20260422T174947
CREATED:20260123T164348Z
LAST-MODIFIED:20260123T164348Z
UID:10001358-1773313200-1773316200@marionseniors.org
SUMMARY:BINGO
DESCRIPTION:Join us at the North Marion Senior Center every Monday and Thursday for a morning of bingo fun.
URL:https://marionseniors.org/event/bingo-35/2026-03-12/
LOCATION:North Marion Senior Center\, 1 Senior Drive\, Mannington\, WV\, 26582\, United States
CATEGORIES:North Marion
ORGANIZER;CN="Marion Senior Citizens":MAILTO:executivedirector@marionseniors.org
END:VEVENT
BEGIN:VEVENT
DTSTART;TZID=America/New_York:20260310T093000
DTEND;TZID=America/New_York:20260310T103000
DTSTAMP:20260422T174948
CREATED:20260123T165045Z
LAST-MODIFIED:20260123T165045Z
UID:10001618-1773135000-1773138600@marionseniors.org
SUMMARY:💃🏼🕺🏼 LINE DANCING
DESCRIPTION:Grab your friends and come kick up your heels during North Marion Center’s line dancing! Whether you’re a seasoned dancer or just want to try something new\, it’s all about fun\, music\, and great company.\n\n\n\nNo partner needed—just bring your energy and a smile! Let’s make some memories on the dance floor. \nBring your crew because it’s time to boot & scoot!
URL:https://marionseniors.org/event/%f0%9f%92%83%f0%9f%8f%bc%f0%9f%95%ba%f0%9f%8f%bc-line-dancing/2026-03-10/
LOCATION:North Marion Senior Center\, 1 Senior Drive\, Mannington\, WV\, 26582\, United States
CATEGORIES:North Marion
ORGANIZER;CN="Marion Senior Citizens":MAILTO:executivedirector@marionseniors.org
END:VEVENT
BEGIN:VEVENT
DTSTART;TZID=America/New_York:20260309T110000
DTEND;TZID=America/New_York:20260309T114500
DTSTAMP:20260422T174948
CREATED:20260123T164235Z
LAST-MODIFIED:20260123T164235Z
UID:10001098-1773054000-1773056700@marionseniors.org
SUMMARY:BINGO
DESCRIPTION:Join us at the North Marion Senior Center every Monday and Thursday for a morning of bingo fun.
URL:https://marionseniors.org/event/bingo-34/2026-03-09/
LOCATION:North Marion Senior Center\, 1 Senior Drive\, Mannington\, WV\, 26582\, United States
CATEGORIES:North Marion
ORGANIZER;CN="Marion Senior Citizens":MAILTO:executivedirector@marionseniors.org
END:VEVENT
BEGIN:VEVENT
DTSTART;TZID=America/New_York:20260305T110000
DTEND;TZID=America/New_York:20260305T115000
DTSTAMP:20260422T174948
CREATED:20260123T164348Z
LAST-MODIFIED:20260123T164348Z
UID:10001357-1772708400-1772711400@marionseniors.org
SUMMARY:BINGO
DESCRIPTION:Join us at the North Marion Senior Center every Monday and Thursday for a morning of bingo fun.
URL:https://marionseniors.org/event/bingo-35/2026-03-05/
LOCATION:North Marion Senior Center\, 1 Senior Drive\, Mannington\, WV\, 26582\, United States
CATEGORIES:North Marion
ORGANIZER;CN="Marion Senior Citizens":MAILTO:executivedirector@marionseniors.org
END:VEVENT
BEGIN:VEVENT
DTSTART;TZID=America/New_York:20260303T093000
DTEND;TZID=America/New_York:20260303T103000
DTSTAMP:20260422T174948
CREATED:20260123T165045Z
LAST-MODIFIED:20260123T165045Z
UID:10001617-1772530200-1772533800@marionseniors.org
SUMMARY:💃🏼🕺🏼 LINE DANCING
DESCRIPTION:Grab your friends and come kick up your heels during North Marion Center’s line dancing! Whether you’re a seasoned dancer or just want to try something new\, it’s all about fun\, music\, and great company.\n\n\n\nNo partner needed—just bring your energy and a smile! Let’s make some memories on the dance floor. \nBring your crew because it’s time to boot & scoot!
URL:https://marionseniors.org/event/%f0%9f%92%83%f0%9f%8f%bc%f0%9f%95%ba%f0%9f%8f%bc-line-dancing/2026-03-03/
LOCATION:North Marion Senior Center\, 1 Senior Drive\, Mannington\, WV\, 26582\, United States
CATEGORIES:North Marion
ORGANIZER;CN="Marion Senior Citizens":MAILTO:executivedirector@marionseniors.org
END:VEVENT
BEGIN:VEVENT
DTSTART;TZID=America/New_York:20260302T110000
DTEND;TZID=America/New_York:20260302T114500
DTSTAMP:20260422T174948
CREATED:20260123T164235Z
LAST-MODIFIED:20260123T164235Z
UID:10001097-1772449200-1772451900@marionseniors.org
SUMMARY:BINGO
DESCRIPTION:Join us at the North Marion Senior Center every Monday and Thursday for a morning of bingo fun.
URL:https://marionseniors.org/event/bingo-34/2026-03-02/
LOCATION:North Marion Senior Center\, 1 Senior Drive\, Mannington\, WV\, 26582\, United States
CATEGORIES:North Marion
ORGANIZER;CN="Marion Senior Citizens":MAILTO:executivedirector@marionseniors.org
END:VEVENT
BEGIN:VEVENT
DTSTART;TZID=America/New_York:20260226T110000
DTEND;TZID=America/New_York:20260226T115000
DTSTAMP:20260422T174948
CREATED:20260123T164348Z
LAST-MODIFIED:20260123T164348Z
UID:10001356-1772103600-1772106600@marionseniors.org
SUMMARY:BINGO
DESCRIPTION:Join us at the North Marion Senior Center every Monday and Thursday for a morning of bingo fun.
URL:https://marionseniors.org/event/bingo-35/2026-02-26/
LOCATION:North Marion Senior Center\, 1 Senior Drive\, Mannington\, WV\, 26582\, United States
CATEGORIES:North Marion
ORGANIZER;CN="Marion Senior Citizens":MAILTO:executivedirector@marionseniors.org
END:VEVENT
BEGIN:VEVENT
DTSTART;TZID=America/New_York:20260224T093000
DTEND;TZID=America/New_York:20260224T103000
DTSTAMP:20260422T174948
CREATED:20260123T165045Z
LAST-MODIFIED:20260123T165045Z
UID:10001616-1771925400-1771929000@marionseniors.org
SUMMARY:💃🏼🕺🏼 LINE DANCING
DESCRIPTION:Grab your friends and come kick up your heels during North Marion Center’s line dancing! Whether you’re a seasoned dancer or just want to try something new\, it’s all about fun\, music\, and great company.\n\n\n\nNo partner needed—just bring your energy and a smile! Let’s make some memories on the dance floor. \nBring your crew because it’s time to boot & scoot!
URL:https://marionseniors.org/event/%f0%9f%92%83%f0%9f%8f%bc%f0%9f%95%ba%f0%9f%8f%bc-line-dancing/2026-02-24/
LOCATION:North Marion Senior Center\, 1 Senior Drive\, Mannington\, WV\, 26582\, United States
CATEGORIES:North Marion
ORGANIZER;CN="Marion Senior Citizens":MAILTO:executivedirector@marionseniors.org
END:VEVENT
BEGIN:VEVENT
DTSTART;TZID=America/New_York:20260223T110000
DTEND;TZID=America/New_York:20260223T114500
DTSTAMP:20260422T174948
CREATED:20260123T164235Z
LAST-MODIFIED:20260123T164235Z
UID:10001096-1771844400-1771847100@marionseniors.org
SUMMARY:BINGO
DESCRIPTION:Join us at the North Marion Senior Center every Monday and Thursday for a morning of bingo fun.
URL:https://marionseniors.org/event/bingo-34/2026-02-23/
LOCATION:North Marion Senior Center\, 1 Senior Drive\, Mannington\, WV\, 26582\, United States
CATEGORIES:North Marion
ORGANIZER;CN="Marion Senior Citizens":MAILTO:executivedirector@marionseniors.org
END:VEVENT
BEGIN:VEVENT
DTSTART;TZID=America/New_York:20260219T110000
DTEND;TZID=America/New_York:20260219T115000
DTSTAMP:20260422T174948
CREATED:20260123T164348Z
LAST-MODIFIED:20260123T164348Z
UID:10001355-1771498800-1771501800@marionseniors.org
SUMMARY:BINGO
DESCRIPTION:Join us at the North Marion Senior Center every Monday and Thursday for a morning of bingo fun.
URL:https://marionseniors.org/event/bingo-35/2026-02-19/
LOCATION:North Marion Senior Center\, 1 Senior Drive\, Mannington\, WV\, 26582\, United States
CATEGORIES:North Marion
ORGANIZER;CN="Marion Senior Citizens":MAILTO:executivedirector@marionseniors.org
END:VEVENT
BEGIN:VEVENT
DTSTART;TZID=America/New_York:20260217T093000
DTEND;TZID=America/New_York:20260217T103000
DTSTAMP:20260422T174948
CREATED:20260123T165045Z
LAST-MODIFIED:20260123T165045Z
UID:10001615-1771320600-1771324200@marionseniors.org
SUMMARY:💃🏼🕺🏼 LINE DANCING
DESCRIPTION:Grab your friends and come kick up your heels during North Marion Center’s line dancing! Whether you’re a seasoned dancer or just want to try something new\, it’s all about fun\, music\, and great company.\n\n\n\nNo partner needed—just bring your energy and a smile! Let’s make some memories on the dance floor. \nBring your crew because it’s time to boot & scoot!
URL:https://marionseniors.org/event/%f0%9f%92%83%f0%9f%8f%bc%f0%9f%95%ba%f0%9f%8f%bc-line-dancing/2026-02-17/
LOCATION:North Marion Senior Center\, 1 Senior Drive\, Mannington\, WV\, 26582\, United States
CATEGORIES:North Marion
ORGANIZER;CN="Marion Senior Citizens":MAILTO:executivedirector@marionseniors.org
END:VEVENT
BEGIN:VEVENT
DTSTART;TZID=America/New_York:20260216T110000
DTEND;TZID=America/New_York:20260216T114500
DTSTAMP:20260422T174948
CREATED:20260123T164235Z
LAST-MODIFIED:20260123T164235Z
UID:10001095-1771239600-1771242300@marionseniors.org
SUMMARY:BINGO
DESCRIPTION:Join us at the North Marion Senior Center every Monday and Thursday for a morning of bingo fun.
URL:https://marionseniors.org/event/bingo-34/2026-02-16/
LOCATION:North Marion Senior Center\, 1 Senior Drive\, Mannington\, WV\, 26582\, United States
CATEGORIES:North Marion
ORGANIZER;CN="Marion Senior Citizens":MAILTO:executivedirector@marionseniors.org
END:VEVENT
BEGIN:VEVENT
DTSTART;TZID=America/New_York:20260212T110000
DTEND;TZID=America/New_York:20260212T115000
DTSTAMP:20260422T174948
CREATED:20260123T164348Z
LAST-MODIFIED:20260123T164348Z
UID:10001354-1770894000-1770897000@marionseniors.org
SUMMARY:BINGO
DESCRIPTION:Join us at the North Marion Senior Center every Monday and Thursday for a morning of bingo fun.
URL:https://marionseniors.org/event/bingo-35/2026-02-12/
LOCATION:North Marion Senior Center\, 1 Senior Drive\, Mannington\, WV\, 26582\, United States
CATEGORIES:North Marion
ORGANIZER;CN="Marion Senior Citizens":MAILTO:executivedirector@marionseniors.org
END:VEVENT
BEGIN:VEVENT
DTSTART;TZID=America/New_York:20260210T093000
DTEND;TZID=America/New_York:20260210T103000
DTSTAMP:20260422T174948
CREATED:20260123T165045Z
LAST-MODIFIED:20260123T165045Z
UID:10001614-1770715800-1770719400@marionseniors.org
SUMMARY:💃🏼🕺🏼 LINE DANCING
DESCRIPTION:Grab your friends and come kick up your heels during North Marion Center’s line dancing! Whether you’re a seasoned dancer or just want to try something new\, it’s all about fun\, music\, and great company.\n\n\n\nNo partner needed—just bring your energy and a smile! Let’s make some memories on the dance floor. \nBring your crew because it’s time to boot & scoot!
URL:https://marionseniors.org/event/%f0%9f%92%83%f0%9f%8f%bc%f0%9f%95%ba%f0%9f%8f%bc-line-dancing/2026-02-10/
LOCATION:North Marion Senior Center\, 1 Senior Drive\, Mannington\, WV\, 26582\, United States
CATEGORIES:North Marion
ORGANIZER;CN="Marion Senior Citizens":MAILTO:executivedirector@marionseniors.org
END:VEVENT
BEGIN:VEVENT
DTSTART;TZID=America/New_York:20260209T110000
DTEND;TZID=America/New_York:20260209T114500
DTSTAMP:20260422T174948
CREATED:20260123T164235Z
LAST-MODIFIED:20260123T164235Z
UID:10001094-1770634800-1770637500@marionseniors.org
SUMMARY:BINGO
DESCRIPTION:Join us at the North Marion Senior Center every Monday and Thursday for a morning of bingo fun.
URL:https://marionseniors.org/event/bingo-34/2026-02-09/
LOCATION:North Marion Senior Center\, 1 Senior Drive\, Mannington\, WV\, 26582\, United States
CATEGORIES:North Marion
ORGANIZER;CN="Marion Senior Citizens":MAILTO:executivedirector@marionseniors.org
END:VEVENT
BEGIN:VEVENT
DTSTART;TZID=America/New_York:20260205T110000
DTEND;TZID=America/New_York:20260205T115000
DTSTAMP:20260422T174948
CREATED:20260123T164348Z
LAST-MODIFIED:20260123T164348Z
UID:10001353-1770289200-1770292200@marionseniors.org
SUMMARY:BINGO
DESCRIPTION:Join us at the North Marion Senior Center every Monday and Thursday for a morning of bingo fun.
URL:https://marionseniors.org/event/bingo-35/2026-02-05/
LOCATION:North Marion Senior Center\, 1 Senior Drive\, Mannington\, WV\, 26582\, United States
CATEGORIES:North Marion
ORGANIZER;CN="Marion Senior Citizens":MAILTO:executivedirector@marionseniors.org
END:VEVENT
BEGIN:VEVENT
DTSTART;TZID=America/New_York:20260203T093000
DTEND;TZID=America/New_York:20260203T103000
DTSTAMP:20260422T174948
CREATED:20260123T165045Z
LAST-MODIFIED:20260123T165045Z
UID:10001613-1770111000-1770114600@marionseniors.org
SUMMARY:💃🏼🕺🏼 LINE DANCING
DESCRIPTION:Grab your friends and come kick up your heels during North Marion Center’s line dancing! Whether you’re a seasoned dancer or just want to try something new\, it’s all about fun\, music\, and great company.\n\n\n\nNo partner needed—just bring your energy and a smile! Let’s make some memories on the dance floor. \nBring your crew because it’s time to boot & scoot!
URL:https://marionseniors.org/event/%f0%9f%92%83%f0%9f%8f%bc%f0%9f%95%ba%f0%9f%8f%bc-line-dancing/2026-02-03/
LOCATION:North Marion Senior Center\, 1 Senior Drive\, Mannington\, WV\, 26582\, United States
CATEGORIES:North Marion
ORGANIZER;CN="Marion Senior Citizens":MAILTO:executivedirector@marionseniors.org
END:VEVENT
BEGIN:VEVENT
DTSTART;TZID=America/New_York:20260202T110000
DTEND;TZID=America/New_York:20260202T114500
DTSTAMP:20260422T174948
CREATED:20260123T164235Z
LAST-MODIFIED:20260123T164235Z
UID:10001093-1770030000-1770032700@marionseniors.org
SUMMARY:BINGO
DESCRIPTION:Join us at the North Marion Senior Center every Monday and Thursday for a morning of bingo fun.
URL:https://marionseniors.org/event/bingo-34/2026-02-02/
LOCATION:North Marion Senior Center\, 1 Senior Drive\, Mannington\, WV\, 26582\, United States
CATEGORIES:North Marion
ORGANIZER;CN="Marion Senior Citizens":MAILTO:executivedirector@marionseniors.org
END:VEVENT
BEGIN:VEVENT
DTSTART;TZID=America/New_York:20260130T123000
DTEND;TZID=America/New_York:20260130T131500
DTSTAMP:20260422T174948
CREATED:20251231T161237Z
LAST-MODIFIED:20251231T161237Z
UID:10000296-1769776200-1769778900@marionseniors.org
SUMMARY:Chair Yoga W/Lauri
DESCRIPTION:Lauri Brammer will be at the center to lead seniors in chair yoga poses and breathing exercises.
URL:https://marionseniors.org/event/chair-yoga-w-lauri-3/
LOCATION:North Marion Senior Center\, 1 Senior Drive\, Mannington\, WV\, 26582\, United States
CATEGORIES:North Marion
ORGANIZER;CN="Marion Senior Citizens":MAILTO:executivedirector@marionseniors.org
END:VEVENT
BEGIN:VEVENT
DTSTART;TZID=America/New_York:20260129T110000
DTEND;TZID=America/New_York:20260129T114500
DTSTAMP:20260422T174948
CREATED:20251231T164819Z
LAST-MODIFIED:20251231T164819Z
UID:10000311-1769684400-1769687100@marionseniors.org
SUMMARY:Bingo
DESCRIPTION:Join us at the North Marion Senior Center every Monday and Thursday for a morning of bingo fun.
URL:https://marionseniors.org/event/bingo-31/
LOCATION:North Marion Senior Center\, 1 Senior Drive\, Mannington\, WV\, 26582\, United States
CATEGORIES:North Marion
ORGANIZER;CN="Marion Senior Citizens":MAILTO:executivedirector@marionseniors.org
END:VEVENT
BEGIN:VEVENT
DTSTART;TZID=America/New_York:20260127T093000
DTEND;TZID=America/New_York:20260127T103000
DTSTAMP:20260422T174948
CREATED:20251231T162340Z
LAST-MODIFIED:20251231T162340Z
UID:10000304-1769506200-1769509800@marionseniors.org
SUMMARY:🕺💃 Line Dancing at the North Marion Center
DESCRIPTION:Grab your friends and come kick up your heels during North Marion Center’s line dancing! Whether you’re a seasoned dancer or just want to try something new\, it’s all about fun\, music\, and great company.\n\n\n\nNo partner needed—just bring your energy and a smile! Let’s make some memories on the dance floor. \nBring your crew because it’s time to boot & scoot!
URL:https://marionseniors.org/event/%f0%9f%95%ba%f0%9f%92%83-line-dancing-at-the-north-marion-center-8/
LOCATION:North Marion Senior Center\, 1 Senior Drive\, Mannington\, WV\, 26582\, United States
CATEGORIES:North Marion
ORGANIZER;CN="Marion Senior Citizens":MAILTO:executivedirector@marionseniors.org
END:VEVENT
BEGIN:VEVENT
DTSTART;TZID=America/New_York:20260126T123000
DTEND;TZID=America/New_York:20260126T131500
DTSTAMP:20260422T174948
CREATED:20251231T161358Z
LAST-MODIFIED:20260123T161422Z
UID:10000297-1769430600-1769433300@marionseniors.org
SUMMARY:Tech Help With AT&T - CANCELED
DESCRIPTION:Staff from AT&T will be at the center to help seniors navigate their smartphones and tablets.
URL:https://marionseniors.org/event/tech-help-with-att-3/
LOCATION:North Marion Senior Center\, 1 Senior Drive\, Mannington\, WV\, 26582\, United States
CATEGORIES:North Marion
ORGANIZER;CN="Marion Senior Citizens":MAILTO:executivedirector@marionseniors.org
END:VEVENT
BEGIN:VEVENT
DTSTART;TZID=America/New_York:20260126T110000
DTEND;TZID=America/New_York:20260126T114500
DTSTAMP:20260422T174948
CREATED:20251231T165308Z
LAST-MODIFIED:20251231T165308Z
UID:10000312-1769425200-1769427900@marionseniors.org
SUMMARY:Bingo
DESCRIPTION:Join us at the North Marion Senior Center every Monday and Thursday for a morning of bingo fun.
URL:https://marionseniors.org/event/bingo-32/
LOCATION:North Marion Senior Center\, 1 Senior Drive\, Mannington\, WV\, 26582\, United States
CATEGORIES:North Marion
ORGANIZER;CN="Marion Senior Citizens":MAILTO:executivedirector@marionseniors.org
END:VEVENT
BEGIN:VEVENT
DTSTART;TZID=America/New_York:20260122T123000
DTEND;TZID=America/New_York:20260122T124500
DTSTAMP:20260422T174948
CREATED:20251231T161556Z
LAST-MODIFIED:20251231T161556Z
UID:10000298-1769085000-1769085900@marionseniors.org
SUMMARY:Birthday Party 🎉
DESCRIPTION:Join us after lunch as we honor our friends celebrating January birthdays.
URL:https://marionseniors.org/event/birthday-party-%f0%9f%8e%89/
LOCATION:North Marion Senior Center\, 1 Senior Drive\, Mannington\, WV\, 26582\, United States
CATEGORIES:North Marion
ORGANIZER;CN="Marion Senior Citizens":MAILTO:executivedirector@marionseniors.org
END:VEVENT
BEGIN:VEVENT
DTSTART;TZID=America/New_York:20260122T110000
DTEND;TZID=America/New_York:20260122T114500
DTSTAMP:20260422T174948
CREATED:20251231T163916Z
LAST-MODIFIED:20251231T163916Z
UID:10000310-1769079600-1769082300@marionseniors.org
SUMMARY:Bingo
DESCRIPTION:Join us at the North Marion Senior Center every Monday and Thursday for a morning of bingo fun.
URL:https://marionseniors.org/event/bingo-30/
LOCATION:North Marion Senior Center\, 1 Senior Drive\, Mannington\, WV\, 26582\, United States
CATEGORIES:North Marion
ORGANIZER;CN="Marion Senior Citizens":MAILTO:executivedirector@marionseniors.org
END:VEVENT
BEGIN:VEVENT
DTSTART;TZID=America/New_York:20260120T093000
DTEND;TZID=America/New_York:20260120T103000
DTSTAMP:20260422T174948
CREATED:20251231T162242Z
LAST-MODIFIED:20251231T162242Z
UID:10000303-1768901400-1768905000@marionseniors.org
SUMMARY:🕺💃 Line Dancing at the North Marion Center
DESCRIPTION:Grab your friends and come kick up your heels during North Marion Center’s line dancing! Whether you’re a seasoned dancer or just want to try something new\, it’s all about fun\, music\, and great company.\n\n\n\nNo partner needed—just bring your energy and a smile! Let’s make some memories on the dance floor. \nBring your crew because it’s time to boot & scoot!
URL:https://marionseniors.org/event/%f0%9f%95%ba%f0%9f%92%83-line-dancing-at-the-north-marion-center-7/
LOCATION:North Marion Senior Center\, 1 Senior Drive\, Mannington\, WV\, 26582\, United States
CATEGORIES:North Marion
ORGANIZER;CN="Marion Senior Citizens":MAILTO:executivedirector@marionseniors.org
END:VEVENT
BEGIN:VEVENT
DTSTART;TZID=America/New_York:20260119T123000
DTEND;TZID=America/New_York:20260119T131500
DTSTAMP:20260422T174948
CREATED:20251231T161727Z
LAST-MODIFIED:20251231T161727Z
UID:10000299-1768825800-1768828500@marionseniors.org
SUMMARY:Gentle Movement W/Paula
DESCRIPTION:Paula Hatten will be at the center to lead seniors in gentle movement and breathing exercises.
URL:https://marionseniors.org/event/gentle-movement-w-paula/
LOCATION:North Marion Senior Center\, 1 Senior Drive\, Mannington\, WV\, 26582\, United States
CATEGORIES:North Marion
ORGANIZER;CN="Marion Senior Citizens":MAILTO:executivedirector@marionseniors.org
END:VEVENT
BEGIN:VEVENT
DTSTART;TZID=America/New_York:20260119T110000
DTEND;TZID=America/New_York:20260119T115000
DTSTAMP:20260422T174948
CREATED:20251231T162820Z
LAST-MODIFIED:20251231T162820Z
UID:10000309-1768820400-1768823400@marionseniors.org
SUMMARY:Bingo
DESCRIPTION:Join us at the North Marion Senior Center every Monday and Thursday for a morning of bingo fun.
URL:https://marionseniors.org/event/bingo-29/
LOCATION:North Marion Senior Center\, 1 Senior Drive\, Mannington\, WV\, 26582\, United States
CATEGORIES:North Marion
ORGANIZER;CN="Marion Senior Citizens":MAILTO:executivedirector@marionseniors.org
END:VEVENT
END:VCALENDAR