BEGIN:VCALENDAR
VERSION:2.0
PRODID:-//Marion County Senior Center - ECPv6.15.17.1//NONSGML v1.0//EN
CALSCALE:GREGORIAN
METHOD:PUBLISH
X-ORIGINAL-URL:https://marionseniors.org
X-WR-CALDESC:Events for Marion County Senior Center
REFRESH-INTERVAL;VALUE=DURATION:PT1H
X-Robots-Tag:noindex
X-PUBLISHED-TTL:PT1H
BEGIN:VTIMEZONE
TZID:America/New_York
BEGIN:DAYLIGHT
TZOFFSETFROM:-0500
TZOFFSETTO:-0400
TZNAME:EDT
DTSTART:20250309T070000
END:DAYLIGHT
BEGIN:STANDARD
TZOFFSETFROM:-0400
TZOFFSETTO:-0500
TZNAME:EST
DTSTART:20251102T060000
END:STANDARD
BEGIN:DAYLIGHT
TZOFFSETFROM:-0500
TZOFFSETTO:-0400
TZNAME:EDT
DTSTART:20260308T070000
END:DAYLIGHT
BEGIN:STANDARD
TZOFFSETFROM:-0400
TZOFFSETTO:-0500
TZNAME:EST
DTSTART:20261101T060000
END:STANDARD
BEGIN:DAYLIGHT
TZOFFSETFROM:-0500
TZOFFSETTO:-0400
TZNAME:EDT
DTSTART:20270314T070000
END:DAYLIGHT
BEGIN:STANDARD
TZOFFSETFROM:-0400
TZOFFSETTO:-0500
TZNAME:EST
DTSTART:20271107T060000
END:STANDARD
END:VTIMEZONE
BEGIN:VEVENT
DTSTART;TZID=America/New_York:20261008T110000
DTEND;TZID=America/New_York:20261008T115000
DTSTAMP:20260421T003807
CREATED:20260123T164348Z
LAST-MODIFIED:20260123T164348Z
UID:10001388-1791457200-1791460200@marionseniors.org
SUMMARY:BINGO
DESCRIPTION:Join us at the North Marion Senior Center every Monday and Thursday for a morning of bingo fun.
URL:https://marionseniors.org/event/bingo-35/2026-10-08/
LOCATION:North Marion Senior Center\, 1 Senior Drive\, Mannington\, WV\, 26582\, United States
CATEGORIES:North Marion
ORGANIZER;CN="Marion Senior Citizens":MAILTO:executivedirector@marionseniors.org
END:VEVENT
BEGIN:VEVENT
DTSTART;TZID=America/New_York:20261009T123000
DTEND;TZID=America/New_York:20261009T133000
DTSTAMP:20260421T003807
CREATED:20260416T132140Z
LAST-MODIFIED:20260416T132140Z
UID:10002435-1791549000-1791552600@marionseniors.org
SUMMARY:Bible Study
DESCRIPTION:Pastor Lauren Murdoch will lead a weekly Bible study at the North Marion Senior Center every Friday at 12:30 p.m. \nAn ordained minister and chaplain in the Assemblies of God\, Pastor Lauren will guide participants through an engaging\, interactive study of selected passages and seasonal topics. The Bible study is open to everyone\, regardless of religious background\, and all materials will be provided.
URL:https://marionseniors.org/event/bible-study-17/2026-10-09/
LOCATION:North Marion Senior Center\, 1 Senior Drive\, Mannington\, WV\, 26582\, United States
CATEGORIES:North Marion
ORGANIZER;CN="Marion Senior Citizens":MAILTO:executivedirector@marionseniors.org
END:VEVENT
BEGIN:VEVENT
DTSTART;TZID=America/New_York:20261012T110000
DTEND;TZID=America/New_York:20261012T114500
DTSTAMP:20260421T003807
CREATED:20260123T164235Z
LAST-MODIFIED:20260123T164235Z
UID:10001129-1791802800-1791805500@marionseniors.org
SUMMARY:BINGO
DESCRIPTION:Join us at the North Marion Senior Center every Monday and Thursday for a morning of bingo fun.
URL:https://marionseniors.org/event/bingo-34/2026-10-12/
LOCATION:North Marion Senior Center\, 1 Senior Drive\, Mannington\, WV\, 26582\, United States
CATEGORIES:North Marion
ORGANIZER;CN="Marion Senior Citizens":MAILTO:executivedirector@marionseniors.org
END:VEVENT
BEGIN:VEVENT
DTSTART;TZID=America/New_York:20261015T110000
DTEND;TZID=America/New_York:20261015T115000
DTSTAMP:20260421T003807
CREATED:20260123T164348Z
LAST-MODIFIED:20260123T164348Z
UID:10001389-1792062000-1792065000@marionseniors.org
SUMMARY:BINGO
DESCRIPTION:Join us at the North Marion Senior Center every Monday and Thursday for a morning of bingo fun.
URL:https://marionseniors.org/event/bingo-35/2026-10-15/
LOCATION:North Marion Senior Center\, 1 Senior Drive\, Mannington\, WV\, 26582\, United States
CATEGORIES:North Marion
ORGANIZER;CN="Marion Senior Citizens":MAILTO:executivedirector@marionseniors.org
END:VEVENT
BEGIN:VEVENT
DTSTART;TZID=America/New_York:20261016T123000
DTEND;TZID=America/New_York:20261016T133000
DTSTAMP:20260421T003807
CREATED:20260416T132140Z
LAST-MODIFIED:20260416T132140Z
UID:10002436-1792153800-1792157400@marionseniors.org
SUMMARY:Bible Study
DESCRIPTION:Pastor Lauren Murdoch will lead a weekly Bible study at the North Marion Senior Center every Friday at 12:30 p.m. \nAn ordained minister and chaplain in the Assemblies of God\, Pastor Lauren will guide participants through an engaging\, interactive study of selected passages and seasonal topics. The Bible study is open to everyone\, regardless of religious background\, and all materials will be provided.
URL:https://marionseniors.org/event/bible-study-17/2026-10-16/
LOCATION:North Marion Senior Center\, 1 Senior Drive\, Mannington\, WV\, 26582\, United States
CATEGORIES:North Marion
ORGANIZER;CN="Marion Senior Citizens":MAILTO:executivedirector@marionseniors.org
END:VEVENT
BEGIN:VEVENT
DTSTART;TZID=America/New_York:20261019T110000
DTEND;TZID=America/New_York:20261019T114500
DTSTAMP:20260421T003807
CREATED:20260123T164235Z
LAST-MODIFIED:20260123T164235Z
UID:10001130-1792407600-1792410300@marionseniors.org
SUMMARY:BINGO
DESCRIPTION:Join us at the North Marion Senior Center every Monday and Thursday for a morning of bingo fun.
URL:https://marionseniors.org/event/bingo-34/2026-10-19/
LOCATION:North Marion Senior Center\, 1 Senior Drive\, Mannington\, WV\, 26582\, United States
CATEGORIES:North Marion
ORGANIZER;CN="Marion Senior Citizens":MAILTO:executivedirector@marionseniors.org
END:VEVENT
BEGIN:VEVENT
DTSTART;TZID=America/New_York:20261022T110000
DTEND;TZID=America/New_York:20261022T115000
DTSTAMP:20260421T003807
CREATED:20260123T164348Z
LAST-MODIFIED:20260123T164348Z
UID:10001390-1792666800-1792669800@marionseniors.org
SUMMARY:BINGO
DESCRIPTION:Join us at the North Marion Senior Center every Monday and Thursday for a morning of bingo fun.
URL:https://marionseniors.org/event/bingo-35/2026-10-22/
LOCATION:North Marion Senior Center\, 1 Senior Drive\, Mannington\, WV\, 26582\, United States
CATEGORIES:North Marion
ORGANIZER;CN="Marion Senior Citizens":MAILTO:executivedirector@marionseniors.org
END:VEVENT
BEGIN:VEVENT
DTSTART;TZID=America/New_York:20261023T123000
DTEND;TZID=America/New_York:20261023T133000
DTSTAMP:20260421T003807
CREATED:20260416T132140Z
LAST-MODIFIED:20260416T132140Z
UID:10002437-1792758600-1792762200@marionseniors.org
SUMMARY:Bible Study
DESCRIPTION:Pastor Lauren Murdoch will lead a weekly Bible study at the North Marion Senior Center every Friday at 12:30 p.m. \nAn ordained minister and chaplain in the Assemblies of God\, Pastor Lauren will guide participants through an engaging\, interactive study of selected passages and seasonal topics. The Bible study is open to everyone\, regardless of religious background\, and all materials will be provided.
URL:https://marionseniors.org/event/bible-study-17/2026-10-23/
LOCATION:North Marion Senior Center\, 1 Senior Drive\, Mannington\, WV\, 26582\, United States
CATEGORIES:North Marion
ORGANIZER;CN="Marion Senior Citizens":MAILTO:executivedirector@marionseniors.org
END:VEVENT
BEGIN:VEVENT
DTSTART;TZID=America/New_York:20261026T110000
DTEND;TZID=America/New_York:20261026T114500
DTSTAMP:20260421T003807
CREATED:20260123T164235Z
LAST-MODIFIED:20260123T164235Z
UID:10001131-1793012400-1793015100@marionseniors.org
SUMMARY:BINGO
DESCRIPTION:Join us at the North Marion Senior Center every Monday and Thursday for a morning of bingo fun.
URL:https://marionseniors.org/event/bingo-34/2026-10-26/
LOCATION:North Marion Senior Center\, 1 Senior Drive\, Mannington\, WV\, 26582\, United States
CATEGORIES:North Marion
ORGANIZER;CN="Marion Senior Citizens":MAILTO:executivedirector@marionseniors.org
END:VEVENT
BEGIN:VEVENT
DTSTART;TZID=America/New_York:20261029T110000
DTEND;TZID=America/New_York:20261029T115000
DTSTAMP:20260421T003807
CREATED:20260123T164348Z
LAST-MODIFIED:20260123T164348Z
UID:10001391-1793271600-1793274600@marionseniors.org
SUMMARY:BINGO
DESCRIPTION:Join us at the North Marion Senior Center every Monday and Thursday for a morning of bingo fun.
URL:https://marionseniors.org/event/bingo-35/2026-10-29/
LOCATION:North Marion Senior Center\, 1 Senior Drive\, Mannington\, WV\, 26582\, United States
CATEGORIES:North Marion
ORGANIZER;CN="Marion Senior Citizens":MAILTO:executivedirector@marionseniors.org
END:VEVENT
BEGIN:VEVENT
DTSTART;TZID=America/New_York:20261030T123000
DTEND;TZID=America/New_York:20261030T133000
DTSTAMP:20260421T003807
CREATED:20260416T132140Z
LAST-MODIFIED:20260416T132140Z
UID:10002438-1793363400-1793367000@marionseniors.org
SUMMARY:Bible Study
DESCRIPTION:Pastor Lauren Murdoch will lead a weekly Bible study at the North Marion Senior Center every Friday at 12:30 p.m. \nAn ordained minister and chaplain in the Assemblies of God\, Pastor Lauren will guide participants through an engaging\, interactive study of selected passages and seasonal topics. The Bible study is open to everyone\, regardless of religious background\, and all materials will be provided.
URL:https://marionseniors.org/event/bible-study-17/2026-10-30/
LOCATION:North Marion Senior Center\, 1 Senior Drive\, Mannington\, WV\, 26582\, United States
CATEGORIES:North Marion
ORGANIZER;CN="Marion Senior Citizens":MAILTO:executivedirector@marionseniors.org
END:VEVENT
BEGIN:VEVENT
DTSTART;TZID=America/New_York:20261102T110000
DTEND;TZID=America/New_York:20261102T114500
DTSTAMP:20260421T003807
CREATED:20260123T164235Z
LAST-MODIFIED:20260123T164235Z
UID:10001132-1793617200-1793619900@marionseniors.org
SUMMARY:BINGO
DESCRIPTION:Join us at the North Marion Senior Center every Monday and Thursday for a morning of bingo fun.
URL:https://marionseniors.org/event/bingo-34/2026-11-02/
LOCATION:North Marion Senior Center\, 1 Senior Drive\, Mannington\, WV\, 26582\, United States
CATEGORIES:North Marion
ORGANIZER;CN="Marion Senior Citizens":MAILTO:executivedirector@marionseniors.org
END:VEVENT
BEGIN:VEVENT
DTSTART;TZID=America/New_York:20261105T110000
DTEND;TZID=America/New_York:20261105T115000
DTSTAMP:20260421T003807
CREATED:20260123T164348Z
LAST-MODIFIED:20260123T164348Z
UID:10001392-1793876400-1793879400@marionseniors.org
SUMMARY:BINGO
DESCRIPTION:Join us at the North Marion Senior Center every Monday and Thursday for a morning of bingo fun.
URL:https://marionseniors.org/event/bingo-35/2026-11-05/
LOCATION:North Marion Senior Center\, 1 Senior Drive\, Mannington\, WV\, 26582\, United States
CATEGORIES:North Marion
ORGANIZER;CN="Marion Senior Citizens":MAILTO:executivedirector@marionseniors.org
END:VEVENT
BEGIN:VEVENT
DTSTART;TZID=America/New_York:20261106T123000
DTEND;TZID=America/New_York:20261106T133000
DTSTAMP:20260421T003807
CREATED:20260416T132140Z
LAST-MODIFIED:20260416T132140Z
UID:10002439-1793968200-1793971800@marionseniors.org
SUMMARY:Bible Study
DESCRIPTION:Pastor Lauren Murdoch will lead a weekly Bible study at the North Marion Senior Center every Friday at 12:30 p.m. \nAn ordained minister and chaplain in the Assemblies of God\, Pastor Lauren will guide participants through an engaging\, interactive study of selected passages and seasonal topics. The Bible study is open to everyone\, regardless of religious background\, and all materials will be provided.
URL:https://marionseniors.org/event/bible-study-17/2026-11-06/
LOCATION:North Marion Senior Center\, 1 Senior Drive\, Mannington\, WV\, 26582\, United States
CATEGORIES:North Marion
ORGANIZER;CN="Marion Senior Citizens":MAILTO:executivedirector@marionseniors.org
END:VEVENT
BEGIN:VEVENT
DTSTART;TZID=America/New_York:20261109T110000
DTEND;TZID=America/New_York:20261109T114500
DTSTAMP:20260421T003807
CREATED:20260123T164235Z
LAST-MODIFIED:20260123T164235Z
UID:10001133-1794222000-1794224700@marionseniors.org
SUMMARY:BINGO
DESCRIPTION:Join us at the North Marion Senior Center every Monday and Thursday for a morning of bingo fun.
URL:https://marionseniors.org/event/bingo-34/2026-11-09/
LOCATION:North Marion Senior Center\, 1 Senior Drive\, Mannington\, WV\, 26582\, United States
CATEGORIES:North Marion
ORGANIZER;CN="Marion Senior Citizens":MAILTO:executivedirector@marionseniors.org
END:VEVENT
BEGIN:VEVENT
DTSTART;TZID=America/New_York:20261112T110000
DTEND;TZID=America/New_York:20261112T115000
DTSTAMP:20260421T003807
CREATED:20260123T164348Z
LAST-MODIFIED:20260123T164348Z
UID:10001393-1794481200-1794484200@marionseniors.org
SUMMARY:BINGO
DESCRIPTION:Join us at the North Marion Senior Center every Monday and Thursday for a morning of bingo fun.
URL:https://marionseniors.org/event/bingo-35/2026-11-12/
LOCATION:North Marion Senior Center\, 1 Senior Drive\, Mannington\, WV\, 26582\, United States
CATEGORIES:North Marion
ORGANIZER;CN="Marion Senior Citizens":MAILTO:executivedirector@marionseniors.org
END:VEVENT
BEGIN:VEVENT
DTSTART;TZID=America/New_York:20261113T123000
DTEND;TZID=America/New_York:20261113T133000
DTSTAMP:20260421T003807
CREATED:20260416T132140Z
LAST-MODIFIED:20260416T132140Z
UID:10002440-1794573000-1794576600@marionseniors.org
SUMMARY:Bible Study
DESCRIPTION:Pastor Lauren Murdoch will lead a weekly Bible study at the North Marion Senior Center every Friday at 12:30 p.m. \nAn ordained minister and chaplain in the Assemblies of God\, Pastor Lauren will guide participants through an engaging\, interactive study of selected passages and seasonal topics. The Bible study is open to everyone\, regardless of religious background\, and all materials will be provided.
URL:https://marionseniors.org/event/bible-study-17/2026-11-13/
LOCATION:North Marion Senior Center\, 1 Senior Drive\, Mannington\, WV\, 26582\, United States
CATEGORIES:North Marion
ORGANIZER;CN="Marion Senior Citizens":MAILTO:executivedirector@marionseniors.org
END:VEVENT
BEGIN:VEVENT
DTSTART;TZID=America/New_York:20261116T110000
DTEND;TZID=America/New_York:20261116T114500
DTSTAMP:20260421T003807
CREATED:20260123T164235Z
LAST-MODIFIED:20260123T164235Z
UID:10001134-1794826800-1794829500@marionseniors.org
SUMMARY:BINGO
DESCRIPTION:Join us at the North Marion Senior Center every Monday and Thursday for a morning of bingo fun.
URL:https://marionseniors.org/event/bingo-34/2026-11-16/
LOCATION:North Marion Senior Center\, 1 Senior Drive\, Mannington\, WV\, 26582\, United States
CATEGORIES:North Marion
ORGANIZER;CN="Marion Senior Citizens":MAILTO:executivedirector@marionseniors.org
END:VEVENT
BEGIN:VEVENT
DTSTART;TZID=America/New_York:20261119T110000
DTEND;TZID=America/New_York:20261119T115000
DTSTAMP:20260421T003807
CREATED:20260123T164348Z
LAST-MODIFIED:20260123T164348Z
UID:10001394-1795086000-1795089000@marionseniors.org
SUMMARY:BINGO
DESCRIPTION:Join us at the North Marion Senior Center every Monday and Thursday for a morning of bingo fun.
URL:https://marionseniors.org/event/bingo-35/2026-11-19/
LOCATION:North Marion Senior Center\, 1 Senior Drive\, Mannington\, WV\, 26582\, United States
CATEGORIES:North Marion
ORGANIZER;CN="Marion Senior Citizens":MAILTO:executivedirector@marionseniors.org
END:VEVENT
BEGIN:VEVENT
DTSTART;TZID=America/New_York:20261120T123000
DTEND;TZID=America/New_York:20261120T133000
DTSTAMP:20260421T003807
CREATED:20260416T132140Z
LAST-MODIFIED:20260416T132140Z
UID:10002441-1795177800-1795181400@marionseniors.org
SUMMARY:Bible Study
DESCRIPTION:Pastor Lauren Murdoch will lead a weekly Bible study at the North Marion Senior Center every Friday at 12:30 p.m. \nAn ordained minister and chaplain in the Assemblies of God\, Pastor Lauren will guide participants through an engaging\, interactive study of selected passages and seasonal topics. The Bible study is open to everyone\, regardless of religious background\, and all materials will be provided.
URL:https://marionseniors.org/event/bible-study-17/2026-11-20/
LOCATION:North Marion Senior Center\, 1 Senior Drive\, Mannington\, WV\, 26582\, United States
CATEGORIES:North Marion
ORGANIZER;CN="Marion Senior Citizens":MAILTO:executivedirector@marionseniors.org
END:VEVENT
BEGIN:VEVENT
DTSTART;TZID=America/New_York:20261123T110000
DTEND;TZID=America/New_York:20261123T114500
DTSTAMP:20260421T003807
CREATED:20260123T164235Z
LAST-MODIFIED:20260123T164235Z
UID:10001135-1795431600-1795434300@marionseniors.org
SUMMARY:BINGO
DESCRIPTION:Join us at the North Marion Senior Center every Monday and Thursday for a morning of bingo fun.
URL:https://marionseniors.org/event/bingo-34/2026-11-23/
LOCATION:North Marion Senior Center\, 1 Senior Drive\, Mannington\, WV\, 26582\, United States
CATEGORIES:North Marion
ORGANIZER;CN="Marion Senior Citizens":MAILTO:executivedirector@marionseniors.org
END:VEVENT
BEGIN:VEVENT
DTSTART;TZID=America/New_York:20261126T110000
DTEND;TZID=America/New_York:20261126T115000
DTSTAMP:20260421T003807
CREATED:20260123T164348Z
LAST-MODIFIED:20260123T164348Z
UID:10001395-1795690800-1795693800@marionseniors.org
SUMMARY:BINGO
DESCRIPTION:Join us at the North Marion Senior Center every Monday and Thursday for a morning of bingo fun.
URL:https://marionseniors.org/event/bingo-35/2026-11-26/
LOCATION:North Marion Senior Center\, 1 Senior Drive\, Mannington\, WV\, 26582\, United States
CATEGORIES:North Marion
ORGANIZER;CN="Marion Senior Citizens":MAILTO:executivedirector@marionseniors.org
END:VEVENT
BEGIN:VEVENT
DTSTART;TZID=America/New_York:20261127T123000
DTEND;TZID=America/New_York:20261127T133000
DTSTAMP:20260421T003807
CREATED:20260416T132140Z
LAST-MODIFIED:20260416T132140Z
UID:10002442-1795782600-1795786200@marionseniors.org
SUMMARY:Bible Study
DESCRIPTION:Pastor Lauren Murdoch will lead a weekly Bible study at the North Marion Senior Center every Friday at 12:30 p.m. \nAn ordained minister and chaplain in the Assemblies of God\, Pastor Lauren will guide participants through an engaging\, interactive study of selected passages and seasonal topics. The Bible study is open to everyone\, regardless of religious background\, and all materials will be provided.
URL:https://marionseniors.org/event/bible-study-17/2026-11-27/
LOCATION:North Marion Senior Center\, 1 Senior Drive\, Mannington\, WV\, 26582\, United States
CATEGORIES:North Marion
ORGANIZER;CN="Marion Senior Citizens":MAILTO:executivedirector@marionseniors.org
END:VEVENT
BEGIN:VEVENT
DTSTART;TZID=America/New_York:20261130T110000
DTEND;TZID=America/New_York:20261130T114500
DTSTAMP:20260421T003807
CREATED:20260123T164235Z
LAST-MODIFIED:20260123T164235Z
UID:10001136-1796036400-1796039100@marionseniors.org
SUMMARY:BINGO
DESCRIPTION:Join us at the North Marion Senior Center every Monday and Thursday for a morning of bingo fun.
URL:https://marionseniors.org/event/bingo-34/2026-11-30/
LOCATION:North Marion Senior Center\, 1 Senior Drive\, Mannington\, WV\, 26582\, United States
CATEGORIES:North Marion
ORGANIZER;CN="Marion Senior Citizens":MAILTO:executivedirector@marionseniors.org
END:VEVENT
BEGIN:VEVENT
DTSTART;TZID=America/New_York:20261203T110000
DTEND;TZID=America/New_York:20261203T115000
DTSTAMP:20260421T003807
CREATED:20260123T164348Z
LAST-MODIFIED:20260123T164348Z
UID:10001396-1796295600-1796298600@marionseniors.org
SUMMARY:BINGO
DESCRIPTION:Join us at the North Marion Senior Center every Monday and Thursday for a morning of bingo fun.
URL:https://marionseniors.org/event/bingo-35/2026-12-03/
LOCATION:North Marion Senior Center\, 1 Senior Drive\, Mannington\, WV\, 26582\, United States
CATEGORIES:North Marion
ORGANIZER;CN="Marion Senior Citizens":MAILTO:executivedirector@marionseniors.org
END:VEVENT
BEGIN:VEVENT
DTSTART;TZID=America/New_York:20261204T123000
DTEND;TZID=America/New_York:20261204T133000
DTSTAMP:20260421T003807
CREATED:20260416T132140Z
LAST-MODIFIED:20260416T132140Z
UID:10002443-1796387400-1796391000@marionseniors.org
SUMMARY:Bible Study
DESCRIPTION:Pastor Lauren Murdoch will lead a weekly Bible study at the North Marion Senior Center every Friday at 12:30 p.m. \nAn ordained minister and chaplain in the Assemblies of God\, Pastor Lauren will guide participants through an engaging\, interactive study of selected passages and seasonal topics. The Bible study is open to everyone\, regardless of religious background\, and all materials will be provided.
URL:https://marionseniors.org/event/bible-study-17/2026-12-04/
LOCATION:North Marion Senior Center\, 1 Senior Drive\, Mannington\, WV\, 26582\, United States
CATEGORIES:North Marion
ORGANIZER;CN="Marion Senior Citizens":MAILTO:executivedirector@marionseniors.org
END:VEVENT
BEGIN:VEVENT
DTSTART;TZID=America/New_York:20261207T110000
DTEND;TZID=America/New_York:20261207T114500
DTSTAMP:20260421T003807
CREATED:20260123T164235Z
LAST-MODIFIED:20260123T164235Z
UID:10001137-1796641200-1796643900@marionseniors.org
SUMMARY:BINGO
DESCRIPTION:Join us at the North Marion Senior Center every Monday and Thursday for a morning of bingo fun.
URL:https://marionseniors.org/event/bingo-34/2026-12-07/
LOCATION:North Marion Senior Center\, 1 Senior Drive\, Mannington\, WV\, 26582\, United States
CATEGORIES:North Marion
ORGANIZER;CN="Marion Senior Citizens":MAILTO:executivedirector@marionseniors.org
END:VEVENT
BEGIN:VEVENT
DTSTART;TZID=America/New_York:20261210T110000
DTEND;TZID=America/New_York:20261210T115000
DTSTAMP:20260421T003807
CREATED:20260123T164348Z
LAST-MODIFIED:20260123T164348Z
UID:10001397-1796900400-1796903400@marionseniors.org
SUMMARY:BINGO
DESCRIPTION:Join us at the North Marion Senior Center every Monday and Thursday for a morning of bingo fun.
URL:https://marionseniors.org/event/bingo-35/2026-12-10/
LOCATION:North Marion Senior Center\, 1 Senior Drive\, Mannington\, WV\, 26582\, United States
CATEGORIES:North Marion
ORGANIZER;CN="Marion Senior Citizens":MAILTO:executivedirector@marionseniors.org
END:VEVENT
BEGIN:VEVENT
DTSTART;TZID=America/New_York:20261211T123000
DTEND;TZID=America/New_York:20261211T133000
DTSTAMP:20260421T003807
CREATED:20260416T132140Z
LAST-MODIFIED:20260416T132140Z
UID:10002444-1796992200-1796995800@marionseniors.org
SUMMARY:Bible Study
DESCRIPTION:Pastor Lauren Murdoch will lead a weekly Bible study at the North Marion Senior Center every Friday at 12:30 p.m. \nAn ordained minister and chaplain in the Assemblies of God\, Pastor Lauren will guide participants through an engaging\, interactive study of selected passages and seasonal topics. The Bible study is open to everyone\, regardless of religious background\, and all materials will be provided.
URL:https://marionseniors.org/event/bible-study-17/2026-12-11/
LOCATION:North Marion Senior Center\, 1 Senior Drive\, Mannington\, WV\, 26582\, United States
CATEGORIES:North Marion
ORGANIZER;CN="Marion Senior Citizens":MAILTO:executivedirector@marionseniors.org
END:VEVENT
BEGIN:VEVENT
DTSTART;TZID=America/New_York:20261214T110000
DTEND;TZID=America/New_York:20261214T114500
DTSTAMP:20260421T003807
CREATED:20260123T164235Z
LAST-MODIFIED:20260123T164235Z
UID:10001138-1797246000-1797248700@marionseniors.org
SUMMARY:BINGO
DESCRIPTION:Join us at the North Marion Senior Center every Monday and Thursday for a morning of bingo fun.
URL:https://marionseniors.org/event/bingo-34/2026-12-14/
LOCATION:North Marion Senior Center\, 1 Senior Drive\, Mannington\, WV\, 26582\, United States
CATEGORIES:North Marion
ORGANIZER;CN="Marion Senior Citizens":MAILTO:executivedirector@marionseniors.org
END:VEVENT
END:VCALENDAR