BEGIN:VCALENDAR
VERSION:2.0
PRODID:-//Marion County Senior Center - ECPv6.15.17.1//NONSGML v1.0//EN
CALSCALE:GREGORIAN
METHOD:PUBLISH
X-WR-CALNAME:Marion County Senior Center
X-ORIGINAL-URL:https://marionseniors.org
X-WR-CALDESC:Events for Marion County Senior Center
REFRESH-INTERVAL;VALUE=DURATION:PT1H
X-Robots-Tag:noindex
X-PUBLISHED-TTL:PT1H
BEGIN:VTIMEZONE
TZID:America/New_York
BEGIN:DAYLIGHT
TZOFFSETFROM:-0500
TZOFFSETTO:-0400
TZNAME:EDT
DTSTART:20240310T070000
END:DAYLIGHT
BEGIN:STANDARD
TZOFFSETFROM:-0400
TZOFFSETTO:-0500
TZNAME:EST
DTSTART:20241103T060000
END:STANDARD
BEGIN:DAYLIGHT
TZOFFSETFROM:-0500
TZOFFSETTO:-0400
TZNAME:EDT
DTSTART:20250309T070000
END:DAYLIGHT
BEGIN:STANDARD
TZOFFSETFROM:-0400
TZOFFSETTO:-0500
TZNAME:EST
DTSTART:20251102T060000
END:STANDARD
BEGIN:DAYLIGHT
TZOFFSETFROM:-0500
TZOFFSETTO:-0400
TZNAME:EDT
DTSTART:20260308T070000
END:DAYLIGHT
BEGIN:STANDARD
TZOFFSETFROM:-0400
TZOFFSETTO:-0500
TZNAME:EST
DTSTART:20261101T060000
END:STANDARD
END:VTIMEZONE
BEGIN:VEVENT
DTSTART;TZID=America/New_York:20250919T124500
DTEND;TZID=America/New_York:20250919T133000
DTSTAMP:20260420T115813
CREATED:20250828T194541Z
LAST-MODIFIED:20250828T194541Z
UID:10000129-1758285900-1758288600@marionseniors.org
SUMMARY:Senior Safety Presentation
DESCRIPTION:Learning about violence against seniors is an important step in protecting ourselves and those we care about. Abuse can take many forms—physical\, emotional\, or financial—and often goes unnoticed. Recognizing the warning signs and knowing how to respond can make a real difference. \nRay from Hope Inc. will be at the center to share valuable information on how to identify potential abuse and what actions to take if you or someone you know may be a victim.
URL:https://marionseniors.org/event/senior-safety-presentation-2/
LOCATION:North Marion Senior Center\, 1 Senior Drive\, Mannington\, WV\, 26582\, United States
CATEGORIES:North Marion
ORGANIZER;CN="Marion Senior Citizens":MAILTO:executivedirector@marionseniors.org
END:VEVENT
BEGIN:VEVENT
DTSTART;TZID=America/New_York:20250918T110000
DTEND;TZID=America/New_York:20250918T114500
DTSTAMP:20260420T115813
CREATED:20250828T194353Z
LAST-MODIFIED:20250828T194353Z
UID:10000128-1758193200-1758195900@marionseniors.org
SUMMARY:Bingo at the North Marion Center
DESCRIPTION:Join us for bingo every Monday and Thursday
URL:https://marionseniors.org/event/bingo-at-the-north-marion-center-2/
LOCATION:North Marion Senior Center\, 1 Senior Drive\, Mannington\, WV\, 26582\, United States
CATEGORIES:North Marion
ORGANIZER;CN="Marion Senior Citizens":MAILTO:executivedirector@marionseniors.org
END:VEVENT
BEGIN:VEVENT
DTSTART;TZID=America/New_York:20250918T093000
DTEND;TZID=America/New_York:20250918T113000
DTSTAMP:20260420T115813
CREATED:20250827T140634Z
LAST-MODIFIED:20250827T140634Z
UID:10000106-1758187800-1758195000@marionseniors.org
SUMMARY:Line Dancing at the Fairmont Senior Center
DESCRIPTION:Our seniors have a wonderful time stepping\, turning\, and laughing together during line dancing. It’s a great way to stay active\, make friends\, and enjoy some lively music. No partner needed—just bring your energy and a smile! \nCome join us at the Fairmont Senior Center and be part of the fun! \nBeginner class starts at 9:30 am\nAdvance class starts at 10:30 am
URL:https://marionseniors.org/event/line-dancing-at-the-fairmont-senior-center-4/
LOCATION:Fairmont Senior Center\, 105 Maplewood Drive\, Fairmont\, WV\, 26554\, United States
CATEGORIES:Fairmont
ORGANIZER;CN="Marion Senior Citizens":MAILTO:executivedirector@marionseniors.org
END:VEVENT
BEGIN:VEVENT
DTSTART;TZID=America/New_York:20250917T124500
DTEND;TZID=America/New_York:20250917T140000
DTSTAMP:20260420T115813
CREATED:20250828T190609Z
LAST-MODIFIED:20250828T190609Z
UID:10000115-1758113100-1758117600@marionseniors.org
SUMMARY:Genealogy Presentation
DESCRIPTION:Learn more about the Marion County Genealogical Club located in the Marion County Public Library.
URL:https://marionseniors.org/event/genealogy-presentation/
LOCATION:Fairmont Senior Center\, 105 Maplewood Drive\, Fairmont\, WV\, 26554\, United States
CATEGORIES:Fairmont
ORGANIZER;CN="Marion Senior Citizens":MAILTO:executivedirector@marionseniors.org
END:VEVENT
BEGIN:VEVENT
DTSTART;TZID=America/New_York:20250917T110000
DTEND;TZID=America/New_York:20250917T114500
DTSTAMP:20260420T115813
CREATED:20250827T135949Z
LAST-MODIFIED:20250827T135949Z
UID:10000101-1758106800-1758109500@marionseniors.org
SUMMARY:Bingo at the Fairmont Senior Center
DESCRIPTION:Join us for bingo on Wednesdays from 11:00 – 11:45 am
URL:https://marionseniors.org/event/bingo-at-the-fairmont-senior-center-7/
LOCATION:Fairmont Senior Center\, 105 Maplewood Drive\, Fairmont\, WV\, 26554\, United States
CATEGORIES:Fairmont
ORGANIZER;CN="Marion Senior Citizens":MAILTO:executivedirector@marionseniors.org
END:VEVENT
BEGIN:VEVENT
DTSTART;TZID=America/New_York:20250916T124500
DTEND;TZID=America/New_York:20250916T133000
DTSTAMP:20260420T115813
CREATED:20250828T194251Z
LAST-MODIFIED:20250828T194251Z
UID:10000127-1758026700-1758029400@marionseniors.org
SUMMARY:Visit With Kristie From Encompass Health
DESCRIPTION:Kristie from Encompass Health will be at the center for Q&A and will do blood pressure screenings.
URL:https://marionseniors.org/event/visit-with-kristie-from-encompass-health/
LOCATION:North Marion Senior Center\, 1 Senior Drive\, Mannington\, WV\, 26582\, United States
CATEGORIES:North Marion
ORGANIZER;CN="Marion Senior Citizens":MAILTO:executivedirector@marionseniors.org
END:VEVENT
BEGIN:VEVENT
DTSTART;TZID=America/New_York:20250916T124500
DTEND;TZID=America/New_York:20250916T133000
DTSTAMP:20260420T115813
CREATED:20250827T145321Z
LAST-MODIFIED:20250827T145321Z
UID:10000114-1758026700-1758029400@marionseniors.org
SUMMARY:"Calling All Swifties" Craft with Angie
DESCRIPTION:In honor of Taylor Swift and Travis Kelce’s engagement\, Angie is excited to celebrate the pending nuptials by making friendship bracelets!
URL:https://marionseniors.org/event/calling-all-swifties-craft-with-angie/
LOCATION:Fairmont Senior Center\, 105 Maplewood Drive\, Fairmont\, WV\, 26554\, United States
CATEGORIES:Fairmont
ORGANIZER;CN="Marion Senior Citizens":MAILTO:executivedirector@marionseniors.org
END:VEVENT
BEGIN:VEVENT
DTSTART;TZID=America/New_York:20250916T114500
DTEND;TZID=America/New_York:20250916T120000
DTSTAMP:20260420T115813
CREATED:20250829T123658Z
LAST-MODIFIED:20250829T125148Z
UID:10000149-1758023100-1758024000@marionseniors.org
SUMMARY:Medicare Minute with David
DESCRIPTION:David Summers will be at the center to update seniors on the latest Medicare policies and answer any questions.
URL:https://marionseniors.org/event/medicare-minute-with-david-3/
LOCATION:Fairmont Senior Center\, 105 Maplewood Drive\, Fairmont\, WV\, 26554\, United States
CATEGORIES:Fairmont
ORGANIZER;CN="Marion Senior Citizens":MAILTO:executivedirector@marionseniors.org
END:VEVENT
BEGIN:VEVENT
DTSTART;TZID=America/New_York:20250916T110000
DTEND;TZID=America/New_York:20250916T114500
DTSTAMP:20260420T115813
CREATED:20250829T122131Z
LAST-MODIFIED:20250829T122131Z
UID:10000141-1758020400-1758023100@marionseniors.org
SUMMARY:Peace of Mind: Funeral Preparation
DESCRIPTION:Tom Domico with Domico Funeral Home will be at the center to discuss how to best prepare for your final wishes.
URL:https://marionseniors.org/event/peace-of-mind-funeral-preparation-2/
LOCATION:Fairview Senior Center\, 404 Main Street\, Fairview\, West Virginia\, 26570\, United States
CATEGORIES:Fairview
ORGANIZER;CN="Marion Senior Citizens":MAILTO:executivedirector@marionseniors.org
END:VEVENT
BEGIN:VEVENT
DTSTART;TZID=America/New_York:20250915T124500
DTEND;TZID=America/New_York:20250915T133000
DTSTAMP:20260420T115813
CREATED:20250829T121937Z
LAST-MODIFIED:20250829T121937Z
UID:10000140-1757940300-1757943000@marionseniors.org
SUMMARY:Genealogy Presentation
DESCRIPTION:Learn more about the Marion County Genealogical Club located in the Marion County Public Library.
URL:https://marionseniors.org/event/genealogy-presentation-2/
LOCATION:Fairview Senior Center\, 404 Main Street\, Fairview\, West Virginia\, 26570\, United States
CATEGORIES:Fairview
ORGANIZER;CN="Marion Senior Citizens":MAILTO:executivedirector@marionseniors.org
END:VEVENT
BEGIN:VEVENT
DTSTART;TZID=America/New_York:20250915T124500
DTEND;TZID=America/New_York:20250915T133000
DTSTAMP:20260420T115813
CREATED:20250828T194049Z
LAST-MODIFIED:20250828T194049Z
UID:10000126-1757940300-1757943000@marionseniors.org
SUMMARY:Craft Activity
DESCRIPTION:Following lunch\, Megan from the Library will lead the group in a craft activity
URL:https://marionseniors.org/event/craft-activity/
LOCATION:North Marion Senior Center\, 1 Senior Drive\, Mannington\, WV\, 26582\, United States
CATEGORIES:North Marion
ORGANIZER;CN="Marion Senior Citizens":MAILTO:executivedirector@marionseniors.org
END:VEVENT
BEGIN:VEVENT
DTSTART;TZID=America/New_York:20250915T110000
DTEND;TZID=America/New_York:20250915T114500
DTSTAMP:20260420T115813
CREATED:20250828T193836Z
LAST-MODIFIED:20250828T193849Z
UID:10000125-1757934000-1757936700@marionseniors.org
SUMMARY:Bingo at the North Marion Senior Center
DESCRIPTION:Join us for bingo every Monday and Thursday
URL:https://marionseniors.org/event/bingo-at-the-north-marion-senior-center-10/
LOCATION:North Marion Senior Center\, 1 Senior Drive\, Mannington\, WV\, 26582\, United States
CATEGORIES:North Marion
ORGANIZER;CN="Marion Senior Citizens":MAILTO:executivedirector@marionseniors.org
END:VEVENT
BEGIN:VEVENT
DTSTART;TZID=America/New_York:20250915T110000
DTEND;TZID=America/New_York:20250915T114500
DTSTAMP:20260420T115813
CREATED:20250827T143014Z
LAST-MODIFIED:20250827T161100Z
UID:10000113-1757934000-1757936700@marionseniors.org
SUMMARY:Tygart Center Presentation
DESCRIPTION:Join us as Jamie from the Tygart Center\, a skilled nursing facility offering post-hospital\, short-term rehabilitation as well as long-term and respite care.
URL:https://marionseniors.org/event/tygart-valley-health-rehab-presentation/
LOCATION:Fairmont Senior Center\, 105 Maplewood Drive\, Fairmont\, WV\, 26554\, United States
CATEGORIES:Fairmont
ORGANIZER;CN="Marion Senior Citizens":MAILTO:executivedirector@marionseniors.org
END:VEVENT
BEGIN:VEVENT
DTSTART;TZID=America/New_York:20250912T124500
DTEND;TZID=America/New_York:20250912T133000
DTSTAMP:20260420T115813
CREATED:20250829T120011Z
LAST-MODIFIED:20250829T120011Z
UID:10000135-1757681100-1757683800@marionseniors.org
SUMMARY:Blue & Gold Tailgate Party
DESCRIPTION:Wear your blue and gold and join us in cheering on the Mountaineers as they prepare to take on the Pittsburgh Panthers this Saturday! After lunch\, stick around for some friendly games and snacks as we celebrate Mountaineer spirit together.
URL:https://marionseniors.org/event/blue-gold-tailgate-party-2/
LOCATION:Fairmont Senior Center\, 105 Maplewood Drive\, Fairmont\, WV\, 26554\, United States
CATEGORIES:Fairmont
ORGANIZER;CN="Marion Senior Citizens":MAILTO:executivedirector@marionseniors.org
END:VEVENT
BEGIN:VEVENT
DTSTART;TZID=America/New_York:20250912T124500
DTEND;TZID=America/New_York:20250912T131500
DTSTAMP:20260420T115813
CREATED:20250829T121759Z
LAST-MODIFIED:20250829T121759Z
UID:10000139-1757681100-1757682900@marionseniors.org
SUMMARY:Senior Safety Presentation
DESCRIPTION:Learning about violence against seniors is an important step in protecting ourselves and those we care about. Abuse can take many forms—physical\, emotional\, or financial—and often goes unnoticed. Recognizing the warning signs and knowing how to respond can make a real difference.\n\n\n\nRay from Hope Inc. will be at the center to share valuable information on how to identify potential abuse and what actions to take if you or someone you know may be a victim.
URL:https://marionseniors.org/event/senior-safety-presentation-3/
LOCATION:Fairview Senior Center\, 404 Main Street\, Fairview\, West Virginia\, 26570\, United States
CATEGORIES:Fairview
ORGANIZER;CN="Marion Senior Citizens":MAILTO:executivedirector@marionseniors.org
END:VEVENT
BEGIN:VEVENT
DTSTART;TZID=America/New_York:20250912T114500
DTEND;TZID=America/New_York:20250912T120000
DTSTAMP:20260420T115813
CREATED:20250829T123558Z
LAST-MODIFIED:20250829T123558Z
UID:10000148-1757677500-1757678400@marionseniors.org
SUMMARY:Medicare Minute with David
DESCRIPTION:David Summers will be at the center to update seniors on the latest Medicare policies and answer any questions.
URL:https://marionseniors.org/event/medicare-minute-with-david-2/
LOCATION:North Marion Senior Center\, 1 Senior Drive\, Mannington\, WV\, 26582\, United States
CATEGORIES:North Marion
ORGANIZER;CN="Marion Senior Citizens":MAILTO:executivedirector@marionseniors.org
END:VEVENT
BEGIN:VEVENT
DTSTART;TZID=America/New_York:20250911T114500
DTEND;TZID=America/New_York:20250911T120000
DTSTAMP:20260420T115813
CREATED:20250829T123444Z
LAST-MODIFIED:20250829T125237Z
UID:10000147-1757591100-1757592000@marionseniors.org
SUMMARY:Medicare Minute with David
DESCRIPTION:David Summers will be at the center to update seniors on the latest Medicare policies and answer any questions.
URL:https://marionseniors.org/event/medicare-minute-with-david/
LOCATION:Fairview Senior Center\, 404 Main Street\, Fairview\, West Virginia\, 26570\, United States
CATEGORIES:Fairview
ORGANIZER;CN="Marion Senior Citizens":MAILTO:executivedirector@marionseniors.org
END:VEVENT
BEGIN:VEVENT
DTSTART;TZID=America/New_York:20250911T110000
DTEND;TZID=America/New_York:20250911T114500
DTSTAMP:20260420T115813
CREATED:20250828T193737Z
LAST-MODIFIED:20250828T193737Z
UID:10000124-1757588400-1757591100@marionseniors.org
SUMMARY:Bingo at the North Marion Senior Center
DESCRIPTION:Join us for bingo every Monday and Thursday
URL:https://marionseniors.org/event/bingo-at-the-north-marion-senior-center-9/
LOCATION:North Marion Senior Center\, 1 Senior Drive\, Mannington\, WV\, 26582\, United States
CATEGORIES:North Marion
ORGANIZER;CN="Marion Senior Citizens":MAILTO:executivedirector@marionseniors.org
END:VEVENT
BEGIN:VEVENT
DTSTART;TZID=America/New_York:20250911T093000
DTEND;TZID=America/New_York:20250911T113000
DTSTAMP:20260420T115813
CREATED:20250827T140452Z
LAST-MODIFIED:20250827T140452Z
UID:10000104-1757583000-1757590200@marionseniors.org
SUMMARY:Line Dancing at the Fairmont Senior Center
DESCRIPTION:Our seniors have a wonderful time stepping\, turning\, and laughing together during line dancing. It’s a great way to stay active\, make friends\, and enjoy some lively music. No partner needed—just bring your energy and a smile! \nCome join us at the Fairmont Senior Center and be part of the fun! \nBeginner class starts at 9:30 am\nAdvance class starts at 10:30 am
URL:https://marionseniors.org/event/line-dancing-at-the-fairmont-senior-center-2/
LOCATION:Fairmont Senior Center\, 105 Maplewood Drive\, Fairmont\, WV\, 26554\, United States
CATEGORIES:Fairmont
ORGANIZER;CN="Marion Senior Citizens":MAILTO:executivedirector@marionseniors.org
END:VEVENT
BEGIN:VEVENT
DTSTART;TZID=America/New_York:20250910T124500
DTEND;TZID=America/New_York:20250910T140000
DTSTAMP:20260420T115813
CREATED:20250827T142403Z
LAST-MODIFIED:20250827T142403Z
UID:10000112-1757508300-1757512800@marionseniors.org
SUMMARY:“Swinging with Elvis”
DESCRIPTION:Lee Dean will be at the Fairmont Senior Center for a musical tribute to Elvis! All great Elvis classics are performed in this very high-energy show. \nJoin us for lunch and stay for the show! \n  \n 
URL:https://marionseniors.org/event/swinging-with-elvis/
LOCATION:Fairmont Senior Center\, 105 Maplewood Drive\, Fairmont\, WV\, 26554\, United States
CATEGORIES:Fairmont
ORGANIZER;CN="Marion Senior Citizens":MAILTO:executivedirector@marionseniors.org
END:VEVENT
BEGIN:VEVENT
DTSTART;TZID=America/New_York:20250909T124500
DTEND;TZID=America/New_York:20250909T140000
DTSTAMP:20260420T115813
CREATED:20250828T193631Z
LAST-MODIFIED:20250828T193631Z
UID:10000123-1757421900-1757426400@marionseniors.org
SUMMARY:Planning Ahead: Funeral Preparation
DESCRIPTION:Adam Perine from Hutson Funeral Home will visit the center to discuss the importance of funeral preparation. He will provide helpful information on planning ahead\, easing the burden on loved ones\, and making sure final wishes are honored. This is a valuable opportunity to learn and ask questions.
URL:https://marionseniors.org/event/planning-ahead-funeral-preparation/
LOCATION:North Marion Senior Center\, 1 Senior Drive\, Mannington\, WV\, 26582\, United States
CATEGORIES:North Marion
ORGANIZER;CN="Marion Senior Citizens":MAILTO:executivedirector@marionseniors.org
END:VEVENT
BEGIN:VEVENT
DTSTART;TZID=America/New_York:20250909T123000
DTEND;TZID=America/New_York:20250909T133000
DTSTAMP:20260420T115813
CREATED:20250829T133214Z
LAST-MODIFIED:20250829T133214Z
UID:10000138-1757421000-1757424600@marionseniors.org
SUMMARY:Bird Craft with Angie
DESCRIPTION:Angie will lead the group in a “bird feeder” craft.
URL:https://marionseniors.org/event/bird-craft-with-angie-2/
LOCATION:Fairview Senior Center\, 404 Main Street\, Fairview\, West Virginia\, 26570\, United States
CATEGORIES:Fairview
ORGANIZER;CN="Marion Senior Citizens":MAILTO:executivedirector@marionseniors.org
END:VEVENT
BEGIN:VEVENT
DTSTART;TZID=America/New_York:20250908T124500
DTEND;TZID=America/New_York:20250908T140000
DTSTAMP:20260420T115813
CREATED:20250827T141653Z
LAST-MODIFIED:20250827T160645Z
UID:10000111-1757335500-1757340000@marionseniors.org
SUMMARY:Visit With Encompass Health
DESCRIPTION:Kristie from Encompass Health will be at the center for Q&A and will do blood pressure screenings
URL:https://marionseniors.org/event/visit-with-encompass/
LOCATION:Fairmont Senior Center\, 105 Maplewood Drive\, Fairmont\, WV\, 26554\, United States
CATEGORIES:Fairmont
ORGANIZER;CN="Marion Senior Citizens":MAILTO:executivedirector@marionseniors.org
END:VEVENT
BEGIN:VEVENT
DTSTART;TZID=America/New_York:20250908T123000
DTEND;TZID=America/New_York:20250908T133000
DTSTAMP:20260420T115813
CREATED:20250829T121231Z
LAST-MODIFIED:20250829T121231Z
UID:10000137-1757334600-1757338200@marionseniors.org
SUMMARY:Bingo at the Fairview Center
DESCRIPTION:Join us for a little friendly bingo competition at the center. Hopefully\, it will be friendly! :0
URL:https://marionseniors.org/event/bingo-at-the-fairview-center/
LOCATION:Fairview Senior Center\, 404 Main Street\, Fairview\, West Virginia\, 26570\, United States
CATEGORIES:Fairview
ORGANIZER;CN="Marion Senior Citizens":MAILTO:executivedirector@marionseniors.org
END:VEVENT
BEGIN:VEVENT
DTSTART;TZID=America/New_York:20250908T110000
DTEND;TZID=America/New_York:20250908T114500
DTSTAMP:20260420T115813
CREATED:20250828T193307Z
LAST-MODIFIED:20250828T193307Z
UID:10000122-1757329200-1757331900@marionseniors.org
SUMMARY:Bingo at the North Marion Center
DESCRIPTION:Join us for bingo every Monday and Thursday
URL:https://marionseniors.org/event/bingo-at-the-north-marion-center/
LOCATION:North Marion Senior Center\, 1 Senior Drive\, Mannington\, WV\, 26582\, United States
CATEGORIES:North Marion
ORGANIZER;CN="Marion Senior Citizens":MAILTO:executivedirector@marionseniors.org
END:VEVENT
BEGIN:VEVENT
DTSTART;TZID=America/New_York:20250905T123000
DTEND;TZID=America/New_York:20250905T130000
DTSTAMP:20260420T115813
CREATED:20250827T141249Z
LAST-MODIFIED:20250827T141249Z
UID:10000110-1757075400-1757077200@marionseniors.org
SUMMARY:Celebrate Grandparent's Day With Us!
DESCRIPTION:Join us as we honor the love\, wisdom\, and joy that grandparents bring to our lives. It’s the perfect time to gather\, share stories\, and make memories together – and eat cake. 💕
URL:https://marionseniors.org/event/celebrate-grandparents-day-with-us-3/
LOCATION:North Marion Senior Center\, 1 Senior Drive\, Mannington\, WV\, 26582\, United States
CATEGORIES:North Marion
ORGANIZER;CN="Marion Senior Citizens":MAILTO:executivedirector@marionseniors.org
END:VEVENT
BEGIN:VEVENT
DTSTART;TZID=America/New_York:20250905T123000
DTEND;TZID=America/New_York:20250905T130000
DTSTAMP:20260420T115813
CREATED:20250827T141202Z
LAST-MODIFIED:20250827T141202Z
UID:10000109-1757075400-1757077200@marionseniors.org
SUMMARY:Celebrate Grandparent's Day with Us!
DESCRIPTION:Join us as we honor the love\, wisdom\, and joy that grandparents bring to our lives. It’s the perfect time to gather\, share stories\, and make memories together – and eat cake. 💕
URL:https://marionseniors.org/event/celebrate-grandparents-day-with-us-2/
LOCATION:Fairview Senior Center\, 404 Main Street\, Fairview\, West Virginia\, 26570\, United States
CATEGORIES:Fairview
ORGANIZER;CN="Marion Senior Citizens":MAILTO:executivedirector@marionseniors.org
END:VEVENT
BEGIN:VEVENT
DTSTART;TZID=America/New_York:20250905T123000
DTEND;TZID=America/New_York:20250905T130000
DTSTAMP:20260420T115813
CREATED:20250827T141055Z
LAST-MODIFIED:20250827T141055Z
UID:10000108-1757075400-1757077200@marionseniors.org
SUMMARY:Celebrate Grandparent’s Day with Us!
DESCRIPTION:Join us as we honor the love\, wisdom\, and joy that grandparents bring to our lives. It’s the perfect time to gather\, share stories\, and make memories together – and eat cake. 💕
URL:https://marionseniors.org/event/celebrate-grandparents-day-with-us/
LOCATION:Fairmont Senior Center\, 105 Maplewood Drive\, Fairmont\, WV\, 26554\, United States
CATEGORIES:Fairmont
ORGANIZER;CN="Marion Senior Citizens":MAILTO:executivedirector@marionseniors.org
END:VEVENT
BEGIN:VEVENT
DTSTART;TZID=America/New_York:20250905T110000
DTEND;TZID=America/New_York:20250905T114500
DTSTAMP:20260420T115813
CREATED:20250828T193201Z
LAST-MODIFIED:20250828T193201Z
UID:10000121-1757070000-1757072700@marionseniors.org
SUMMARY:Senior Safety with First Team Defense
DESCRIPTION:Join us for an important presentation on senior safety with Bill from First Team Defense. He will share practical tips and strategies to help seniors stay aware\, confident\, and prepared in everyday situations. This session is designed to empower older adults with simple tools to protect themselves and feel safer at home and in the community.
URL:https://marionseniors.org/event/senior-safety-with-first-team-defense/
LOCATION:North Marion Senior Center\, 1 Senior Drive\, Mannington\, WV\, 26582\, United States
CATEGORIES:North Marion
ORGANIZER;CN="Marion Senior Citizens":MAILTO:executivedirector@marionseniors.org
END:VEVENT
BEGIN:VEVENT
DTSTART;TZID=America/New_York:20250904T110000
DTEND;TZID=America/New_York:20250904T114500
DTSTAMP:20260420T115813
CREATED:20250828T192842Z
LAST-MODIFIED:20250828T192842Z
UID:10000120-1756983600-1756986300@marionseniors.org
SUMMARY:Bingo at the North Marion Senor Center
DESCRIPTION:Join us for Bingo every Monday and Thursday at the North Marion Senior Center.
URL:https://marionseniors.org/event/bingo-at-the-north-marion-senor-center/
LOCATION:North Marion Senior Center\, 1 Senior Drive\, Mannington\, WV\, 26582\, United States
CATEGORIES:North Marion
ORGANIZER;CN="Marion Senior Citizens":MAILTO:executivedirector@marionseniors.org
END:VEVENT
END:VCALENDAR