BEGIN:VCALENDAR
VERSION:2.0
PRODID:-//Marion County Senior Center - ECPv6.15.17.1//NONSGML v1.0//EN
CALSCALE:GREGORIAN
METHOD:PUBLISH
X-WR-CALNAME:Marion County Senior Center
X-ORIGINAL-URL:https://marionseniors.org
X-WR-CALDESC:Events for Marion County Senior Center
REFRESH-INTERVAL;VALUE=DURATION:PT1H
X-Robots-Tag:noindex
X-PUBLISHED-TTL:PT1H
BEGIN:VTIMEZONE
TZID:America/New_York
BEGIN:DAYLIGHT
TZOFFSETFROM:-0500
TZOFFSETTO:-0400
TZNAME:EDT
DTSTART:20240310T070000
END:DAYLIGHT
BEGIN:STANDARD
TZOFFSETFROM:-0400
TZOFFSETTO:-0500
TZNAME:EST
DTSTART:20241103T060000
END:STANDARD
BEGIN:DAYLIGHT
TZOFFSETFROM:-0500
TZOFFSETTO:-0400
TZNAME:EDT
DTSTART:20250309T070000
END:DAYLIGHT
BEGIN:STANDARD
TZOFFSETFROM:-0400
TZOFFSETTO:-0500
TZNAME:EST
DTSTART:20251102T060000
END:STANDARD
BEGIN:DAYLIGHT
TZOFFSETFROM:-0500
TZOFFSETTO:-0400
TZNAME:EDT
DTSTART:20260308T070000
END:DAYLIGHT
BEGIN:STANDARD
TZOFFSETFROM:-0400
TZOFFSETTO:-0500
TZNAME:EST
DTSTART:20261101T060000
END:STANDARD
END:VTIMEZONE
BEGIN:VEVENT
DTSTART;TZID=America/New_York:20250820T070000
DTEND;TZID=America/New_York:20250820T190000
DTSTAMP:20260424T152822
CREATED:20250815T192133Z
LAST-MODIFIED:20250815T192133Z
UID:10000099-1755673200-1755716400@marionseniors.org
SUMMARY:FEMA MOBILE OFFICE COMING TO FAIRMONT SENIOR CENTER 
DESCRIPTION:If you were affected by the June floods in Marion County\, now is your chance to get assistance.\n\n\n\n When:\n Tuesday\, August 19 & Wednesday\, August 20\n 7:00 AM – 7:00 PM\n\n\n Where: Fairmont Senior Center\, 105 Maplewood Drive\, Fairmont\, WV\n\n\n\nFEMA representatives will be on-site to help you apply for disaster assistance\, answer your questions\, and guide you through the recovery process. Don’t miss this opportunity to get the help you need!
URL:https://marionseniors.org/event/fema-mobile-office-coming-to-fairmont-senior-center-2/
LOCATION:Fairmont Senior Center\, 105 Maplewood Drive\, Fairmont\, WV\, 26554\, United States
CATEGORIES:Fairmont
ORGANIZER;CN="Marion Senior Citizens":MAILTO:executivedirector@marionseniors.org
END:VEVENT
BEGIN:VEVENT
DTSTART;TZID=America/New_York:20250819T110000
DTEND;TZID=America/New_York:20250819T114500
DTSTAMP:20260424T152822
CREATED:20250623T175719Z
LAST-MODIFIED:20250623T175719Z
UID:10000058-1755601200-1755603900@marionseniors.org
SUMMARY:Gentle Movement with Lauri
DESCRIPTION:Join us for Gentle Movement For Everyday Activities with Lauri Brammer. \nThis three-week session focuses on gentle movement\, breathing exercises\, and balancing postures to enhance strength and flexibility and help maintain the ability to perform everyday activities.  \nThese sessions will be held in the dining hall at the Fairmont Senior Center from 11:00 – 11:45 am. \nClasses are FREE and open to the public.
URL:https://marionseniors.org/event/gentle-movement-with-lauri-3/
LOCATION:Fairmont Senior Center\, 105 Maplewood Drive\, Fairmont\, WV\, 26554\, United States
CATEGORIES:Fairmont
ORGANIZER;CN="Marion Senior Citizens":MAILTO:executivedirector@marionseniors.org
END:VEVENT
BEGIN:VEVENT
DTSTART;TZID=America/New_York:20250819T104500
DTEND;TZID=America/New_York:20250819T120000
DTSTAMP:20260424T152822
CREATED:20250728T142529Z
LAST-MODIFIED:20250728T142529Z
UID:10000082-1755600300-1755604800@marionseniors.org
SUMMARY:Craft with Julie
DESCRIPTION:Julie from the Fairview Public Library will be at the center to lead a craft activity.
URL:https://marionseniors.org/event/craft-with-julie/
LOCATION:Fairview Senior Center\, 404 Main Street\, Fairview\, West Virginia\, 26570\, United States
CATEGORIES:Fairview
ORGANIZER;CN="Marion Senior Citizens":MAILTO:executivedirector@marionseniors.org
END:VEVENT
BEGIN:VEVENT
DTSTART;TZID=America/New_York:20250819T070000
DTEND;TZID=America/New_York:20250819T190000
DTSTAMP:20260424T152822
CREATED:20250815T191914Z
LAST-MODIFIED:20250815T192212Z
UID:10000098-1755586800-1755630000@marionseniors.org
SUMMARY:FEMA MOBILE OFFICE COMING TO FAIRMONT SENIOR CENTER 
DESCRIPTION:If you were affected by the June floods in Marion County\, now is your chance to get assistance.\n\n When:\n Tuesday\, August 19 & Wednesday\, August 20\n 7:00 AM – 7:00 PM \n Where: Fairmont Senior Center\n105 Maplewood Drive\, Fairmont\, WV \nFEMA representatives will be on-site to help you apply for disaster assistance\, answer your questions\, and guide you through the recovery process. Don’t miss this opportunity to get the help you need!
URL:https://marionseniors.org/event/fema-mobile-office-coming-to-fairmont-senior-center/
LOCATION:Fairmont Senior Center\, 105 Maplewood Drive\, Fairmont\, WV\, 26554\, United States
CATEGORIES:Fairmont
ORGANIZER;CN="Marion Senior Citizens":MAILTO:executivedirector@marionseniors.org
END:VEVENT
BEGIN:VEVENT
DTSTART;TZID=America/New_York:20250818T124500
DTEND;TZID=America/New_York:20250818T131500
DTSTAMP:20260424T152822
CREATED:20250728T150654Z
LAST-MODIFIED:20250728T150654Z
UID:10000094-1755521100-1755522900@marionseniors.org
SUMMARY:MedBridge WV Presentation with Michael Bond
DESCRIPTION:Michael will be at the center to discuss the many services offered by MedBridge WV.
URL:https://marionseniors.org/event/medbridge-wv-presentation-with-michael-bond-2/
LOCATION:North Marion Senior Center\, 1 Senior Drive\, Mannington\, WV\, 26582\, United States
CATEGORIES:North Marion
ORGANIZER;CN="Marion Senior Citizens":MAILTO:executivedirector@marionseniors.org
END:VEVENT
BEGIN:VEVENT
DTSTART;TZID=America/New_York:20250818T110000
DTEND;TZID=America/New_York:20250818T120000
DTSTAMP:20260424T152822
CREATED:20250728T144128Z
LAST-MODIFIED:20250728T144128Z
UID:10000088-1755514800-1755518400@marionseniors.org
SUMMARY:Bingo at the North Marion Senior Center
DESCRIPTION:Join us for bingo every Monday and Thursday
URL:https://marionseniors.org/event/bingo-at-the-north-marion-senior-center-5/
LOCATION:North Marion Senior Center\, 1 Senior Drive\, Mannington\, WV\, 26582\, United States
CATEGORIES:North Marion
ORGANIZER;CN="Marion Senior Citizens":MAILTO:executivedirector@marionseniors.org
END:VEVENT
BEGIN:VEVENT
DTSTART;TZID=America/New_York:20250815T113000
DTEND;TZID=America/New_York:20250815T120000
DTSTAMP:20260424T152822
CREATED:20250728T142300Z
LAST-MODIFIED:20250728T142300Z
UID:10000081-1755257400-1755259200@marionseniors.org
SUMMARY:MedBridge WV Presentation with Michael Bond
DESCRIPTION:Michael will be at the center to discuss the many services offered at their MedBridge WV locations.
URL:https://marionseniors.org/event/medbridge-wv-presentation-with-michael-bond/
LOCATION:Fairview Senior Center\, 404 Main Street\, Fairview\, West Virginia\, 26570\, United States
CATEGORIES:Fairview
ORGANIZER;CN="Marion Senior Citizens":MAILTO:executivedirector@marionseniors.org
END:VEVENT
BEGIN:VEVENT
DTSTART;TZID=America/New_York:20250814T114500
DTEND;TZID=America/New_York:20250814T120000
DTSTAMP:20260424T152822
CREATED:20250728T142045Z
LAST-MODIFIED:20250728T142045Z
UID:10000080-1755171900-1755172800@marionseniors.org
SUMMARY:Medicare Minute with David Summers
DESCRIPTION:David Summers\, our SHIP Coordinator\, will be at the center before lunch to answer your Medicare questions or concerns.
URL:https://marionseniors.org/event/medicare-minute-with-david-summers-8/
LOCATION:Fairview Senior Center\, 404 Main Street\, Fairview\, West Virginia\, 26570\, United States
CATEGORIES:Fairview
ORGANIZER;CN="Marion Senior Citizens":MAILTO:executivedirector@marionseniors.org
END:VEVENT
BEGIN:VEVENT
DTSTART;TZID=America/New_York:20250814T110000
DTEND;TZID=America/New_York:20250814T120000
DTSTAMP:20260424T152822
CREATED:20250728T143030Z
LAST-MODIFIED:20250728T143030Z
UID:10000087-1755169200-1755172800@marionseniors.org
SUMMARY:Bingo at the North Marion Senior Center
DESCRIPTION:Join us for bingo every Monday and Thursday
URL:https://marionseniors.org/event/bingo-at-the-north-marion-senior-center-4/
LOCATION:North Marion Senior Center\, 1 Senior Drive\, Mannington\, WV\, 26582\, United States
CATEGORIES:North Marion
ORGANIZER;CN="Marion Senior Citizens":MAILTO:executivedirector@marionseniors.org
END:VEVENT
BEGIN:VEVENT
DTSTART;TZID=America/New_York:20250813T110000
DTEND;TZID=America/New_York:20250813T120000
DTSTAMP:20260424T152822
CREATED:20250728T125038Z
LAST-MODIFIED:20250728T125038Z
UID:10000067-1755082800-1755086400@marionseniors.org
SUMMARY:Bingo at the Fairmont Senior Center
DESCRIPTION:Join us for bingo every Wednesday
URL:https://marionseniors.org/event/bingo-at-the-fairmont-senior-center-3/
LOCATION:Fairmont Senior Center\, 105 Maplewood Drive\, Fairmont\, WV\, 26554\, United States
CATEGORIES:Fairmont
ORGANIZER;CN="Marion Senior Citizens":MAILTO:executivedirector@marionseniors.org
END:VEVENT
BEGIN:VEVENT
DTSTART;TZID=America/New_York:20250813T103000
DTEND;TZID=America/New_York:20250813T120000
DTSTAMP:20260424T152822
CREATED:20250728T130928Z
LAST-MODIFIED:20250728T130928Z
UID:10000072-1755081000-1755086400@marionseniors.org
SUMMARY:Cooking Demonstration with Natalie Feltz
DESCRIPTION:Join us for a healthy food cooking demo (with samples) with Natalie Feltz. Natalie is the Associate Professor of Food Service Management at Pierpont Community & Technical College.
URL:https://marionseniors.org/event/cooking-demonstration-with-natalie-feltz/
LOCATION:Fairmont Senior Center\, 105 Maplewood Drive\, Fairmont\, WV\, 26554\, United States
CATEGORIES:Fairmont
ORGANIZER;CN="Marion Senior Citizens":MAILTO:executivedirector@marionseniors.org
END:VEVENT
BEGIN:VEVENT
DTSTART;TZID=America/New_York:20250812T110000
DTEND;TZID=America/New_York:20250812T114500
DTSTAMP:20260424T152822
CREATED:20250623T175533Z
LAST-MODIFIED:20250623T175533Z
UID:10000057-1754996400-1754999100@marionseniors.org
SUMMARY:Gentle Movement with Lauri
DESCRIPTION:Join us for Gentle Movement For Everyday Activities with Lauri Brammer. \nThis three-week session focuses on gentle movement\, breathing exercises\, and balancing postures to enhance strength and flexibility and help maintain the ability to perform everyday activities.  \nAugust 12 & August 19. \nThese sessions will be held in the dining hall at the Fairmont Senior Center from 11:00 – 11:45 am. \nClasses are FREE and open to the public.
URL:https://marionseniors.org/event/gentle-movement-with-lauri-2/
LOCATION:Fairmont Senior Center\, 105 Maplewood Drive\, Fairmont\, WV\, 26554\, United States
CATEGORIES:Fairmont
ORGANIZER;CN="Marion Senior Citizens":MAILTO:executivedirector@marionseniors.org
END:VEVENT
BEGIN:VEVENT
DTSTART;TZID=America/New_York:20250811T124500
DTEND;TZID=America/New_York:20250811T131500
DTSTAMP:20260424T152822
CREATED:20250728T141859Z
LAST-MODIFIED:20250728T141859Z
UID:10000079-1754916300-1754918100@marionseniors.org
SUMMARY:Movement for Every Body with Paula
DESCRIPTION:Join us for lunch\, then stay for Easy Does It with Paula Hatten: Movement for Every Body. Paula will lead the group in gentle movement and breathing exercises to help with day-to-day activities.
URL:https://marionseniors.org/event/movement-for-every-body-with-paula/
LOCATION:Fairview Senior Center\, 404 Main Street\, Fairview\, West Virginia\, 26570\, United States
CATEGORIES:Fairview
ORGANIZER;CN="Marion Senior Citizens":MAILTO:executivedirector@marionseniors.org
END:VEVENT
BEGIN:VEVENT
DTSTART;TZID=America/New_York:20250811T110000
DTEND;TZID=America/New_York:20250811T120000
DTSTAMP:20260424T152822
CREATED:20250728T142944Z
LAST-MODIFIED:20250728T142944Z
UID:10000086-1754910000-1754913600@marionseniors.org
SUMMARY:Bingo at the North Marion Senior Center
DESCRIPTION:Join us for bingo every Monday and Thursday
URL:https://marionseniors.org/event/bingo-at-the-north-marion-senior-center-3/
LOCATION:North Marion Senior Center\, 1 Senior Drive\, Mannington\, WV\, 26582\, United States
CATEGORIES:North Marion
ORGANIZER;CN="Marion Senior Citizens":MAILTO:executivedirector@marionseniors.org
END:VEVENT
BEGIN:VEVENT
DTSTART;TZID=America/New_York:20250808T123000
DTEND;TZID=America/New_York:20250808T143000
DTSTAMP:20260424T152822
CREATED:20250728T133249Z
LAST-MODIFIED:20250728T140018Z
UID:10000071-1754656200-1754663400@marionseniors.org
SUMMARY:Movie Day at the Fairmont Senior Center
DESCRIPTION:Join us for lunch at noon\, then stay and enjoy a “senior-friendly” movie complete with popcorn.
URL:https://marionseniors.org/event/movie-day-at-the-fairmont-senior-center/
LOCATION:Fairmont Senior Center\, 105 Maplewood Drive\, Fairmont\, WV\, 26554\, United States
CATEGORIES:Fairmont
ORGANIZER;CN="Marion Senior Citizens":MAILTO:executivedirector@marionseniors.org
END:VEVENT
BEGIN:VEVENT
DTSTART;TZID=America/New_York:20250808T114500
DTEND;TZID=America/New_York:20250808T120000
DTSTAMP:20260424T152822
CREATED:20250728T150354Z
LAST-MODIFIED:20250728T150354Z
UID:10000093-1754653500-1754654400@marionseniors.org
SUMMARY:Medicare Minute with David Summers
DESCRIPTION:Do you have questions about Medicare? Our SHIP Coordinator\, David Summers\, will be at the center to help you make sense of your Medicare coverage
URL:https://marionseniors.org/event/medicare-minute-with-david-summers-9/
LOCATION:North Marion Senior Center\, 1 Senior Drive\, Mannington\, WV\, 26582\, United States
CATEGORIES:North Marion
ORGANIZER;CN="Marion Senior Citizens":MAILTO:executivedirector@marionseniors.org
END:VEVENT
BEGIN:VEVENT
DTSTART;TZID=America/New_York:20250807T123000
DTEND;TZID=America/New_York:20250807T143000
DTSTAMP:20260424T152822
CREATED:20250728T141621Z
LAST-MODIFIED:20250728T141621Z
UID:10000078-1754569800-1754577000@marionseniors.org
SUMMARY:Movie Day at the Fairview Senior Center
DESCRIPTION:Join us for lunch\, then stay for a “senior-friendly” movie at the center -complete with popcorn.
URL:https://marionseniors.org/event/movie-day-at-the-fairview-senior-center/
LOCATION:Fairview Senior Center\, 404 Main Street\, Fairview\, West Virginia\, 26570\, United States
CATEGORIES:Fairview
ORGANIZER;CN="Marion Senior Citizens":MAILTO:executivedirector@marionseniors.org
END:VEVENT
BEGIN:VEVENT
DTSTART;TZID=America/New_York:20250807T110000
DTEND;TZID=America/New_York:20250807T120000
DTSTAMP:20260424T152822
CREATED:20250728T142854Z
LAST-MODIFIED:20250728T142854Z
UID:10000085-1754564400-1754568000@marionseniors.org
SUMMARY:Bingo at the North Marion Senior Center
DESCRIPTION:Join us for bingo every Monday and Thursday
URL:https://marionseniors.org/event/bingo-at-the-north-marion-senior-center-2/
LOCATION:North Marion Senior Center\, 1 Senior Drive\, Mannington\, WV\, 26582\, United States
CATEGORIES:North Marion
ORGANIZER;CN="Marion Senior Citizens":MAILTO:executivedirector@marionseniors.org
END:VEVENT
BEGIN:VEVENT
DTSTART;TZID=America/New_York:20250806T110000
DTEND;TZID=America/New_York:20250806T120000
DTSTAMP:20260424T152822
CREATED:20250728T124806Z
LAST-MODIFIED:20250728T124912Z
UID:10000066-1754478000-1754481600@marionseniors.org
SUMMARY:Bingo at the Fairmont Senior Center
DESCRIPTION:Join us for bingo every Wednesday
URL:https://marionseniors.org/event/bingo/
LOCATION:Fairmont Senior Center\, 105 Maplewood Drive\, Fairmont\, WV\, 26554\, United States
CATEGORIES:Fairmont
ORGANIZER;CN="Marion Senior Citizens":MAILTO:executivedirector@marionseniors.org
END:VEVENT
BEGIN:VEVENT
DTSTART;TZID=America/New_York:20250805T110000
DTEND;TZID=America/New_York:20250805T120000
DTSTAMP:20260424T152822
CREATED:20250728T125437Z
LAST-MODIFIED:20250728T125437Z
UID:10000070-1754391600-1754395200@marionseniors.org
SUMMARY:Bird Craft with Angie
DESCRIPTION:Continue with our birding series\, join us at the Fairmont Senior Center for a bird feed craft
URL:https://marionseniors.org/event/bird-craft-with-angie/
LOCATION:Fairmont Senior Center\, 105 Maplewood Drive\, Fairmont\, WV\, 26554\, United States
CATEGORIES:Fairmont
ORGANIZER;CN="Marion Senior Citizens":MAILTO:executivedirector@marionseniors.org
END:VEVENT
BEGIN:VEVENT
DTSTART;TZID=America/New_York:20250804T124500
DTEND;TZID=America/New_York:20250804T131500
DTSTAMP:20260424T152822
CREATED:20250728T150212Z
LAST-MODIFIED:20250728T150212Z
UID:10000092-1754311500-1754313300@marionseniors.org
SUMMARY:Movement for Every Body with Paula
DESCRIPTION:Paula Hatten will be leading us in gentle movement and breathing exercises to help with day-to-day activities.
URL:https://marionseniors.org/event/movement-for-every-body-with-paula-2/
LOCATION:North Marion Senior Center\, 1 Senior Drive\, Mannington\, WV\, 26582\, United States
CATEGORIES:North Marion
ORGANIZER;CN="Marion Senior Citizens":MAILTO:executivedirector@marionseniors.org
END:VEVENT
BEGIN:VEVENT
DTSTART;TZID=America/New_York:20250804T123000
DTEND;TZID=America/New_York:20250804T133000
DTSTAMP:20260424T152822
CREATED:20250728T141450Z
LAST-MODIFIED:20250728T141450Z
UID:10000077-1754310600-1754314200@marionseniors.org
SUMMARY:Bingo at the Fairview Senior Center
DESCRIPTION:Join us for bingo and a chance to visit with Nathan\, a physical therapist with Personal-Touch Home Care
URL:https://marionseniors.org/event/bingo-at-the-fairview-senior-center/
LOCATION:Fairview Senior Center\, 404 Main Street\, Fairview\, West Virginia\, 26570\, United States
CATEGORIES:Fairview
ORGANIZER;CN="Marion Senior Citizens":MAILTO:executivedirector@marionseniors.org
END:VEVENT
BEGIN:VEVENT
DTSTART;TZID=America/New_York:20250804T110000
DTEND;TZID=America/New_York:20250804T120000
DTSTAMP:20260424T152822
CREATED:20250728T142754Z
LAST-MODIFIED:20250728T142754Z
UID:10000084-1754305200-1754308800@marionseniors.org
SUMMARY:Bingo at the North Marion Senior Center
DESCRIPTION:Join us for bingo every Monday and Thursday
URL:https://marionseniors.org/event/bingo-at-the-north-marion-senior-center/
LOCATION:North Marion Senior Center\, 1 Senior Drive\, Mannington\, WV\, 26582\, United States
CATEGORIES:North Marion
ORGANIZER;CN="Marion Senior Citizens":MAILTO:executivedirector@marionseniors.org
END:VEVENT
BEGIN:VEVENT
DTSTART;TZID=America/New_York:20250801T110000
DTEND;TZID=America/New_York:20250801T120000
DTSTAMP:20260424T152822
CREATED:20250728T132246Z
LAST-MODIFIED:20250728T132246Z
UID:10000076-1754046000-1754049600@marionseniors.org
SUMMARY:Self Defense Presentation with William Watkins
DESCRIPTION:William will discuss ways to stay safe and how best to protect ourselves as older adults. William is the owner of First Team Defense\, where he and his team emphasize the importance of practicing good situational awareness to avoid being a victim.
URL:https://marionseniors.org/event/self-defense-presentation-with-william-watkins/
LOCATION:Fairview Senior Center\, 404 Main Street\, Fairview\, West Virginia\, 26570\, United States
CATEGORIES:Fairview
ORGANIZER;CN="Marion Senior Citizens":MAILTO:executivedirector@marionseniors.org
END:VEVENT
BEGIN:VEVENT
DTSTART;TZID=America/New_York:20250731T110000
DTEND;TZID=America/New_York:20250731T120000
DTSTAMP:20260424T152822
CREATED:20250618T174538Z
LAST-MODIFIED:20250618T174538Z
UID:10000055-1753959600-1753963200@marionseniors.org
SUMMARY:Bingo at North Marion Senior Center
DESCRIPTION:Join us for bingo every Monday and Thursday.
URL:https://marionseniors.org/event/bingo-at-north-marion-senior-center-17/
LOCATION:North Marion Senior Center\, 1 Senior Drive\, Mannington\, WV\, 26582\, United States
CATEGORIES:North Marion
ORGANIZER;CN="Marion Senior Citizens":MAILTO:executivedirector@marionseniors.org
END:VEVENT
BEGIN:VEVENT
DTSTART;TZID=America/New_York:20250730T110000
DTEND;TZID=America/New_York:20250730T120000
DTSTAMP:20260424T152822
CREATED:20250618T151009Z
LAST-MODIFIED:20250618T151009Z
UID:10000046-1753873200-1753876800@marionseniors.org
SUMMARY:Bingo at Fairmont Senior Center
DESCRIPTION:Join us for bingo every Wednesday.
URL:https://marionseniors.org/event/bingo-at-fairmont-senior-center-3/
LOCATION:Fairmont Senior Center\, 105 Maplewood Drive\, Fairmont\, WV\, 26554\, United States
CATEGORIES:Fairmont
ORGANIZER;CN="Marion Senior Citizens":MAILTO:executivedirector@marionseniors.org
END:VEVENT
BEGIN:VEVENT
DTSTART;TZID=America/New_York:20250730T090000
DTEND;TZID=America/New_York:20250730T103000
DTSTAMP:20260424T152822
CREATED:20250624T145530Z
LAST-MODIFIED:20250624T145530Z
UID:10000063-1753866000-1753871400@marionseniors.org
SUMMARY:Biscuits & Banter Breakfast
DESCRIPTION:Start your morning right with our Biscuits & Banter Breakfast at the North Marion Senior Center! Enjoy fresh\, warm biscuits and gravy\, good coffee\, and even better company. It’s a relaxed and friendly way to catch up\, share a laugh\, and connect with others in the community.
URL:https://marionseniors.org/event/biscuits-banter-breakfast-2/
LOCATION:North Marion Senior Center\, 1 Senior Drive\, Mannington\, WV\, 26582\, United States
CATEGORIES:North Marion
ORGANIZER;CN="Marion Senior Citizens":MAILTO:executivedirector@marionseniors.org
END:VEVENT
BEGIN:VEVENT
DTSTART;TZID=America/New_York:20250728T110000
DTEND;TZID=America/New_York:20250728T120000
DTSTAMP:20260424T152822
CREATED:20250618T174447Z
LAST-MODIFIED:20250618T174447Z
UID:10000054-1753700400-1753704000@marionseniors.org
SUMMARY:Bingo at North Marion Senior Center
DESCRIPTION:Join us for bingo every Monday and Thursday.
URL:https://marionseniors.org/event/bingo-at-north-marion-senior-center-16/
LOCATION:North Marion Senior Center\, 1 Senior Drive\, Mannington\, WV\, 26582\, United States
CATEGORIES:North Marion
ORGANIZER;CN="Marion Senior Citizens":MAILTO:executivedirector@marionseniors.org
END:VEVENT
BEGIN:VEVENT
DTSTART;TZID=America/New_York:20250724T123000
DTEND;TZID=America/New_York:20250724T133000
DTSTAMP:20260424T152822
CREATED:20250618T133500Z
LAST-MODIFIED:20250618T133500Z
UID:10000039-1753360200-1753363800@marionseniors.org
SUMMARY:Birthday Celebration at the Fairview Center
DESCRIPTION:Join us for lunch and stay as we celebrate July birthdays with a special treat.
URL:https://marionseniors.org/event/birthday-celebration-at-the-fairview-center/
LOCATION:Fairview Senior Center\, 404 Main Street\, Fairview\, West Virginia\, 26570\, United States
CATEGORIES:Fairview
END:VEVENT
BEGIN:VEVENT
DTSTART;TZID=America/New_York:20250724T110000
DTEND;TZID=America/New_York:20250724T120000
DTSTAMP:20260424T152822
CREATED:20250618T174353Z
LAST-MODIFIED:20250618T174353Z
UID:10000053-1753354800-1753358400@marionseniors.org
SUMMARY:Bingo at North Marion Senior Center
DESCRIPTION:Join us for bingo every Monday and Thursday.
URL:https://marionseniors.org/event/bingo-at-north-marion-senior-center-15/
LOCATION:North Marion Senior Center\, 1 Senior Drive\, Mannington\, WV\, 26582\, United States
CATEGORIES:North Marion
ORGANIZER;CN="Marion Senior Citizens":MAILTO:executivedirector@marionseniors.org
END:VEVENT
END:VCALENDAR