BEGIN:VCALENDAR
VERSION:2.0
PRODID:-//Marion County Senior Center - ECPv6.15.17.1//NONSGML v1.0//EN
CALSCALE:GREGORIAN
METHOD:PUBLISH
X-WR-CALNAME:Marion County Senior Center
X-ORIGINAL-URL:https://marionseniors.org
X-WR-CALDESC:Events for Marion County Senior Center
REFRESH-INTERVAL;VALUE=DURATION:PT1H
X-Robots-Tag:noindex
X-PUBLISHED-TTL:PT1H
BEGIN:VTIMEZONE
TZID:America/New_York
BEGIN:DAYLIGHT
TZOFFSETFROM:-0500
TZOFFSETTO:-0400
TZNAME:EDT
DTSTART:20260308T070000
END:DAYLIGHT
BEGIN:STANDARD
TZOFFSETFROM:-0400
TZOFFSETTO:-0500
TZNAME:EST
DTSTART:20261101T060000
END:STANDARD
BEGIN:DAYLIGHT
TZOFFSETFROM:-0500
TZOFFSETTO:-0400
TZNAME:EDT
DTSTART:20270314T070000
END:DAYLIGHT
BEGIN:STANDARD
TZOFFSETFROM:-0400
TZOFFSETTO:-0500
TZNAME:EST
DTSTART:20271107T060000
END:STANDARD
BEGIN:DAYLIGHT
TZOFFSETFROM:-0500
TZOFFSETTO:-0400
TZNAME:EDT
DTSTART:20280312T070000
END:DAYLIGHT
BEGIN:STANDARD
TZOFFSETFROM:-0400
TZOFFSETTO:-0500
TZNAME:EST
DTSTART:20281105T060000
END:STANDARD
END:VTIMEZONE
BEGIN:VEVENT
DTSTART;TZID=America/New_York:20270101T103000
DTEND;TZID=America/New_York:20270101T113000
DTSTAMP:20260423T064233
CREATED:20260416T131908Z
LAST-MODIFIED:20260416T132225Z
UID:10002188-1798799400-1798803000@marionseniors.org
SUMMARY:Bible Study
DESCRIPTION:Pastor Lauren Murdoch will lead a weekly Bible study at the Fairview Senior Center every Friday at 10:30 a.m. \nAn ordained minister and chaplain in the Assemblies of God\, Pastor Lauren will guide participants through an engaging\, interactive study of selected passages and seasonal topics. The Bible study is open to everyone\, regardless of religious background\, and all materials will be provided.
URL:https://marionseniors.org/event/bible-study-16/2027-01-01/
LOCATION:Fairview Senior Center\, 404 Main Street\, Fairview\, West Virginia\, 26570\, United States
CATEGORIES:Fairview
ORGANIZER;CN="Marion Senior Citizens":MAILTO:executivedirector@marionseniors.org
END:VEVENT
BEGIN:VEVENT
DTSTART;TZID=America/New_York:20270101T123000
DTEND;TZID=America/New_York:20270101T133000
DTSTAMP:20260423T064233
CREATED:20260416T132140Z
LAST-MODIFIED:20260416T132140Z
UID:10002447-1798806600-1798810200@marionseniors.org
SUMMARY:Bible Study
DESCRIPTION:Pastor Lauren Murdoch will lead a weekly Bible study at the North Marion Senior Center every Friday at 12:30 p.m. \nAn ordained minister and chaplain in the Assemblies of God\, Pastor Lauren will guide participants through an engaging\, interactive study of selected passages and seasonal topics. The Bible study is open to everyone\, regardless of religious background\, and all materials will be provided.
URL:https://marionseniors.org/event/bible-study-17/2027-01-01/
LOCATION:North Marion Senior Center\, 1 Senior Drive\, Mannington\, WV\, 26582\, United States
CATEGORIES:North Marion
ORGANIZER;CN="Marion Senior Citizens":MAILTO:executivedirector@marionseniors.org
END:VEVENT
BEGIN:VEVENT
DTSTART;TZID=America/New_York:20270105T110000
DTEND;TZID=America/New_York:20270105T115000
DTSTAMP:20260423T064233
CREATED:20260123T162718Z
LAST-MODIFIED:20260123T162718Z
UID:10000621-1799146800-1799149800@marionseniors.org
SUMMARY:BIBLE STUDY
DESCRIPTION:Pastor Lauren Murdoch will lead a weekly Bible study at the Fairmont Senior Center every Tuesday at 11:00 a.m. \nAn ordained minister and chaplain in the Assemblies of God\, Pastor Lauren will guide participants through an engaging\, interactive study of selected passages and seasonal topics. The Bible study is open to everyone\, regardless of religious background\, and all materials will be provided.
URL:https://marionseniors.org/event/bible-study-15/2027-01-05/
LOCATION:Fairmont Senior Center\, 105 Maplewood Drive\, Fairmont\, WV\, 26554\, United States
CATEGORIES:Fairmont
ORGANIZER;CN="Marion Senior Citizens":MAILTO:executivedirector@marionseniors.org
END:VEVENT
BEGIN:VEVENT
DTSTART;TZID=America/New_York:20270108T103000
DTEND;TZID=America/New_York:20270108T113000
DTSTAMP:20260423T064233
CREATED:20260416T131908Z
LAST-MODIFIED:20260416T132225Z
UID:10002189-1799404200-1799407800@marionseniors.org
SUMMARY:Bible Study
DESCRIPTION:Pastor Lauren Murdoch will lead a weekly Bible study at the Fairview Senior Center every Friday at 10:30 a.m. \nAn ordained minister and chaplain in the Assemblies of God\, Pastor Lauren will guide participants through an engaging\, interactive study of selected passages and seasonal topics. The Bible study is open to everyone\, regardless of religious background\, and all materials will be provided.
URL:https://marionseniors.org/event/bible-study-16/2027-01-08/
LOCATION:Fairview Senior Center\, 404 Main Street\, Fairview\, West Virginia\, 26570\, United States
CATEGORIES:Fairview
ORGANIZER;CN="Marion Senior Citizens":MAILTO:executivedirector@marionseniors.org
END:VEVENT
BEGIN:VEVENT
DTSTART;TZID=America/New_York:20270108T123000
DTEND;TZID=America/New_York:20270108T133000
DTSTAMP:20260423T064233
CREATED:20260416T132140Z
LAST-MODIFIED:20260416T132140Z
UID:10002448-1799411400-1799415000@marionseniors.org
SUMMARY:Bible Study
DESCRIPTION:Pastor Lauren Murdoch will lead a weekly Bible study at the North Marion Senior Center every Friday at 12:30 p.m. \nAn ordained minister and chaplain in the Assemblies of God\, Pastor Lauren will guide participants through an engaging\, interactive study of selected passages and seasonal topics. The Bible study is open to everyone\, regardless of religious background\, and all materials will be provided.
URL:https://marionseniors.org/event/bible-study-17/2027-01-08/
LOCATION:North Marion Senior Center\, 1 Senior Drive\, Mannington\, WV\, 26582\, United States
CATEGORIES:North Marion
ORGANIZER;CN="Marion Senior Citizens":MAILTO:executivedirector@marionseniors.org
END:VEVENT
BEGIN:VEVENT
DTSTART;TZID=America/New_York:20270112T110000
DTEND;TZID=America/New_York:20270112T115000
DTSTAMP:20260423T064233
CREATED:20260123T162718Z
LAST-MODIFIED:20260123T162718Z
UID:10000622-1799751600-1799754600@marionseniors.org
SUMMARY:BIBLE STUDY
DESCRIPTION:Pastor Lauren Murdoch will lead a weekly Bible study at the Fairmont Senior Center every Tuesday at 11:00 a.m. \nAn ordained minister and chaplain in the Assemblies of God\, Pastor Lauren will guide participants through an engaging\, interactive study of selected passages and seasonal topics. The Bible study is open to everyone\, regardless of religious background\, and all materials will be provided.
URL:https://marionseniors.org/event/bible-study-15/2027-01-12/
LOCATION:Fairmont Senior Center\, 105 Maplewood Drive\, Fairmont\, WV\, 26554\, United States
CATEGORIES:Fairmont
ORGANIZER;CN="Marion Senior Citizens":MAILTO:executivedirector@marionseniors.org
END:VEVENT
BEGIN:VEVENT
DTSTART;TZID=America/New_York:20270115T103000
DTEND;TZID=America/New_York:20270115T113000
DTSTAMP:20260423T064233
CREATED:20260416T131908Z
LAST-MODIFIED:20260416T132225Z
UID:10002190-1800009000-1800012600@marionseniors.org
SUMMARY:Bible Study
DESCRIPTION:Pastor Lauren Murdoch will lead a weekly Bible study at the Fairview Senior Center every Friday at 10:30 a.m. \nAn ordained minister and chaplain in the Assemblies of God\, Pastor Lauren will guide participants through an engaging\, interactive study of selected passages and seasonal topics. The Bible study is open to everyone\, regardless of religious background\, and all materials will be provided.
URL:https://marionseniors.org/event/bible-study-16/2027-01-15/
LOCATION:Fairview Senior Center\, 404 Main Street\, Fairview\, West Virginia\, 26570\, United States
CATEGORIES:Fairview
ORGANIZER;CN="Marion Senior Citizens":MAILTO:executivedirector@marionseniors.org
END:VEVENT
BEGIN:VEVENT
DTSTART;TZID=America/New_York:20270115T123000
DTEND;TZID=America/New_York:20270115T133000
DTSTAMP:20260423T064233
CREATED:20260416T132140Z
LAST-MODIFIED:20260416T132140Z
UID:10002449-1800016200-1800019800@marionseniors.org
SUMMARY:Bible Study
DESCRIPTION:Pastor Lauren Murdoch will lead a weekly Bible study at the North Marion Senior Center every Friday at 12:30 p.m. \nAn ordained minister and chaplain in the Assemblies of God\, Pastor Lauren will guide participants through an engaging\, interactive study of selected passages and seasonal topics. The Bible study is open to everyone\, regardless of religious background\, and all materials will be provided.
URL:https://marionseniors.org/event/bible-study-17/2027-01-15/
LOCATION:North Marion Senior Center\, 1 Senior Drive\, Mannington\, WV\, 26582\, United States
CATEGORIES:North Marion
ORGANIZER;CN="Marion Senior Citizens":MAILTO:executivedirector@marionseniors.org
END:VEVENT
BEGIN:VEVENT
DTSTART;TZID=America/New_York:20270119T110000
DTEND;TZID=America/New_York:20270119T115000
DTSTAMP:20260423T064233
CREATED:20260123T162718Z
LAST-MODIFIED:20260123T162718Z
UID:10000623-1800356400-1800359400@marionseniors.org
SUMMARY:BIBLE STUDY
DESCRIPTION:Pastor Lauren Murdoch will lead a weekly Bible study at the Fairmont Senior Center every Tuesday at 11:00 a.m. \nAn ordained minister and chaplain in the Assemblies of God\, Pastor Lauren will guide participants through an engaging\, interactive study of selected passages and seasonal topics. The Bible study is open to everyone\, regardless of religious background\, and all materials will be provided.
URL:https://marionseniors.org/event/bible-study-15/2027-01-19/
LOCATION:Fairmont Senior Center\, 105 Maplewood Drive\, Fairmont\, WV\, 26554\, United States
CATEGORIES:Fairmont
ORGANIZER;CN="Marion Senior Citizens":MAILTO:executivedirector@marionseniors.org
END:VEVENT
BEGIN:VEVENT
DTSTART;TZID=America/New_York:20270122T103000
DTEND;TZID=America/New_York:20270122T113000
DTSTAMP:20260423T064233
CREATED:20260416T131908Z
LAST-MODIFIED:20260416T132225Z
UID:10002191-1800613800-1800617400@marionseniors.org
SUMMARY:Bible Study
DESCRIPTION:Pastor Lauren Murdoch will lead a weekly Bible study at the Fairview Senior Center every Friday at 10:30 a.m. \nAn ordained minister and chaplain in the Assemblies of God\, Pastor Lauren will guide participants through an engaging\, interactive study of selected passages and seasonal topics. The Bible study is open to everyone\, regardless of religious background\, and all materials will be provided.
URL:https://marionseniors.org/event/bible-study-16/2027-01-22/
LOCATION:Fairview Senior Center\, 404 Main Street\, Fairview\, West Virginia\, 26570\, United States
CATEGORIES:Fairview
ORGANIZER;CN="Marion Senior Citizens":MAILTO:executivedirector@marionseniors.org
END:VEVENT
BEGIN:VEVENT
DTSTART;TZID=America/New_York:20270122T123000
DTEND;TZID=America/New_York:20270122T133000
DTSTAMP:20260423T064233
CREATED:20260416T132140Z
LAST-MODIFIED:20260416T132140Z
UID:10002450-1800621000-1800624600@marionseniors.org
SUMMARY:Bible Study
DESCRIPTION:Pastor Lauren Murdoch will lead a weekly Bible study at the North Marion Senior Center every Friday at 12:30 p.m. \nAn ordained minister and chaplain in the Assemblies of God\, Pastor Lauren will guide participants through an engaging\, interactive study of selected passages and seasonal topics. The Bible study is open to everyone\, regardless of religious background\, and all materials will be provided.
URL:https://marionseniors.org/event/bible-study-17/2027-01-22/
LOCATION:North Marion Senior Center\, 1 Senior Drive\, Mannington\, WV\, 26582\, United States
CATEGORIES:North Marion
ORGANIZER;CN="Marion Senior Citizens":MAILTO:executivedirector@marionseniors.org
END:VEVENT
BEGIN:VEVENT
DTSTART;TZID=America/New_York:20270126T110000
DTEND;TZID=America/New_York:20270126T115000
DTSTAMP:20260423T064233
CREATED:20260123T162718Z
LAST-MODIFIED:20260123T162718Z
UID:10000624-1800961200-1800964200@marionseniors.org
SUMMARY:BIBLE STUDY
DESCRIPTION:Pastor Lauren Murdoch will lead a weekly Bible study at the Fairmont Senior Center every Tuesday at 11:00 a.m. \nAn ordained minister and chaplain in the Assemblies of God\, Pastor Lauren will guide participants through an engaging\, interactive study of selected passages and seasonal topics. The Bible study is open to everyone\, regardless of religious background\, and all materials will be provided.
URL:https://marionseniors.org/event/bible-study-15/2027-01-26/
LOCATION:Fairmont Senior Center\, 105 Maplewood Drive\, Fairmont\, WV\, 26554\, United States
CATEGORIES:Fairmont
ORGANIZER;CN="Marion Senior Citizens":MAILTO:executivedirector@marionseniors.org
END:VEVENT
BEGIN:VEVENT
DTSTART;TZID=America/New_York:20270129T103000
DTEND;TZID=America/New_York:20270129T113000
DTSTAMP:20260423T064233
CREATED:20260416T131908Z
LAST-MODIFIED:20260416T132225Z
UID:10002192-1801218600-1801222200@marionseniors.org
SUMMARY:Bible Study
DESCRIPTION:Pastor Lauren Murdoch will lead a weekly Bible study at the Fairview Senior Center every Friday at 10:30 a.m. \nAn ordained minister and chaplain in the Assemblies of God\, Pastor Lauren will guide participants through an engaging\, interactive study of selected passages and seasonal topics. The Bible study is open to everyone\, regardless of religious background\, and all materials will be provided.
URL:https://marionseniors.org/event/bible-study-16/2027-01-29/
LOCATION:Fairview Senior Center\, 404 Main Street\, Fairview\, West Virginia\, 26570\, United States
CATEGORIES:Fairview
ORGANIZER;CN="Marion Senior Citizens":MAILTO:executivedirector@marionseniors.org
END:VEVENT
BEGIN:VEVENT
DTSTART;TZID=America/New_York:20270129T123000
DTEND;TZID=America/New_York:20270129T133000
DTSTAMP:20260423T064233
CREATED:20260416T132140Z
LAST-MODIFIED:20260416T132140Z
UID:10002451-1801225800-1801229400@marionseniors.org
SUMMARY:Bible Study
DESCRIPTION:Pastor Lauren Murdoch will lead a weekly Bible study at the North Marion Senior Center every Friday at 12:30 p.m. \nAn ordained minister and chaplain in the Assemblies of God\, Pastor Lauren will guide participants through an engaging\, interactive study of selected passages and seasonal topics. The Bible study is open to everyone\, regardless of religious background\, and all materials will be provided.
URL:https://marionseniors.org/event/bible-study-17/2027-01-29/
LOCATION:North Marion Senior Center\, 1 Senior Drive\, Mannington\, WV\, 26582\, United States
CATEGORIES:North Marion
ORGANIZER;CN="Marion Senior Citizens":MAILTO:executivedirector@marionseniors.org
END:VEVENT
END:VCALENDAR