BEGIN:VCALENDAR
VERSION:2.0
PRODID:-//Marion County Senior Center - ECPv6.15.17.1//NONSGML v1.0//EN
CALSCALE:GREGORIAN
METHOD:PUBLISH
X-WR-CALNAME:Marion County Senior Center
X-ORIGINAL-URL:https://marionseniors.org
X-WR-CALDESC:Events for Marion County Senior Center
REFRESH-INTERVAL;VALUE=DURATION:PT1H
X-Robots-Tag:noindex
X-PUBLISHED-TTL:PT1H
BEGIN:VTIMEZONE
TZID:America/New_York
BEGIN:DAYLIGHT
TZOFFSETFROM:-0500
TZOFFSETTO:-0400
TZNAME:EDT
DTSTART:20250309T070000
END:DAYLIGHT
BEGIN:STANDARD
TZOFFSETFROM:-0400
TZOFFSETTO:-0500
TZNAME:EST
DTSTART:20251102T060000
END:STANDARD
BEGIN:DAYLIGHT
TZOFFSETFROM:-0500
TZOFFSETTO:-0400
TZNAME:EDT
DTSTART:20260308T070000
END:DAYLIGHT
BEGIN:STANDARD
TZOFFSETFROM:-0400
TZOFFSETTO:-0500
TZNAME:EST
DTSTART:20261101T060000
END:STANDARD
BEGIN:DAYLIGHT
TZOFFSETFROM:-0500
TZOFFSETTO:-0400
TZNAME:EDT
DTSTART:20270314T070000
END:DAYLIGHT
BEGIN:STANDARD
TZOFFSETFROM:-0400
TZOFFSETTO:-0500
TZNAME:EST
DTSTART:20271107T060000
END:STANDARD
END:VTIMEZONE
BEGIN:VEVENT
DTSTART;TZID=America/New_York:20260601T110000
DTEND;TZID=America/New_York:20260601T114500
DTSTAMP:20260421T093643
CREATED:20260123T164235Z
LAST-MODIFIED:20260123T164235Z
UID:10001110-1780311600-1780314300@marionseniors.org
SUMMARY:BINGO
DESCRIPTION:Join us at the North Marion Senior Center every Monday and Thursday for a morning of bingo fun.
URL:https://marionseniors.org/event/bingo-34/2026-06-01/
LOCATION:North Marion Senior Center\, 1 Senior Drive\, Mannington\, WV\, 26582\, United States
CATEGORIES:North Marion
ORGANIZER;CN="Marion Senior Citizens":MAILTO:executivedirector@marionseniors.org
END:VEVENT
BEGIN:VEVENT
DTSTART;TZID=America/New_York:20260601T123000
DTEND;TZID=America/New_York:20260601T133000
DTSTAMP:20260421T093643
CREATED:20260416T131606Z
LAST-MODIFIED:20260416T131606Z
UID:10001898-1780317000-1780320600@marionseniors.org
SUMMARY:Bingo
DESCRIPTION:Join us for an afternoon of bingo fun at the Fairview Senior Center
URL:https://marionseniors.org/event/bingo-37/2026-06-01/
LOCATION:Fairview Senior Center\, 404 Main Street\, Fairview\, West Virginia\, 26570\, United States
CATEGORIES:Fairview
ORGANIZER;CN="Marion Senior Citizens":MAILTO:executivedirector@marionseniors.org
END:VEVENT
BEGIN:VEVENT
DTSTART;TZID=America/New_York:20260603T110000
DTEND;TZID=America/New_York:20260603T115000
DTSTAMP:20260421T093643
CREATED:20260123T161859Z
LAST-MODIFIED:20260123T161859Z
UID:10000330-1780484400-1780487400@marionseniors.org
SUMMARY:BINGO
DESCRIPTION:Join us every Wednesday for bingo at the Fairmont Senior Center
URL:https://marionseniors.org/event/bingo-33/2026-06-03/
LOCATION:Fairmont Senior Center\, 105 Maplewood Drive\, Fairmont\, WV\, 26554\, United States
CATEGORIES:Fairmont
ORGANIZER;CN="Marion Senior Citizens":MAILTO:executivedirector@marionseniors.org
END:VEVENT
BEGIN:VEVENT
DTSTART;TZID=America/New_York:20260604T110000
DTEND;TZID=America/New_York:20260604T115000
DTSTAMP:20260421T093643
CREATED:20260123T164348Z
LAST-MODIFIED:20260123T164348Z
UID:10001370-1780570800-1780573800@marionseniors.org
SUMMARY:BINGO
DESCRIPTION:Join us at the North Marion Senior Center every Monday and Thursday for a morning of bingo fun.
URL:https://marionseniors.org/event/bingo-35/2026-06-04/
LOCATION:North Marion Senior Center\, 1 Senior Drive\, Mannington\, WV\, 26582\, United States
CATEGORIES:North Marion
ORGANIZER;CN="Marion Senior Citizens":MAILTO:executivedirector@marionseniors.org
END:VEVENT
BEGIN:VEVENT
DTSTART;TZID=America/New_York:20260608T110000
DTEND;TZID=America/New_York:20260608T114500
DTSTAMP:20260421T093643
CREATED:20260123T164235Z
LAST-MODIFIED:20260123T164235Z
UID:10001111-1780916400-1780919100@marionseniors.org
SUMMARY:BINGO
DESCRIPTION:Join us at the North Marion Senior Center every Monday and Thursday for a morning of bingo fun.
URL:https://marionseniors.org/event/bingo-34/2026-06-08/
LOCATION:North Marion Senior Center\, 1 Senior Drive\, Mannington\, WV\, 26582\, United States
CATEGORIES:North Marion
ORGANIZER;CN="Marion Senior Citizens":MAILTO:executivedirector@marionseniors.org
END:VEVENT
BEGIN:VEVENT
DTSTART;TZID=America/New_York:20260608T123000
DTEND;TZID=America/New_York:20260608T133000
DTSTAMP:20260421T093643
CREATED:20260416T131606Z
LAST-MODIFIED:20260416T131606Z
UID:10001899-1780921800-1780925400@marionseniors.org
SUMMARY:Bingo
DESCRIPTION:Join us for an afternoon of bingo fun at the Fairview Senior Center
URL:https://marionseniors.org/event/bingo-37/2026-06-08/
LOCATION:Fairview Senior Center\, 404 Main Street\, Fairview\, West Virginia\, 26570\, United States
CATEGORIES:Fairview
ORGANIZER;CN="Marion Senior Citizens":MAILTO:executivedirector@marionseniors.org
END:VEVENT
BEGIN:VEVENT
DTSTART;TZID=America/New_York:20260610T110000
DTEND;TZID=America/New_York:20260610T115000
DTSTAMP:20260421T093643
CREATED:20260123T161859Z
LAST-MODIFIED:20260123T161859Z
UID:10000331-1781089200-1781092200@marionseniors.org
SUMMARY:BINGO
DESCRIPTION:Join us every Wednesday for bingo at the Fairmont Senior Center
URL:https://marionseniors.org/event/bingo-33/2026-06-10/
LOCATION:Fairmont Senior Center\, 105 Maplewood Drive\, Fairmont\, WV\, 26554\, United States
CATEGORIES:Fairmont
ORGANIZER;CN="Marion Senior Citizens":MAILTO:executivedirector@marionseniors.org
END:VEVENT
BEGIN:VEVENT
DTSTART;TZID=America/New_York:20260611T110000
DTEND;TZID=America/New_York:20260611T115000
DTSTAMP:20260421T093643
CREATED:20260123T164348Z
LAST-MODIFIED:20260123T164348Z
UID:10001371-1781175600-1781178600@marionseniors.org
SUMMARY:BINGO
DESCRIPTION:Join us at the North Marion Senior Center every Monday and Thursday for a morning of bingo fun.
URL:https://marionseniors.org/event/bingo-35/2026-06-11/
LOCATION:North Marion Senior Center\, 1 Senior Drive\, Mannington\, WV\, 26582\, United States
CATEGORIES:North Marion
ORGANIZER;CN="Marion Senior Citizens":MAILTO:executivedirector@marionseniors.org
END:VEVENT
BEGIN:VEVENT
DTSTART;TZID=America/New_York:20260615T110000
DTEND;TZID=America/New_York:20260615T114500
DTSTAMP:20260421T093643
CREATED:20260123T164235Z
LAST-MODIFIED:20260123T164235Z
UID:10001112-1781521200-1781523900@marionseniors.org
SUMMARY:BINGO
DESCRIPTION:Join us at the North Marion Senior Center every Monday and Thursday for a morning of bingo fun.
URL:https://marionseniors.org/event/bingo-34/2026-06-15/
LOCATION:North Marion Senior Center\, 1 Senior Drive\, Mannington\, WV\, 26582\, United States
CATEGORIES:North Marion
ORGANIZER;CN="Marion Senior Citizens":MAILTO:executivedirector@marionseniors.org
END:VEVENT
BEGIN:VEVENT
DTSTART;TZID=America/New_York:20260615T123000
DTEND;TZID=America/New_York:20260615T133000
DTSTAMP:20260421T093643
CREATED:20260416T131606Z
LAST-MODIFIED:20260416T131606Z
UID:10001900-1781526600-1781530200@marionseniors.org
SUMMARY:Bingo
DESCRIPTION:Join us for an afternoon of bingo fun at the Fairview Senior Center
URL:https://marionseniors.org/event/bingo-37/2026-06-15/
LOCATION:Fairview Senior Center\, 404 Main Street\, Fairview\, West Virginia\, 26570\, United States
CATEGORIES:Fairview
ORGANIZER;CN="Marion Senior Citizens":MAILTO:executivedirector@marionseniors.org
END:VEVENT
BEGIN:VEVENT
DTSTART;TZID=America/New_York:20260617T110000
DTEND;TZID=America/New_York:20260617T115000
DTSTAMP:20260421T093643
CREATED:20260123T161859Z
LAST-MODIFIED:20260123T161859Z
UID:10000332-1781694000-1781697000@marionseniors.org
SUMMARY:BINGO
DESCRIPTION:Join us every Wednesday for bingo at the Fairmont Senior Center
URL:https://marionseniors.org/event/bingo-33/2026-06-17/
LOCATION:Fairmont Senior Center\, 105 Maplewood Drive\, Fairmont\, WV\, 26554\, United States
CATEGORIES:Fairmont
ORGANIZER;CN="Marion Senior Citizens":MAILTO:executivedirector@marionseniors.org
END:VEVENT
BEGIN:VEVENT
DTSTART;TZID=America/New_York:20260618T110000
DTEND;TZID=America/New_York:20260618T115000
DTSTAMP:20260421T093643
CREATED:20260123T164348Z
LAST-MODIFIED:20260123T164348Z
UID:10001372-1781780400-1781783400@marionseniors.org
SUMMARY:BINGO
DESCRIPTION:Join us at the North Marion Senior Center every Monday and Thursday for a morning of bingo fun.
URL:https://marionseniors.org/event/bingo-35/2026-06-18/
LOCATION:North Marion Senior Center\, 1 Senior Drive\, Mannington\, WV\, 26582\, United States
CATEGORIES:North Marion
ORGANIZER;CN="Marion Senior Citizens":MAILTO:executivedirector@marionseniors.org
END:VEVENT
BEGIN:VEVENT
DTSTART;TZID=America/New_York:20260622T110000
DTEND;TZID=America/New_York:20260622T114500
DTSTAMP:20260421T093643
CREATED:20260123T164235Z
LAST-MODIFIED:20260123T164235Z
UID:10001113-1782126000-1782128700@marionseniors.org
SUMMARY:BINGO
DESCRIPTION:Join us at the North Marion Senior Center every Monday and Thursday for a morning of bingo fun.
URL:https://marionseniors.org/event/bingo-34/2026-06-22/
LOCATION:North Marion Senior Center\, 1 Senior Drive\, Mannington\, WV\, 26582\, United States
CATEGORIES:North Marion
ORGANIZER;CN="Marion Senior Citizens":MAILTO:executivedirector@marionseniors.org
END:VEVENT
BEGIN:VEVENT
DTSTART;TZID=America/New_York:20260622T123000
DTEND;TZID=America/New_York:20260622T133000
DTSTAMP:20260421T093643
CREATED:20260416T131606Z
LAST-MODIFIED:20260416T131606Z
UID:10001901-1782131400-1782135000@marionseniors.org
SUMMARY:Bingo
DESCRIPTION:Join us for an afternoon of bingo fun at the Fairview Senior Center
URL:https://marionseniors.org/event/bingo-37/2026-06-22/
LOCATION:Fairview Senior Center\, 404 Main Street\, Fairview\, West Virginia\, 26570\, United States
CATEGORIES:Fairview
ORGANIZER;CN="Marion Senior Citizens":MAILTO:executivedirector@marionseniors.org
END:VEVENT
BEGIN:VEVENT
DTSTART;TZID=America/New_York:20260624T110000
DTEND;TZID=America/New_York:20260624T115000
DTSTAMP:20260421T093643
CREATED:20260123T161859Z
LAST-MODIFIED:20260123T161859Z
UID:10000333-1782298800-1782301800@marionseniors.org
SUMMARY:BINGO
DESCRIPTION:Join us every Wednesday for bingo at the Fairmont Senior Center
URL:https://marionseniors.org/event/bingo-33/2026-06-24/
LOCATION:Fairmont Senior Center\, 105 Maplewood Drive\, Fairmont\, WV\, 26554\, United States
CATEGORIES:Fairmont
ORGANIZER;CN="Marion Senior Citizens":MAILTO:executivedirector@marionseniors.org
END:VEVENT
BEGIN:VEVENT
DTSTART;TZID=America/New_York:20260625T110000
DTEND;TZID=America/New_York:20260625T115000
DTSTAMP:20260421T093643
CREATED:20260123T164348Z
LAST-MODIFIED:20260123T164348Z
UID:10001373-1782385200-1782388200@marionseniors.org
SUMMARY:BINGO
DESCRIPTION:Join us at the North Marion Senior Center every Monday and Thursday for a morning of bingo fun.
URL:https://marionseniors.org/event/bingo-35/2026-06-25/
LOCATION:North Marion Senior Center\, 1 Senior Drive\, Mannington\, WV\, 26582\, United States
CATEGORIES:North Marion
ORGANIZER;CN="Marion Senior Citizens":MAILTO:executivedirector@marionseniors.org
END:VEVENT
BEGIN:VEVENT
DTSTART;TZID=America/New_York:20260629T110000
DTEND;TZID=America/New_York:20260629T114500
DTSTAMP:20260421T093643
CREATED:20260123T164235Z
LAST-MODIFIED:20260123T164235Z
UID:10001114-1782730800-1782733500@marionseniors.org
SUMMARY:BINGO
DESCRIPTION:Join us at the North Marion Senior Center every Monday and Thursday for a morning of bingo fun.
URL:https://marionseniors.org/event/bingo-34/2026-06-29/
LOCATION:North Marion Senior Center\, 1 Senior Drive\, Mannington\, WV\, 26582\, United States
CATEGORIES:North Marion
ORGANIZER;CN="Marion Senior Citizens":MAILTO:executivedirector@marionseniors.org
END:VEVENT
BEGIN:VEVENT
DTSTART;TZID=America/New_York:20260629T123000
DTEND;TZID=America/New_York:20260629T133000
DTSTAMP:20260421T093643
CREATED:20260416T131606Z
LAST-MODIFIED:20260416T131606Z
UID:10001902-1782736200-1782739800@marionseniors.org
SUMMARY:Bingo
DESCRIPTION:Join us for an afternoon of bingo fun at the Fairview Senior Center
URL:https://marionseniors.org/event/bingo-37/2026-06-29/
LOCATION:Fairview Senior Center\, 404 Main Street\, Fairview\, West Virginia\, 26570\, United States
CATEGORIES:Fairview
ORGANIZER;CN="Marion Senior Citizens":MAILTO:executivedirector@marionseniors.org
END:VEVENT
END:VCALENDAR