BEGIN:VCALENDAR
VERSION:2.0
PRODID:-//Marion County Senior Center - ECPv6.15.17.1//NONSGML v1.0//EN
CALSCALE:GREGORIAN
METHOD:PUBLISH
X-ORIGINAL-URL:https://marionseniors.org
X-WR-CALDESC:Events for Marion County Senior Center
REFRESH-INTERVAL;VALUE=DURATION:PT1H
X-Robots-Tag:noindex
X-PUBLISHED-TTL:PT1H
BEGIN:VTIMEZONE
TZID:America/New_York
BEGIN:DAYLIGHT
TZOFFSETFROM:-0500
TZOFFSETTO:-0400
TZNAME:EDT
DTSTART:20250309T070000
END:DAYLIGHT
BEGIN:STANDARD
TZOFFSETFROM:-0400
TZOFFSETTO:-0500
TZNAME:EST
DTSTART:20251102T060000
END:STANDARD
BEGIN:DAYLIGHT
TZOFFSETFROM:-0500
TZOFFSETTO:-0400
TZNAME:EDT
DTSTART:20260308T070000
END:DAYLIGHT
BEGIN:STANDARD
TZOFFSETFROM:-0400
TZOFFSETTO:-0500
TZNAME:EST
DTSTART:20261101T060000
END:STANDARD
BEGIN:DAYLIGHT
TZOFFSETFROM:-0500
TZOFFSETTO:-0400
TZNAME:EDT
DTSTART:20270314T070000
END:DAYLIGHT
BEGIN:STANDARD
TZOFFSETFROM:-0400
TZOFFSETTO:-0500
TZNAME:EST
DTSTART:20271107T060000
END:STANDARD
END:VTIMEZONE
BEGIN:VEVENT
DTSTART;TZID=America/New_York:20261102T110000
DTEND;TZID=America/New_York:20261102T114500
DTSTAMP:20260419T165407
CREATED:20260123T164235Z
LAST-MODIFIED:20260123T164235Z
UID:10001132-1793617200-1793619900@marionseniors.org
SUMMARY:BINGO
DESCRIPTION:Join us at the North Marion Senior Center every Monday and Thursday for a morning of bingo fun.
URL:https://marionseniors.org/event/bingo-34/2026-11-02/
LOCATION:North Marion Senior Center\, 1 Senior Drive\, Mannington\, WV\, 26582\, United States
CATEGORIES:North Marion
ORGANIZER;CN="Marion Senior Citizens":MAILTO:executivedirector@marionseniors.org
END:VEVENT
BEGIN:VEVENT
DTSTART;TZID=America/New_York:20261102T123000
DTEND;TZID=America/New_York:20261102T133000
DTSTAMP:20260419T165407
CREATED:20260416T131606Z
LAST-MODIFIED:20260416T131606Z
UID:10001920-1793622600-1793626200@marionseniors.org
SUMMARY:Bingo
DESCRIPTION:Join us for an afternoon of bingo fun at the Fairview Senior Center
URL:https://marionseniors.org/event/bingo-37/2026-11-02/
LOCATION:Fairview Senior Center\, 404 Main Street\, Fairview\, West Virginia\, 26570\, United States
CATEGORIES:Fairview
ORGANIZER;CN="Marion Senior Citizens":MAILTO:executivedirector@marionseniors.org
END:VEVENT
BEGIN:VEVENT
DTSTART;TZID=America/New_York:20261104T110000
DTEND;TZID=America/New_York:20261104T115000
DTSTAMP:20260419T165407
CREATED:20260123T161859Z
LAST-MODIFIED:20260123T161859Z
UID:10000352-1793790000-1793793000@marionseniors.org
SUMMARY:BINGO
DESCRIPTION:Join us every Wednesday for bingo at the Fairmont Senior Center
URL:https://marionseniors.org/event/bingo-33/2026-11-04/
LOCATION:Fairmont Senior Center\, 105 Maplewood Drive\, Fairmont\, WV\, 26554\, United States
CATEGORIES:Fairmont
ORGANIZER;CN="Marion Senior Citizens":MAILTO:executivedirector@marionseniors.org
END:VEVENT
BEGIN:VEVENT
DTSTART;TZID=America/New_York:20261105T110000
DTEND;TZID=America/New_York:20261105T115000
DTSTAMP:20260419T165407
CREATED:20260123T164348Z
LAST-MODIFIED:20260123T164348Z
UID:10001392-1793876400-1793879400@marionseniors.org
SUMMARY:BINGO
DESCRIPTION:Join us at the North Marion Senior Center every Monday and Thursday for a morning of bingo fun.
URL:https://marionseniors.org/event/bingo-35/2026-11-05/
LOCATION:North Marion Senior Center\, 1 Senior Drive\, Mannington\, WV\, 26582\, United States
CATEGORIES:North Marion
ORGANIZER;CN="Marion Senior Citizens":MAILTO:executivedirector@marionseniors.org
END:VEVENT
BEGIN:VEVENT
DTSTART;TZID=America/New_York:20261109T110000
DTEND;TZID=America/New_York:20261109T114500
DTSTAMP:20260419T165407
CREATED:20260123T164235Z
LAST-MODIFIED:20260123T164235Z
UID:10001133-1794222000-1794224700@marionseniors.org
SUMMARY:BINGO
DESCRIPTION:Join us at the North Marion Senior Center every Monday and Thursday for a morning of bingo fun.
URL:https://marionseniors.org/event/bingo-34/2026-11-09/
LOCATION:North Marion Senior Center\, 1 Senior Drive\, Mannington\, WV\, 26582\, United States
CATEGORIES:North Marion
ORGANIZER;CN="Marion Senior Citizens":MAILTO:executivedirector@marionseniors.org
END:VEVENT
BEGIN:VEVENT
DTSTART;TZID=America/New_York:20261109T123000
DTEND;TZID=America/New_York:20261109T133000
DTSTAMP:20260419T165407
CREATED:20260416T131606Z
LAST-MODIFIED:20260416T131606Z
UID:10001921-1794227400-1794231000@marionseniors.org
SUMMARY:Bingo
DESCRIPTION:Join us for an afternoon of bingo fun at the Fairview Senior Center
URL:https://marionseniors.org/event/bingo-37/2026-11-09/
LOCATION:Fairview Senior Center\, 404 Main Street\, Fairview\, West Virginia\, 26570\, United States
CATEGORIES:Fairview
ORGANIZER;CN="Marion Senior Citizens":MAILTO:executivedirector@marionseniors.org
END:VEVENT
BEGIN:VEVENT
DTSTART;TZID=America/New_York:20261111T110000
DTEND;TZID=America/New_York:20261111T115000
DTSTAMP:20260419T165407
CREATED:20260123T161859Z
LAST-MODIFIED:20260123T161859Z
UID:10000353-1794394800-1794397800@marionseniors.org
SUMMARY:BINGO
DESCRIPTION:Join us every Wednesday for bingo at the Fairmont Senior Center
URL:https://marionseniors.org/event/bingo-33/2026-11-11/
LOCATION:Fairmont Senior Center\, 105 Maplewood Drive\, Fairmont\, WV\, 26554\, United States
CATEGORIES:Fairmont
ORGANIZER;CN="Marion Senior Citizens":MAILTO:executivedirector@marionseniors.org
END:VEVENT
BEGIN:VEVENT
DTSTART;TZID=America/New_York:20261112T110000
DTEND;TZID=America/New_York:20261112T115000
DTSTAMP:20260419T165407
CREATED:20260123T164348Z
LAST-MODIFIED:20260123T164348Z
UID:10001393-1794481200-1794484200@marionseniors.org
SUMMARY:BINGO
DESCRIPTION:Join us at the North Marion Senior Center every Monday and Thursday for a morning of bingo fun.
URL:https://marionseniors.org/event/bingo-35/2026-11-12/
LOCATION:North Marion Senior Center\, 1 Senior Drive\, Mannington\, WV\, 26582\, United States
CATEGORIES:North Marion
ORGANIZER;CN="Marion Senior Citizens":MAILTO:executivedirector@marionseniors.org
END:VEVENT
BEGIN:VEVENT
DTSTART;TZID=America/New_York:20261116T110000
DTEND;TZID=America/New_York:20261116T114500
DTSTAMP:20260419T165407
CREATED:20260123T164235Z
LAST-MODIFIED:20260123T164235Z
UID:10001134-1794826800-1794829500@marionseniors.org
SUMMARY:BINGO
DESCRIPTION:Join us at the North Marion Senior Center every Monday and Thursday for a morning of bingo fun.
URL:https://marionseniors.org/event/bingo-34/2026-11-16/
LOCATION:North Marion Senior Center\, 1 Senior Drive\, Mannington\, WV\, 26582\, United States
CATEGORIES:North Marion
ORGANIZER;CN="Marion Senior Citizens":MAILTO:executivedirector@marionseniors.org
END:VEVENT
BEGIN:VEVENT
DTSTART;TZID=America/New_York:20261116T123000
DTEND;TZID=America/New_York:20261116T133000
DTSTAMP:20260419T165407
CREATED:20260416T131606Z
LAST-MODIFIED:20260416T131606Z
UID:10001922-1794832200-1794835800@marionseniors.org
SUMMARY:Bingo
DESCRIPTION:Join us for an afternoon of bingo fun at the Fairview Senior Center
URL:https://marionseniors.org/event/bingo-37/2026-11-16/
LOCATION:Fairview Senior Center\, 404 Main Street\, Fairview\, West Virginia\, 26570\, United States
CATEGORIES:Fairview
ORGANIZER;CN="Marion Senior Citizens":MAILTO:executivedirector@marionseniors.org
END:VEVENT
BEGIN:VEVENT
DTSTART;TZID=America/New_York:20261118T110000
DTEND;TZID=America/New_York:20261118T115000
DTSTAMP:20260419T165407
CREATED:20260123T161859Z
LAST-MODIFIED:20260123T161859Z
UID:10000354-1794999600-1795002600@marionseniors.org
SUMMARY:BINGO
DESCRIPTION:Join us every Wednesday for bingo at the Fairmont Senior Center
URL:https://marionseniors.org/event/bingo-33/2026-11-18/
LOCATION:Fairmont Senior Center\, 105 Maplewood Drive\, Fairmont\, WV\, 26554\, United States
CATEGORIES:Fairmont
ORGANIZER;CN="Marion Senior Citizens":MAILTO:executivedirector@marionseniors.org
END:VEVENT
BEGIN:VEVENT
DTSTART;TZID=America/New_York:20261119T110000
DTEND;TZID=America/New_York:20261119T115000
DTSTAMP:20260419T165407
CREATED:20260123T164348Z
LAST-MODIFIED:20260123T164348Z
UID:10001394-1795086000-1795089000@marionseniors.org
SUMMARY:BINGO
DESCRIPTION:Join us at the North Marion Senior Center every Monday and Thursday for a morning of bingo fun.
URL:https://marionseniors.org/event/bingo-35/2026-11-19/
LOCATION:North Marion Senior Center\, 1 Senior Drive\, Mannington\, WV\, 26582\, United States
CATEGORIES:North Marion
ORGANIZER;CN="Marion Senior Citizens":MAILTO:executivedirector@marionseniors.org
END:VEVENT
BEGIN:VEVENT
DTSTART;TZID=America/New_York:20261123T110000
DTEND;TZID=America/New_York:20261123T114500
DTSTAMP:20260419T165407
CREATED:20260123T164235Z
LAST-MODIFIED:20260123T164235Z
UID:10001135-1795431600-1795434300@marionseniors.org
SUMMARY:BINGO
DESCRIPTION:Join us at the North Marion Senior Center every Monday and Thursday for a morning of bingo fun.
URL:https://marionseniors.org/event/bingo-34/2026-11-23/
LOCATION:North Marion Senior Center\, 1 Senior Drive\, Mannington\, WV\, 26582\, United States
CATEGORIES:North Marion
ORGANIZER;CN="Marion Senior Citizens":MAILTO:executivedirector@marionseniors.org
END:VEVENT
BEGIN:VEVENT
DTSTART;TZID=America/New_York:20261123T123000
DTEND;TZID=America/New_York:20261123T133000
DTSTAMP:20260419T165407
CREATED:20260416T131606Z
LAST-MODIFIED:20260416T131606Z
UID:10001923-1795437000-1795440600@marionseniors.org
SUMMARY:Bingo
DESCRIPTION:Join us for an afternoon of bingo fun at the Fairview Senior Center
URL:https://marionseniors.org/event/bingo-37/2026-11-23/
LOCATION:Fairview Senior Center\, 404 Main Street\, Fairview\, West Virginia\, 26570\, United States
CATEGORIES:Fairview
ORGANIZER;CN="Marion Senior Citizens":MAILTO:executivedirector@marionseniors.org
END:VEVENT
BEGIN:VEVENT
DTSTART;TZID=America/New_York:20261125T110000
DTEND;TZID=America/New_York:20261125T115000
DTSTAMP:20260419T165407
CREATED:20260123T161859Z
LAST-MODIFIED:20260123T161859Z
UID:10000355-1795604400-1795607400@marionseniors.org
SUMMARY:BINGO
DESCRIPTION:Join us every Wednesday for bingo at the Fairmont Senior Center
URL:https://marionseniors.org/event/bingo-33/2026-11-25/
LOCATION:Fairmont Senior Center\, 105 Maplewood Drive\, Fairmont\, WV\, 26554\, United States
CATEGORIES:Fairmont
ORGANIZER;CN="Marion Senior Citizens":MAILTO:executivedirector@marionseniors.org
END:VEVENT
BEGIN:VEVENT
DTSTART;TZID=America/New_York:20261126T110000
DTEND;TZID=America/New_York:20261126T115000
DTSTAMP:20260419T165407
CREATED:20260123T164348Z
LAST-MODIFIED:20260123T164348Z
UID:10001395-1795690800-1795693800@marionseniors.org
SUMMARY:BINGO
DESCRIPTION:Join us at the North Marion Senior Center every Monday and Thursday for a morning of bingo fun.
URL:https://marionseniors.org/event/bingo-35/2026-11-26/
LOCATION:North Marion Senior Center\, 1 Senior Drive\, Mannington\, WV\, 26582\, United States
CATEGORIES:North Marion
ORGANIZER;CN="Marion Senior Citizens":MAILTO:executivedirector@marionseniors.org
END:VEVENT
BEGIN:VEVENT
DTSTART;TZID=America/New_York:20261130T110000
DTEND;TZID=America/New_York:20261130T114500
DTSTAMP:20260419T165407
CREATED:20260123T164235Z
LAST-MODIFIED:20260123T164235Z
UID:10001136-1796036400-1796039100@marionseniors.org
SUMMARY:BINGO
DESCRIPTION:Join us at the North Marion Senior Center every Monday and Thursday for a morning of bingo fun.
URL:https://marionseniors.org/event/bingo-34/2026-11-30/
LOCATION:North Marion Senior Center\, 1 Senior Drive\, Mannington\, WV\, 26582\, United States
CATEGORIES:North Marion
ORGANIZER;CN="Marion Senior Citizens":MAILTO:executivedirector@marionseniors.org
END:VEVENT
BEGIN:VEVENT
DTSTART;TZID=America/New_York:20261130T123000
DTEND;TZID=America/New_York:20261130T133000
DTSTAMP:20260419T165407
CREATED:20260416T131606Z
LAST-MODIFIED:20260416T131606Z
UID:10001924-1796041800-1796045400@marionseniors.org
SUMMARY:Bingo
DESCRIPTION:Join us for an afternoon of bingo fun at the Fairview Senior Center
URL:https://marionseniors.org/event/bingo-37/2026-11-30/
LOCATION:Fairview Senior Center\, 404 Main Street\, Fairview\, West Virginia\, 26570\, United States
CATEGORIES:Fairview
ORGANIZER;CN="Marion Senior Citizens":MAILTO:executivedirector@marionseniors.org
END:VEVENT
BEGIN:VEVENT
DTSTART;TZID=America/New_York:20261202T110000
DTEND;TZID=America/New_York:20261202T115000
DTSTAMP:20260419T165407
CREATED:20260123T161859Z
LAST-MODIFIED:20260123T161859Z
UID:10000356-1796209200-1796212200@marionseniors.org
SUMMARY:BINGO
DESCRIPTION:Join us every Wednesday for bingo at the Fairmont Senior Center
URL:https://marionseniors.org/event/bingo-33/2026-12-02/
LOCATION:Fairmont Senior Center\, 105 Maplewood Drive\, Fairmont\, WV\, 26554\, United States
CATEGORIES:Fairmont
ORGANIZER;CN="Marion Senior Citizens":MAILTO:executivedirector@marionseniors.org
END:VEVENT
BEGIN:VEVENT
DTSTART;TZID=America/New_York:20261203T110000
DTEND;TZID=America/New_York:20261203T115000
DTSTAMP:20260419T165407
CREATED:20260123T164348Z
LAST-MODIFIED:20260123T164348Z
UID:10001396-1796295600-1796298600@marionseniors.org
SUMMARY:BINGO
DESCRIPTION:Join us at the North Marion Senior Center every Monday and Thursday for a morning of bingo fun.
URL:https://marionseniors.org/event/bingo-35/2026-12-03/
LOCATION:North Marion Senior Center\, 1 Senior Drive\, Mannington\, WV\, 26582\, United States
CATEGORIES:North Marion
ORGANIZER;CN="Marion Senior Citizens":MAILTO:executivedirector@marionseniors.org
END:VEVENT
BEGIN:VEVENT
DTSTART;TZID=America/New_York:20261207T110000
DTEND;TZID=America/New_York:20261207T114500
DTSTAMP:20260419T165407
CREATED:20260123T164235Z
LAST-MODIFIED:20260123T164235Z
UID:10001137-1796641200-1796643900@marionseniors.org
SUMMARY:BINGO
DESCRIPTION:Join us at the North Marion Senior Center every Monday and Thursday for a morning of bingo fun.
URL:https://marionseniors.org/event/bingo-34/2026-12-07/
LOCATION:North Marion Senior Center\, 1 Senior Drive\, Mannington\, WV\, 26582\, United States
CATEGORIES:North Marion
ORGANIZER;CN="Marion Senior Citizens":MAILTO:executivedirector@marionseniors.org
END:VEVENT
BEGIN:VEVENT
DTSTART;TZID=America/New_York:20261207T123000
DTEND;TZID=America/New_York:20261207T133000
DTSTAMP:20260419T165407
CREATED:20260416T131606Z
LAST-MODIFIED:20260416T131606Z
UID:10001925-1796646600-1796650200@marionseniors.org
SUMMARY:Bingo
DESCRIPTION:Join us for an afternoon of bingo fun at the Fairview Senior Center
URL:https://marionseniors.org/event/bingo-37/2026-12-07/
LOCATION:Fairview Senior Center\, 404 Main Street\, Fairview\, West Virginia\, 26570\, United States
CATEGORIES:Fairview
ORGANIZER;CN="Marion Senior Citizens":MAILTO:executivedirector@marionseniors.org
END:VEVENT
BEGIN:VEVENT
DTSTART;TZID=America/New_York:20261209T110000
DTEND;TZID=America/New_York:20261209T115000
DTSTAMP:20260419T165407
CREATED:20260123T161859Z
LAST-MODIFIED:20260123T161859Z
UID:10000357-1796814000-1796817000@marionseniors.org
SUMMARY:BINGO
DESCRIPTION:Join us every Wednesday for bingo at the Fairmont Senior Center
URL:https://marionseniors.org/event/bingo-33/2026-12-09/
LOCATION:Fairmont Senior Center\, 105 Maplewood Drive\, Fairmont\, WV\, 26554\, United States
CATEGORIES:Fairmont
ORGANIZER;CN="Marion Senior Citizens":MAILTO:executivedirector@marionseniors.org
END:VEVENT
BEGIN:VEVENT
DTSTART;TZID=America/New_York:20261210T110000
DTEND;TZID=America/New_York:20261210T115000
DTSTAMP:20260419T165407
CREATED:20260123T164348Z
LAST-MODIFIED:20260123T164348Z
UID:10001397-1796900400-1796903400@marionseniors.org
SUMMARY:BINGO
DESCRIPTION:Join us at the North Marion Senior Center every Monday and Thursday for a morning of bingo fun.
URL:https://marionseniors.org/event/bingo-35/2026-12-10/
LOCATION:North Marion Senior Center\, 1 Senior Drive\, Mannington\, WV\, 26582\, United States
CATEGORIES:North Marion
ORGANIZER;CN="Marion Senior Citizens":MAILTO:executivedirector@marionseniors.org
END:VEVENT
BEGIN:VEVENT
DTSTART;TZID=America/New_York:20261214T110000
DTEND;TZID=America/New_York:20261214T114500
DTSTAMP:20260419T165407
CREATED:20260123T164235Z
LAST-MODIFIED:20260123T164235Z
UID:10001138-1797246000-1797248700@marionseniors.org
SUMMARY:BINGO
DESCRIPTION:Join us at the North Marion Senior Center every Monday and Thursday for a morning of bingo fun.
URL:https://marionseniors.org/event/bingo-34/2026-12-14/
LOCATION:North Marion Senior Center\, 1 Senior Drive\, Mannington\, WV\, 26582\, United States
CATEGORIES:North Marion
ORGANIZER;CN="Marion Senior Citizens":MAILTO:executivedirector@marionseniors.org
END:VEVENT
BEGIN:VEVENT
DTSTART;TZID=America/New_York:20261214T123000
DTEND;TZID=America/New_York:20261214T133000
DTSTAMP:20260419T165407
CREATED:20260416T131606Z
LAST-MODIFIED:20260416T131606Z
UID:10001926-1797251400-1797255000@marionseniors.org
SUMMARY:Bingo
DESCRIPTION:Join us for an afternoon of bingo fun at the Fairview Senior Center
URL:https://marionseniors.org/event/bingo-37/2026-12-14/
LOCATION:Fairview Senior Center\, 404 Main Street\, Fairview\, West Virginia\, 26570\, United States
CATEGORIES:Fairview
ORGANIZER;CN="Marion Senior Citizens":MAILTO:executivedirector@marionseniors.org
END:VEVENT
BEGIN:VEVENT
DTSTART;TZID=America/New_York:20261216T110000
DTEND;TZID=America/New_York:20261216T115000
DTSTAMP:20260419T165407
CREATED:20260123T161859Z
LAST-MODIFIED:20260123T161859Z
UID:10000358-1797418800-1797421800@marionseniors.org
SUMMARY:BINGO
DESCRIPTION:Join us every Wednesday for bingo at the Fairmont Senior Center
URL:https://marionseniors.org/event/bingo-33/2026-12-16/
LOCATION:Fairmont Senior Center\, 105 Maplewood Drive\, Fairmont\, WV\, 26554\, United States
CATEGORIES:Fairmont
ORGANIZER;CN="Marion Senior Citizens":MAILTO:executivedirector@marionseniors.org
END:VEVENT
BEGIN:VEVENT
DTSTART;TZID=America/New_York:20261217T110000
DTEND;TZID=America/New_York:20261217T115000
DTSTAMP:20260419T165407
CREATED:20260123T164348Z
LAST-MODIFIED:20260123T164348Z
UID:10001398-1797505200-1797508200@marionseniors.org
SUMMARY:BINGO
DESCRIPTION:Join us at the North Marion Senior Center every Monday and Thursday for a morning of bingo fun.
URL:https://marionseniors.org/event/bingo-35/2026-12-17/
LOCATION:North Marion Senior Center\, 1 Senior Drive\, Mannington\, WV\, 26582\, United States
CATEGORIES:North Marion
ORGANIZER;CN="Marion Senior Citizens":MAILTO:executivedirector@marionseniors.org
END:VEVENT
BEGIN:VEVENT
DTSTART;TZID=America/New_York:20261221T110000
DTEND;TZID=America/New_York:20261221T114500
DTSTAMP:20260419T165407
CREATED:20260123T164235Z
LAST-MODIFIED:20260123T164235Z
UID:10001139-1797850800-1797853500@marionseniors.org
SUMMARY:BINGO
DESCRIPTION:Join us at the North Marion Senior Center every Monday and Thursday for a morning of bingo fun.
URL:https://marionseniors.org/event/bingo-34/2026-12-21/
LOCATION:North Marion Senior Center\, 1 Senior Drive\, Mannington\, WV\, 26582\, United States
CATEGORIES:North Marion
ORGANIZER;CN="Marion Senior Citizens":MAILTO:executivedirector@marionseniors.org
END:VEVENT
BEGIN:VEVENT
DTSTART;TZID=America/New_York:20261221T123000
DTEND;TZID=America/New_York:20261221T133000
DTSTAMP:20260419T165407
CREATED:20260416T131606Z
LAST-MODIFIED:20260416T131606Z
UID:10001927-1797856200-1797859800@marionseniors.org
SUMMARY:Bingo
DESCRIPTION:Join us for an afternoon of bingo fun at the Fairview Senior Center
URL:https://marionseniors.org/event/bingo-37/2026-12-21/
LOCATION:Fairview Senior Center\, 404 Main Street\, Fairview\, West Virginia\, 26570\, United States
CATEGORIES:Fairview
ORGANIZER;CN="Marion Senior Citizens":MAILTO:executivedirector@marionseniors.org
END:VEVENT
END:VCALENDAR