BEGIN:VCALENDAR
VERSION:2.0
PRODID:-//Marion County Senior Center - ECPv6.15.17.1//NONSGML v1.0//EN
CALSCALE:GREGORIAN
METHOD:PUBLISH
X-ORIGINAL-URL:https://marionseniors.org
X-WR-CALDESC:Events for Marion County Senior Center
REFRESH-INTERVAL;VALUE=DURATION:PT1H
X-Robots-Tag:noindex
X-PUBLISHED-TTL:PT1H
BEGIN:VTIMEZONE
TZID:America/New_York
BEGIN:DAYLIGHT
TZOFFSETFROM:-0500
TZOFFSETTO:-0400
TZNAME:EDT
DTSTART:20250309T070000
END:DAYLIGHT
BEGIN:STANDARD
TZOFFSETFROM:-0400
TZOFFSETTO:-0500
TZNAME:EST
DTSTART:20251102T060000
END:STANDARD
BEGIN:DAYLIGHT
TZOFFSETFROM:-0500
TZOFFSETTO:-0400
TZNAME:EDT
DTSTART:20260308T070000
END:DAYLIGHT
BEGIN:STANDARD
TZOFFSETFROM:-0400
TZOFFSETTO:-0500
TZNAME:EST
DTSTART:20261101T060000
END:STANDARD
BEGIN:DAYLIGHT
TZOFFSETFROM:-0500
TZOFFSETTO:-0400
TZNAME:EDT
DTSTART:20270314T070000
END:DAYLIGHT
BEGIN:STANDARD
TZOFFSETFROM:-0400
TZOFFSETTO:-0500
TZNAME:EST
DTSTART:20271107T060000
END:STANDARD
BEGIN:DAYLIGHT
TZOFFSETFROM:-0500
TZOFFSETTO:-0400
TZNAME:EDT
DTSTART:20280312T070000
END:DAYLIGHT
BEGIN:STANDARD
TZOFFSETFROM:-0400
TZOFFSETTO:-0500
TZNAME:EST
DTSTART:20281105T060000
END:STANDARD
END:VTIMEZONE
BEGIN:VEVENT
DTSTART;TZID=America/New_York:20261210T110000
DTEND;TZID=America/New_York:20261210T115000
DTSTAMP:20260425T133708
CREATED:20260123T164348Z
LAST-MODIFIED:20260123T164348Z
UID:10001397-1796900400-1796903400@marionseniors.org
SUMMARY:BINGO
DESCRIPTION:Join us at the North Marion Senior Center every Monday and Thursday for a morning of bingo fun.
URL:https://marionseniors.org/event/bingo-35/2026-12-10/
LOCATION:North Marion Senior Center\, 1 Senior Drive\, Mannington\, WV\, 26582\, United States
CATEGORIES:North Marion
ORGANIZER;CN="Marion Senior Citizens":MAILTO:executivedirector@marionseniors.org
END:VEVENT
BEGIN:VEVENT
DTSTART;TZID=America/New_York:20261214T110000
DTEND;TZID=America/New_York:20261214T114500
DTSTAMP:20260425T133708
CREATED:20260123T164235Z
LAST-MODIFIED:20260123T164235Z
UID:10001138-1797246000-1797248700@marionseniors.org
SUMMARY:BINGO
DESCRIPTION:Join us at the North Marion Senior Center every Monday and Thursday for a morning of bingo fun.
URL:https://marionseniors.org/event/bingo-34/2026-12-14/
LOCATION:North Marion Senior Center\, 1 Senior Drive\, Mannington\, WV\, 26582\, United States
CATEGORIES:North Marion
ORGANIZER;CN="Marion Senior Citizens":MAILTO:executivedirector@marionseniors.org
END:VEVENT
BEGIN:VEVENT
DTSTART;TZID=America/New_York:20261214T123000
DTEND;TZID=America/New_York:20261214T133000
DTSTAMP:20260425T133708
CREATED:20260416T131606Z
LAST-MODIFIED:20260416T131606Z
UID:10001926-1797251400-1797255000@marionseniors.org
SUMMARY:Bingo
DESCRIPTION:Join us for an afternoon of bingo fun at the Fairview Senior Center
URL:https://marionseniors.org/event/bingo-37/2026-12-14/
LOCATION:Fairview Senior Center\, 404 Main Street\, Fairview\, West Virginia\, 26570\, United States
CATEGORIES:Fairview
ORGANIZER;CN="Marion Senior Citizens":MAILTO:executivedirector@marionseniors.org
END:VEVENT
BEGIN:VEVENT
DTSTART;TZID=America/New_York:20261216T110000
DTEND;TZID=America/New_York:20261216T115000
DTSTAMP:20260425T133708
CREATED:20260123T161859Z
LAST-MODIFIED:20260123T161859Z
UID:10000358-1797418800-1797421800@marionseniors.org
SUMMARY:BINGO
DESCRIPTION:Join us every Wednesday for bingo at the Fairmont Senior Center
URL:https://marionseniors.org/event/bingo-33/2026-12-16/
LOCATION:Fairmont Senior Center\, 105 Maplewood Drive\, Fairmont\, WV\, 26554\, United States
CATEGORIES:Fairmont
ORGANIZER;CN="Marion Senior Citizens":MAILTO:executivedirector@marionseniors.org
END:VEVENT
BEGIN:VEVENT
DTSTART;TZID=America/New_York:20261217T110000
DTEND;TZID=America/New_York:20261217T115000
DTSTAMP:20260425T133708
CREATED:20260123T164348Z
LAST-MODIFIED:20260123T164348Z
UID:10001398-1797505200-1797508200@marionseniors.org
SUMMARY:BINGO
DESCRIPTION:Join us at the North Marion Senior Center every Monday and Thursday for a morning of bingo fun.
URL:https://marionseniors.org/event/bingo-35/2026-12-17/
LOCATION:North Marion Senior Center\, 1 Senior Drive\, Mannington\, WV\, 26582\, United States
CATEGORIES:North Marion
ORGANIZER;CN="Marion Senior Citizens":MAILTO:executivedirector@marionseniors.org
END:VEVENT
BEGIN:VEVENT
DTSTART;TZID=America/New_York:20261221T110000
DTEND;TZID=America/New_York:20261221T114500
DTSTAMP:20260425T133708
CREATED:20260123T164235Z
LAST-MODIFIED:20260123T164235Z
UID:10001139-1797850800-1797853500@marionseniors.org
SUMMARY:BINGO
DESCRIPTION:Join us at the North Marion Senior Center every Monday and Thursday for a morning of bingo fun.
URL:https://marionseniors.org/event/bingo-34/2026-12-21/
LOCATION:North Marion Senior Center\, 1 Senior Drive\, Mannington\, WV\, 26582\, United States
CATEGORIES:North Marion
ORGANIZER;CN="Marion Senior Citizens":MAILTO:executivedirector@marionseniors.org
END:VEVENT
BEGIN:VEVENT
DTSTART;TZID=America/New_York:20261221T123000
DTEND;TZID=America/New_York:20261221T133000
DTSTAMP:20260425T133708
CREATED:20260416T131606Z
LAST-MODIFIED:20260416T131606Z
UID:10001927-1797856200-1797859800@marionseniors.org
SUMMARY:Bingo
DESCRIPTION:Join us for an afternoon of bingo fun at the Fairview Senior Center
URL:https://marionseniors.org/event/bingo-37/2026-12-21/
LOCATION:Fairview Senior Center\, 404 Main Street\, Fairview\, West Virginia\, 26570\, United States
CATEGORIES:Fairview
ORGANIZER;CN="Marion Senior Citizens":MAILTO:executivedirector@marionseniors.org
END:VEVENT
BEGIN:VEVENT
DTSTART;TZID=America/New_York:20261223T110000
DTEND;TZID=America/New_York:20261223T115000
DTSTAMP:20260425T133708
CREATED:20260123T161859Z
LAST-MODIFIED:20260123T161859Z
UID:10000359-1798023600-1798026600@marionseniors.org
SUMMARY:BINGO
DESCRIPTION:Join us every Wednesday for bingo at the Fairmont Senior Center
URL:https://marionseniors.org/event/bingo-33/2026-12-23/
LOCATION:Fairmont Senior Center\, 105 Maplewood Drive\, Fairmont\, WV\, 26554\, United States
CATEGORIES:Fairmont
ORGANIZER;CN="Marion Senior Citizens":MAILTO:executivedirector@marionseniors.org
END:VEVENT
BEGIN:VEVENT
DTSTART;TZID=America/New_York:20261224T110000
DTEND;TZID=America/New_York:20261224T115000
DTSTAMP:20260425T133708
CREATED:20260123T164348Z
LAST-MODIFIED:20260123T164348Z
UID:10001399-1798110000-1798113000@marionseniors.org
SUMMARY:BINGO
DESCRIPTION:Join us at the North Marion Senior Center every Monday and Thursday for a morning of bingo fun.
URL:https://marionseniors.org/event/bingo-35/2026-12-24/
LOCATION:North Marion Senior Center\, 1 Senior Drive\, Mannington\, WV\, 26582\, United States
CATEGORIES:North Marion
ORGANIZER;CN="Marion Senior Citizens":MAILTO:executivedirector@marionseniors.org
END:VEVENT
BEGIN:VEVENT
DTSTART;TZID=America/New_York:20261228T110000
DTEND;TZID=America/New_York:20261228T114500
DTSTAMP:20260425T133708
CREATED:20260123T164235Z
LAST-MODIFIED:20260123T164235Z
UID:10001140-1798455600-1798458300@marionseniors.org
SUMMARY:BINGO
DESCRIPTION:Join us at the North Marion Senior Center every Monday and Thursday for a morning of bingo fun.
URL:https://marionseniors.org/event/bingo-34/2026-12-28/
LOCATION:North Marion Senior Center\, 1 Senior Drive\, Mannington\, WV\, 26582\, United States
CATEGORIES:North Marion
ORGANIZER;CN="Marion Senior Citizens":MAILTO:executivedirector@marionseniors.org
END:VEVENT
BEGIN:VEVENT
DTSTART;TZID=America/New_York:20261228T123000
DTEND;TZID=America/New_York:20261228T133000
DTSTAMP:20260425T133708
CREATED:20260416T131606Z
LAST-MODIFIED:20260416T131606Z
UID:10001928-1798461000-1798464600@marionseniors.org
SUMMARY:Bingo
DESCRIPTION:Join us for an afternoon of bingo fun at the Fairview Senior Center
URL:https://marionseniors.org/event/bingo-37/2026-12-28/
LOCATION:Fairview Senior Center\, 404 Main Street\, Fairview\, West Virginia\, 26570\, United States
CATEGORIES:Fairview
ORGANIZER;CN="Marion Senior Citizens":MAILTO:executivedirector@marionseniors.org
END:VEVENT
BEGIN:VEVENT
DTSTART;TZID=America/New_York:20261230T110000
DTEND;TZID=America/New_York:20261230T115000
DTSTAMP:20260425T133708
CREATED:20260123T161859Z
LAST-MODIFIED:20260123T161859Z
UID:10000360-1798628400-1798631400@marionseniors.org
SUMMARY:BINGO
DESCRIPTION:Join us every Wednesday for bingo at the Fairmont Senior Center
URL:https://marionseniors.org/event/bingo-33/2026-12-30/
LOCATION:Fairmont Senior Center\, 105 Maplewood Drive\, Fairmont\, WV\, 26554\, United States
CATEGORIES:Fairmont
ORGANIZER;CN="Marion Senior Citizens":MAILTO:executivedirector@marionseniors.org
END:VEVENT
BEGIN:VEVENT
DTSTART;TZID=America/New_York:20261231T110000
DTEND;TZID=America/New_York:20261231T115000
DTSTAMP:20260425T133708
CREATED:20260123T164348Z
LAST-MODIFIED:20260123T164348Z
UID:10001400-1798714800-1798717800@marionseniors.org
SUMMARY:BINGO
DESCRIPTION:Join us at the North Marion Senior Center every Monday and Thursday for a morning of bingo fun.
URL:https://marionseniors.org/event/bingo-35/2026-12-31/
LOCATION:North Marion Senior Center\, 1 Senior Drive\, Mannington\, WV\, 26582\, United States
CATEGORIES:North Marion
ORGANIZER;CN="Marion Senior Citizens":MAILTO:executivedirector@marionseniors.org
END:VEVENT
BEGIN:VEVENT
DTSTART;TZID=America/New_York:20270104T110000
DTEND;TZID=America/New_York:20270104T114500
DTSTAMP:20260425T133708
CREATED:20260123T164235Z
LAST-MODIFIED:20260123T164235Z
UID:10001141-1799060400-1799063100@marionseniors.org
SUMMARY:BINGO
DESCRIPTION:Join us at the North Marion Senior Center every Monday and Thursday for a morning of bingo fun.
URL:https://marionseniors.org/event/bingo-34/2027-01-04/
LOCATION:North Marion Senior Center\, 1 Senior Drive\, Mannington\, WV\, 26582\, United States
CATEGORIES:North Marion
ORGANIZER;CN="Marion Senior Citizens":MAILTO:executivedirector@marionseniors.org
END:VEVENT
BEGIN:VEVENT
DTSTART;TZID=America/New_York:20270104T123000
DTEND;TZID=America/New_York:20270104T133000
DTSTAMP:20260425T133708
CREATED:20260416T131606Z
LAST-MODIFIED:20260416T131606Z
UID:10001929-1799065800-1799069400@marionseniors.org
SUMMARY:Bingo
DESCRIPTION:Join us for an afternoon of bingo fun at the Fairview Senior Center
URL:https://marionseniors.org/event/bingo-37/2027-01-04/
LOCATION:Fairview Senior Center\, 404 Main Street\, Fairview\, West Virginia\, 26570\, United States
CATEGORIES:Fairview
ORGANIZER;CN="Marion Senior Citizens":MAILTO:executivedirector@marionseniors.org
END:VEVENT
BEGIN:VEVENT
DTSTART;TZID=America/New_York:20270106T110000
DTEND;TZID=America/New_York:20270106T115000
DTSTAMP:20260425T133708
CREATED:20260123T161859Z
LAST-MODIFIED:20260123T161859Z
UID:10000361-1799233200-1799236200@marionseniors.org
SUMMARY:BINGO
DESCRIPTION:Join us every Wednesday for bingo at the Fairmont Senior Center
URL:https://marionseniors.org/event/bingo-33/2027-01-06/
LOCATION:Fairmont Senior Center\, 105 Maplewood Drive\, Fairmont\, WV\, 26554\, United States
CATEGORIES:Fairmont
ORGANIZER;CN="Marion Senior Citizens":MAILTO:executivedirector@marionseniors.org
END:VEVENT
BEGIN:VEVENT
DTSTART;TZID=America/New_York:20270107T110000
DTEND;TZID=America/New_York:20270107T115000
DTSTAMP:20260425T133708
CREATED:20260123T164348Z
LAST-MODIFIED:20260123T164348Z
UID:10001401-1799319600-1799322600@marionseniors.org
SUMMARY:BINGO
DESCRIPTION:Join us at the North Marion Senior Center every Monday and Thursday for a morning of bingo fun.
URL:https://marionseniors.org/event/bingo-35/2027-01-07/
LOCATION:North Marion Senior Center\, 1 Senior Drive\, Mannington\, WV\, 26582\, United States
CATEGORIES:North Marion
ORGANIZER;CN="Marion Senior Citizens":MAILTO:executivedirector@marionseniors.org
END:VEVENT
BEGIN:VEVENT
DTSTART;TZID=America/New_York:20270111T110000
DTEND;TZID=America/New_York:20270111T114500
DTSTAMP:20260425T133708
CREATED:20260123T164235Z
LAST-MODIFIED:20260123T164235Z
UID:10001142-1799665200-1799667900@marionseniors.org
SUMMARY:BINGO
DESCRIPTION:Join us at the North Marion Senior Center every Monday and Thursday for a morning of bingo fun.
URL:https://marionseniors.org/event/bingo-34/2027-01-11/
LOCATION:North Marion Senior Center\, 1 Senior Drive\, Mannington\, WV\, 26582\, United States
CATEGORIES:North Marion
ORGANIZER;CN="Marion Senior Citizens":MAILTO:executivedirector@marionseniors.org
END:VEVENT
BEGIN:VEVENT
DTSTART;TZID=America/New_York:20270111T123000
DTEND;TZID=America/New_York:20270111T133000
DTSTAMP:20260425T133708
CREATED:20260416T131606Z
LAST-MODIFIED:20260416T131606Z
UID:10001930-1799670600-1799674200@marionseniors.org
SUMMARY:Bingo
DESCRIPTION:Join us for an afternoon of bingo fun at the Fairview Senior Center
URL:https://marionseniors.org/event/bingo-37/2027-01-11/
LOCATION:Fairview Senior Center\, 404 Main Street\, Fairview\, West Virginia\, 26570\, United States
CATEGORIES:Fairview
ORGANIZER;CN="Marion Senior Citizens":MAILTO:executivedirector@marionseniors.org
END:VEVENT
BEGIN:VEVENT
DTSTART;TZID=America/New_York:20270113T110000
DTEND;TZID=America/New_York:20270113T115000
DTSTAMP:20260425T133708
CREATED:20260123T161859Z
LAST-MODIFIED:20260123T161859Z
UID:10000362-1799838000-1799841000@marionseniors.org
SUMMARY:BINGO
DESCRIPTION:Join us every Wednesday for bingo at the Fairmont Senior Center
URL:https://marionseniors.org/event/bingo-33/2027-01-13/
LOCATION:Fairmont Senior Center\, 105 Maplewood Drive\, Fairmont\, WV\, 26554\, United States
CATEGORIES:Fairmont
ORGANIZER;CN="Marion Senior Citizens":MAILTO:executivedirector@marionseniors.org
END:VEVENT
BEGIN:VEVENT
DTSTART;TZID=America/New_York:20270114T110000
DTEND;TZID=America/New_York:20270114T115000
DTSTAMP:20260425T133708
CREATED:20260123T164348Z
LAST-MODIFIED:20260123T164348Z
UID:10001402-1799924400-1799927400@marionseniors.org
SUMMARY:BINGO
DESCRIPTION:Join us at the North Marion Senior Center every Monday and Thursday for a morning of bingo fun.
URL:https://marionseniors.org/event/bingo-35/2027-01-14/
LOCATION:North Marion Senior Center\, 1 Senior Drive\, Mannington\, WV\, 26582\, United States
CATEGORIES:North Marion
ORGANIZER;CN="Marion Senior Citizens":MAILTO:executivedirector@marionseniors.org
END:VEVENT
BEGIN:VEVENT
DTSTART;TZID=America/New_York:20270118T110000
DTEND;TZID=America/New_York:20270118T114500
DTSTAMP:20260425T133708
CREATED:20260123T164235Z
LAST-MODIFIED:20260123T164235Z
UID:10001143-1800270000-1800272700@marionseniors.org
SUMMARY:BINGO
DESCRIPTION:Join us at the North Marion Senior Center every Monday and Thursday for a morning of bingo fun.
URL:https://marionseniors.org/event/bingo-34/2027-01-18/
LOCATION:North Marion Senior Center\, 1 Senior Drive\, Mannington\, WV\, 26582\, United States
CATEGORIES:North Marion
ORGANIZER;CN="Marion Senior Citizens":MAILTO:executivedirector@marionseniors.org
END:VEVENT
BEGIN:VEVENT
DTSTART;TZID=America/New_York:20270118T123000
DTEND;TZID=America/New_York:20270118T133000
DTSTAMP:20260425T133708
CREATED:20260416T131606Z
LAST-MODIFIED:20260416T131606Z
UID:10001931-1800275400-1800279000@marionseniors.org
SUMMARY:Bingo
DESCRIPTION:Join us for an afternoon of bingo fun at the Fairview Senior Center
URL:https://marionseniors.org/event/bingo-37/2027-01-18/
LOCATION:Fairview Senior Center\, 404 Main Street\, Fairview\, West Virginia\, 26570\, United States
CATEGORIES:Fairview
ORGANIZER;CN="Marion Senior Citizens":MAILTO:executivedirector@marionseniors.org
END:VEVENT
BEGIN:VEVENT
DTSTART;TZID=America/New_York:20270120T110000
DTEND;TZID=America/New_York:20270120T115000
DTSTAMP:20260425T133708
CREATED:20260123T161859Z
LAST-MODIFIED:20260123T161859Z
UID:10000363-1800442800-1800445800@marionseniors.org
SUMMARY:BINGO
DESCRIPTION:Join us every Wednesday for bingo at the Fairmont Senior Center
URL:https://marionseniors.org/event/bingo-33/2027-01-20/
LOCATION:Fairmont Senior Center\, 105 Maplewood Drive\, Fairmont\, WV\, 26554\, United States
CATEGORIES:Fairmont
ORGANIZER;CN="Marion Senior Citizens":MAILTO:executivedirector@marionseniors.org
END:VEVENT
BEGIN:VEVENT
DTSTART;TZID=America/New_York:20270121T110000
DTEND;TZID=America/New_York:20270121T115000
DTSTAMP:20260425T133708
CREATED:20260123T164348Z
LAST-MODIFIED:20260123T164348Z
UID:10001403-1800529200-1800532200@marionseniors.org
SUMMARY:BINGO
DESCRIPTION:Join us at the North Marion Senior Center every Monday and Thursday for a morning of bingo fun.
URL:https://marionseniors.org/event/bingo-35/2027-01-21/
LOCATION:North Marion Senior Center\, 1 Senior Drive\, Mannington\, WV\, 26582\, United States
CATEGORIES:North Marion
ORGANIZER;CN="Marion Senior Citizens":MAILTO:executivedirector@marionseniors.org
END:VEVENT
BEGIN:VEVENT
DTSTART;TZID=America/New_York:20270125T110000
DTEND;TZID=America/New_York:20270125T114500
DTSTAMP:20260425T133708
CREATED:20260123T164235Z
LAST-MODIFIED:20260123T164235Z
UID:10001144-1800874800-1800877500@marionseniors.org
SUMMARY:BINGO
DESCRIPTION:Join us at the North Marion Senior Center every Monday and Thursday for a morning of bingo fun.
URL:https://marionseniors.org/event/bingo-34/2027-01-25/
LOCATION:North Marion Senior Center\, 1 Senior Drive\, Mannington\, WV\, 26582\, United States
CATEGORIES:North Marion
ORGANIZER;CN="Marion Senior Citizens":MAILTO:executivedirector@marionseniors.org
END:VEVENT
BEGIN:VEVENT
DTSTART;TZID=America/New_York:20270125T123000
DTEND;TZID=America/New_York:20270125T133000
DTSTAMP:20260425T133708
CREATED:20260416T131606Z
LAST-MODIFIED:20260416T131606Z
UID:10001932-1800880200-1800883800@marionseniors.org
SUMMARY:Bingo
DESCRIPTION:Join us for an afternoon of bingo fun at the Fairview Senior Center
URL:https://marionseniors.org/event/bingo-37/2027-01-25/
LOCATION:Fairview Senior Center\, 404 Main Street\, Fairview\, West Virginia\, 26570\, United States
CATEGORIES:Fairview
ORGANIZER;CN="Marion Senior Citizens":MAILTO:executivedirector@marionseniors.org
END:VEVENT
BEGIN:VEVENT
DTSTART;TZID=America/New_York:20270127T110000
DTEND;TZID=America/New_York:20270127T115000
DTSTAMP:20260425T133708
CREATED:20260123T161859Z
LAST-MODIFIED:20260123T161859Z
UID:10000364-1801047600-1801050600@marionseniors.org
SUMMARY:BINGO
DESCRIPTION:Join us every Wednesday for bingo at the Fairmont Senior Center
URL:https://marionseniors.org/event/bingo-33/2027-01-27/
LOCATION:Fairmont Senior Center\, 105 Maplewood Drive\, Fairmont\, WV\, 26554\, United States
CATEGORIES:Fairmont
ORGANIZER;CN="Marion Senior Citizens":MAILTO:executivedirector@marionseniors.org
END:VEVENT
BEGIN:VEVENT
DTSTART;TZID=America/New_York:20270128T110000
DTEND;TZID=America/New_York:20270128T115000
DTSTAMP:20260425T133708
CREATED:20260123T164348Z
LAST-MODIFIED:20260123T164348Z
UID:10001404-1801134000-1801137000@marionseniors.org
SUMMARY:BINGO
DESCRIPTION:Join us at the North Marion Senior Center every Monday and Thursday for a morning of bingo fun.
URL:https://marionseniors.org/event/bingo-35/2027-01-28/
LOCATION:North Marion Senior Center\, 1 Senior Drive\, Mannington\, WV\, 26582\, United States
CATEGORIES:North Marion
ORGANIZER;CN="Marion Senior Citizens":MAILTO:executivedirector@marionseniors.org
END:VEVENT
BEGIN:VEVENT
DTSTART;TZID=America/New_York:20270201T110000
DTEND;TZID=America/New_York:20270201T114500
DTSTAMP:20260425T133708
CREATED:20260123T164235Z
LAST-MODIFIED:20260123T164235Z
UID:10001145-1801479600-1801482300@marionseniors.org
SUMMARY:BINGO
DESCRIPTION:Join us at the North Marion Senior Center every Monday and Thursday for a morning of bingo fun.
URL:https://marionseniors.org/event/bingo-34/2027-02-01/
LOCATION:North Marion Senior Center\, 1 Senior Drive\, Mannington\, WV\, 26582\, United States
CATEGORIES:North Marion
ORGANIZER;CN="Marion Senior Citizens":MAILTO:executivedirector@marionseniors.org
END:VEVENT
END:VCALENDAR